Workbook

Sheet riepilogo spese 
A1: SCHEDA ANALITICA DEI COSTI DI PROGETTO
A3: SOGGETTO PROPONENTE : DIPARTIMENTO REGIONALE DELLA FAMIGLIA E DELLE POLITICHE SOCIALI DELLA REGIONE SICILIANA
A5: DENOMINAZIONE DEL PROGETTO: SPORTELLO GENERALISTA PER L’ASSISTENZA ALLE VITTIME DI REATO E PER LA PROMOZIONE DI PROGRAMMI DI GIUSTIZIA RIPARATIVA
A7: Cat.01 | B7: Spese per il personale | H7: Costo | J7: Costo cofinanziato
H8: ='dettaglio cat 01'!J39 -> 45500 | J8: ='dettaglio cat 01'!K39 -> 0
E9: Totale Categoria 01 | H9: =+H8 -> 45500 | J9: =+J8 -> 0
A11: Cat.02 | B11: Spese per i destinatari degli interventi | H11: Costo | J11: Costo cofinanziato
H12: ='dettaglio cat 02 '!J39 -> 80500 | J12: ='dettaglio cat 02 '!K39 -> 0
E13: Totale Categoria 02 | H13: =H12 -> 80500 | J13: =J12 -> 0
A15: Cat.03 | B15: Spese per il noleggio di beni e servizi | H15: Costo | J15: Costo cofinanziato
B16: A) Beni | H16: ='dettaglio cat 03'!J18 -> 0 | J16: ='dettaglio cat 03'!K18 -> 0
B18: B) Servizi | H18: ='dettaglio cat 03'!J29 -> 0 | J18: ='dettaglio cat 03'!K29 -> 0
E20: Totale Categoria 03 | H20: ='dettaglio cat 03'!J30 -> 0 | J20: ='dettaglio cat 03'!K30 -> 0
A23: Cat.04 | B23: Spese generali | H23: Costo | J23: Costo cofinanziato
H24: ='dettaglio cat 04'!J29:J29 -> 14029.08 | J24: ='dettaglio cat 04'!K29 -> 0
E25: Totale Categoria 04 | H25: ='dettaglio cat 04'!J29 -> 14029.08 | J25: ='dettaglio cat 04'!K29:K29 -> 0
A27: TOTALE COSTO FINANZIAMENTO | H27: =H9+H20+H25+H13 -> 140029.08
A28: TOTALE COSTI COFINANZIATI | J28: =J9+J20+J25+J13 -> 0
A29: TOTALE GENERALE COSTO PROGETTO | J29: =+H27+J28 -> 140029.08

Sheet dettaglio cat 01
A1: SCHEDA ANALITICA DEI COSTI DI PROGETTO
A3: ='riepilogo spese '!A3:K4 -> SOGGETTO PROPONENTE : DIPARTIMENTO REGIONALE DELLA FAMIGLIA E DELLE POLITICHE SOCIALI DELLA REGIONE SICILIANA
A5: ='riepilogo spese '!A5:K6 -> DENOMINAZIONE DEL PROGETTO: SPORTELLO GENERALISTA PER L’ASSISTENZA ALLE VITTIME DI REATO E PER LA PROMOZIONE DI PROGRAMMI DI GIUSTIZIA RIPARATIVA
A7: Cat.01 | B7: Spese per il personale impiegato nel progetto | J7: Costo | K7: Costo cofinanziato
B8: Descrizione | F8: Tipo unità | G8: Quantità | H8: Costo unitario | J8: Totale | K8: Totale
A9: 1 | B9: PERSONALE IN FRONT OFFICE | F9: 2 | G9: 910 | H9: 25 | J9: =F9*G9*H9 -> 45500 | K9: 0
A10: 2 | J10: =IF(B10="si",G10*H10,0) -> 0 | K10: =IF(B10="no",G10*H10,0) -> 0
A11: 3 | J11: =IF(B11="si",G11*H11,0) -> 0 | K11: =IF(B11="no",G11*H11,0) -> 0
A12: 4 | J12: =IF(B12="si",G12*H12,0) -> 0 | K12: =IF(B12="no",G12*H12,0) -> 0
A13: 5 | J13: =IF(B13="si",G13*H13,0) -> 0 | K13: =IF(B13="no",G13*H13,0) -> 0
A14: 6 | J14: =IF(B14="si",G14*H14,0) -> 0 | K14: =IF(B14="no",G14*H14,0) -> 0
A15: 7 | J15: =IF(B15="si",G15*H15,0) -> 0 | K15: =IF(B15="no",G15*H15,0) -> 0
A16: 8 | J16: =IF(B16="si",G16*H16,0) -> 0 | K16: =IF(B16="no",G16*H16,0) -> 0
A17: 9 | J17: =IF(B17="si",G17*H17,0) -> 0 | K17: =IF(B17="no",G17*H17,0) -> 0
A18: 10 | J18: =IF(B18="si",G18*H18,0) -> 0 | K18: =IF(B18="no",G18*H18,0) -> 0
A19: 11 | J19: =IF(B19="si",G19*H19,0) -> 0 | K19: =IF(B19="no",G19*H19,0) -> 0
A20: 12 | J20: =IF(B20="si",G20*H20,0) -> 0 | K20: =IF(B20="no",G20*H20,0) -> 0
A21: 13 | J21: =IF(B21="si",G21*H21,0) -> 0 | K21: =IF(B21="no",G21*H21,0) -> 0
... A38: 30 | J38: =IF(B38="si",G38*H38,0) -> 0 | K38: =IF(B38="no",G38*H38,0) -> 0
G39: Totale Categoria 01 | J39: =SUM(J9:J38) -> 45500 | K39: =SUM(K9:K38) -> 0

Sheet dettaglio cat 02 
A1: SCHEDA ANALITICA DEI COSTI DI PROGETTO
A3: ='riepilogo spese '!A3:K4 -> SOGGETTO PROPONENTE : DIPARTIMENTO REGIONALE DELLA FAMIGLIA E DELLE POLITICHE SOCIALI DELLA REGIONE SICILIANA
A5: ='riepilogo spese '!A5:K6 -> DENOMINAZIONE DEL PROGETTO: SPORTELLO GENERALISTA PER L’ASSISTENZA ALLE VITTIME DI REATO E PER LA PROMOZIONE DI PROGRAMMI DI GIUSTIZIA RIPARATIVA
A7: Cat.02 | B7: Spese per i destinatari degli interventi | J7: Costo | K7: Costo cofinanziato
B8: Descrizione | F8: Tipo unità | G8: Quantità | H8: Costo unitario | J8: Totale | K8: Totale
A9: 1 | B9: PSICOLOGI | F9: 2 | G9: 700 | H9: 25 | J9: =F9*G9*H9 -> 35000 | K9: 0
A10: 2 | B10: AVVOCATI | F10: 1 | G10: 800 | H10: 25 | J10: =F10*G10*H10 -> 20000 | K10: 0
A11: 3 | B11: MEDIATORI | F11: 1 | G11: 620 | H11: 25 | J11: =F11*G11*H11 -> 15500 | K11: 0
A12: 4 | B12: FORMATORI | F12: 2 | G12: 200 | H12: 25 | J12: =F12*G12*H12 -> 10000 | K12: 0
A13: 5 | J13: 0 | K13: 0
A14: 6 | J14: 0 | K14: 0
A15: 7 | J15: 0 | K15: 0
A16: 8 | J16: 0 | K16: 0
A17: 9 | J17: 0 | K17: 0
A18: 10 | J18: 0 | K18: 0
A19: 11 | J19: 0 | K19: 0
A20: 12 | J20: 0 | K20: 0
A21: 13 | J21: 0 | K21: 0
A22: 14 | J22: 0 | K22: 0
A23: 15 | J23: 0 | K23: 0
A24: 16 | J24: 0 | K24: 0
... A38: 30 | J38: 0 | K38: 0
G39: Totale Categoria 02 | J39: =SUM(J9:J38) -> 80500 | K39: =SUM(K9:K38) -> 0

Sheet dettaglio cat 03
A1: SCHEDA ANALITICA DEI COSTI DI PROGETTO
A3: ='riepilogo spese '!A3:K4 -> SOGGETTO PROPONENTE : DIPARTIMENTO REGIONALE DELLA FAMIGLIA E DELLE POLITICHE SOCIALI DELLA REGIONE SICILIANA
A5: ='riepilogo spese '!A5:K6 -> DENOMINAZIONE DEL PROGETTO: SPORTELLO GENERALISTA PER L’ASSISTENZA ALLE VITTIME DI REATO E PER LA PROMOZIONE DI PROGRAMMI DI GIUSTIZIA RIPARATIVA
A7: Cat.03 | C7: Spese per il noleggio di beni e servizi | J7: Costo | K7: Costo cofinanziato
A8: A) Beni | K8: Totale
A9: A | B9: Descrizione | F9: Tipo unità | G9: Quantità | H9: Costo unitario | J9: Totale
A10: 1 | J10: 0 | K10: 0
A11: 2 | J11: 0 | K11: 0
A12: 3 | J12: 0 | K12: 0
A13: 4 | J13: 0 | K13: 0
A14: 5 | J14: 0 | K14: 0
A15: 6 | J15: 0 | K15: 0
A16: 7 | J16: 0 | K16: 0
A17: 8 | J17: 0 | K17: 0
G18: Totale A | J18: =SUM(J10:J17) -> 0 | K18: =SUM(K10:K17) -> 0
A19: B) Servizi | K19: Totale
A20: B | B20: Descrizione | F20: Tipo unità | G20: Quantità | H20: Costo Unitario | J20: Totale
A21: 1 | J21: 0 | K21: 0
A22: 2 | J22: 0 | K22: 0
A23: 3 | J23: 0 | K23: 0
A24: 4 | J24: 0 | K24: 0
A25: 5 | J25: 0 | K25: 0
A26: 6 | J26: 0 | K26: 0
A27: 7 | J27: 0 | K27: 0
A28: 8 | J28: 0 | K28: 0
G29: Totale B | J29: =SUM(J21:J28) -> 0 | K29: =SUM(K21:K28) -> 0
G30: Totale Categoria 03 | J30: =+J18+J29 -> 0 | K30: =+K18+K29 -> 0

Sheet dettaglio cat 04
A1: SCHEDA ANALITICA DEI COSTI DI PROGETTO
A3: ='riepilogo spese '!A3:K4 -> SOGGETTO PROPONENTE : DIPARTIMENTO REGIONALE DELLA FAMIGLIA E DELLE POLITICHE SOCIALI DELLA REGIONE SICILIANA
A5: ='riepilogo spese '!A5:K6 -> DENOMINAZIONE DEL PROGETTO: SPORTELLO GENERALISTA PER L’ASSISTENZA ALLE VITTIME DI REATO E PER LA PROMOZIONE DI PROGRAMMI DI GIUSTIZIA RIPARATIVA
A7: Cat.04 | B7: Spese generali | J7: Costo | K7: Costo cofinanziato
B8: Descrizione | F8: Tipo unità | G8: Quantità | H8: Costo unitario | J8: Totale | K8: Totale
A9: 1 | B9: SPESE GENERALI DI CANCELLERIA E/O ALTRO BENI DI CONSUMO PER UNA QUOTA PARI AL 10% DELLA RIPARTIZIONE DEL BUDGET COME DA DG - DAG 15.07.2022 | J9: 14029.08 | K9: 0
A10: 2 | J10: 0 | K10: 0
A11: 3 | J11: 0 | K11: 0
A12: 4 | J12: 0 | K12: 0
A13: 5 | J13: 0 | K13: 0
A14: 6 | J14: 0 | K14: 0
A15: 7 | J15: 0 | K15: 0
A16: 8 | J16: 0 | K16: 0
A17: 9 | J17: 0 | K17: 0
A18: 10 | J18: 0 | K18: 0
A19: 11 | J19: 0 | K19: 0
A20: 12 | J20: 0 | K20: 0
A21: 13 | J21: 0 | K21: 0
... A28: 20 | J28: 0 | K28: 0
G29: Totale Categoria 04 | J29: =SUM(J28,J27,J26,J25,J24,J23,J22,J21,J20,J19,J18,J17,J16,J15,J14,J13,J12,J11,J10,J9) -> 14029.08 | K29: =SUM(K28,K27,K26,K25,K24,K23,K22,K21,K20,K19,K18,K17,K16,K15,K14,K13,K12,K11,K10,K9) -> 0
