Workbook
Name negative: [1]SR1!$C$55:$C$59
Name negative: [1]SR1!$C$55:$C$59
Name negative: [1]SR1!$C$55:$C$59
Name negative: [1]SR1!$C$55:$C$59
Name negative: 'SR1'!$C$48:$C$52
Name positive: [1]SR1!$B$55:$B$59
Name positive: [1]SR1!$B$55:$B$59
Name positive: [1]SR1!$B$55:$B$59
Name positive: [1]SR1!$B$55:$B$59
Name positive: 'SR1'!$B$48:$B$52
Name Risk_Likelihood__GROSS: '[1]1. Selezione dei progetti-SA'!#REF!
Name Risk_Likelihood__GROSS: '[1]1. Selezione dei progetti-SA'!#REF!
Name Risk_Likelihood__GROSS: '[1]1. Selezione dei progetti-SA'!#REF!
Name Risk_Likelihood__GROSS: '[1]1. Selezione dei progetti-SA'!#REF!
Name Risk_Likelihood__GROSS: '1. Selezione'!#REF!

Sheet Copertina
A9: ALLEGATO 1
A15: Strumento di autovaluzione del Rischio Frode nell'ambito del PNRR "Tool Fraud Risk Assessment"
C16: Ministero della Giustizia
A17: Unità di Missione per l'attuazione del PNRR
G18: versione 1.0 | H18: versione 1.0
H19: 45809

Sheet Controlli generici
B2: PRINCIPI DI CONTROLLO TRASVERSALI
A5: CONTROLLI GENERALI
A6: Rif. controllo | B6: Descrizione del controllo
A7: 1 | B7: L’Amministrazione Titolare fornisce orientamenti chiari e una formazione ai propri membri sull'etica, sui conflitti di interessi e sulle conseguenze della mancata adesione alle linee guida approvate
A8: 2 | B8: L'Amministrazione Titolare attua una politica in materia di conflitto di interessi che prevede il rilascio di una dichiarazione annuale
A9: 3 | B9: L’Amministrazione Titolare attua e rende pubblico un meccanismo per denunciare le irregolarità in caso di sospetta condotta fraudolenta (whistleblowing)
A10: 4 | B10: L’Amministrazione Titolare adotta un Codice Etico che contempla le principali regole di condotta del personale (ad es. Codice di comportamento dei dipendenti pubblici – patto di integrità)

Sheet 1. Selezione
A2: 1: VALUTAZIONE DELL'ESPOSIZIONE A RISCHI DI FRODE SPECIFICI - SELEZIONE DEI RICHIEDENTI DA PARTE DELLE AMMINISTRAZIONI TITOLARI
A4: DESCRIZIONE DEL RISCHIO
A5: Rif. rischio | B5: Rischio | C5: Descrizione del rischio | D5: Chi è coinvolto nel rischio? (Amministrazione Titolare / Enti/Amministrazioni attuatrici) | E5: Il rischio è interno all'Amministrazione Titolare, esterno o frutto di collusione? | F5: L'Amministrazione Titolare è esposta a questo rischio? | G5: Motivare la risposta, se negativa
A6: SR1 | B6: Conflitti di interesse da parte del personale dell'Amministrazione Titolare coinvolto nella redazione e nella quality review del dispositivo di finanziamento | C6: Il personale dell'Amministrazione Titolare coinvolto nella redazione e nella quality review del dispositivo di finanziamento altera deliberatamente i criteri generali e specifici di ammissibilità al fine di favorire/consentire la partecipazione di taluni potenziali proponenti | D6: Amministrazione Titolare / Soggetti Attuatori | E6: Interno / Collusione | F6: N | G6: Gli interventi di competenza del Ministero della Giustizia (Investimento in capitale umano M1.C1-I1.8; Riqualificazione dell'edilizia giudiziaria M2.C3-I1.2; Digitalizzazione del processo penale di I grado M1.C1-R1.8) non prevedono la selezione di proponenti in quanto non è prevista l'emanazione di avvisi per la selezione dei soggetti attuatori (beneficiari dei finanziamenti).
A7: SR2 | B7: Conflitti di interesse da parte della Commissione di valutazione | C7: I membri della Commissione di valutazione dell'Amministrazione Titolare influenzano deliberatamente la valutazione e la selezione dei candidati per favorire uno di loro attraverso un trattamento compiacente nei confronti della sua candidatura in fase di valutazione o esercitando pressioni su altri membri della Commissione | D7: Amministrazione Titolare / Soggetti Attuatori | E7: Interno / Collusione | F7: N | G7: Gli interventi di competenza del Ministero della Giustizia (Investimento in capitale umano M1.C1-I1.8; Riqualificazione dell'edilizia giudiziaria M2.C3-I1.2; Digitalizzazione del processo penale di I grado M1.C1-R1.8) non prevedono la selezione di proponenti in quanto non è prevista l'emanazione di avvisi per la selezione dei soggetti attuatori (beneficiari dei finanziamenti).
A8: SR3 | B8: False dichiarazioni da parte dei proponenti circa i criteri generali e specifici di ammissibilità | C8: I proponenti rilasciano false dichiarazioni nella domanda di finanziamento, attestando alla Commissione di valutazione il possesso di requisiti in realtà non posseduti, idonei a soddisfare i criteri generali e specifici di ammissibilità per superare la procedura di selezione della candidatura (ad es.: condizionalità PNRR, contributo all'indicatore comune e ai tagging ambientali e digitali, rispetto del principio DNSH, parità di genere, politiche per i giovani, quota SUD) | D8: Amministrazione Titolare / Soggetti Attuatori | E8: Esterno | F8: N | G8: Selezione proponenti assenti, si rinvia alle motivazioni fornite sui rischi precedenti
A9: SR4 | B9: False dichiarazioni da parte dei proponenti circa il tema di conflitti di interesse, doppio finanziamento e verifica del titolare effettivo | C9: I proponenti rilasciano false dichiarazioni nella domanda di finanziamento, attestando alla Commissione l'assenza di conflitti di interesse, doppio finanziamento e verifica del titolare effettivo | D9: Amministrazione Titolare / Soggetti Attuatori | E9: Esterno | F9: N | G9: Selezione proponenti assenti, si rinvia alle motivazioni fornite sui rischi precedenti
A10: SR5 | B10: Conflitti di interesse da parte del vincitore della selezione/destinatario dei fondi | C10: Il vincitore della selezione/destinatario dei fondi detiene un interesse privato di natura finanziaria, economica o derivante da particolari legami di parentela, affinità, convivenza o frequentazione abituale con i soggetti titolari dell’azione amministrativa finalizzata all'ammissione a finanziamento dell'iniziativa che potrebbe porsi in contrasto con l’interesse pubblico | D10: Amministrazione Titolare / Soggetti Attuatori | E10: Esterno | F10: N | G10: Vincitore della selezione assente, si rinvia al rischio Rif. SR10
A11: SR6 | B11: Doppio finanziamento | C11: I proponenti presentano per la stessa iniziativa progettuale una richiesta di finanziamento a valere su due o più fondi del bilancio dell'UE e/o dello Stato Membro, omettendo deliberatamente di dichiarare tali richieste | D11: Amministrazione Titolare / Soggetti Attuatori | E11: Esterno | F11: N | G11: Selezione proponenti assenti, si rinvia al rischio Rif. SR11
A12: SR7 | B12: Inadeguata applicazione dei criteri di selezione dei "progetti in essere" | C12: Deliberata ed inadeguata attività istruttoria finalizzata a non garantire la coerenza con i criteri di selezione e gli obiettivi del PNRR, nonchè la conformità e l'effettivo rispetto delle regole, degli obblighi e dei principi del PNRR stabiliti dalla normativa nazionale e comunitaria di riferimento al fine di favorire un partecipante | D12: Amministrazione Titolare / Soggetti Attuatori | E12: Interno / Collusione | F12: N | G12: Non sono finanziati "progetti in essere"
A13: SR8 | B13: Mancato rispetto della normativa sugli Aiuti di Stato, con particolare riferimento alla dimensione di impresa e al de minimis | C13: Deliberato e mancato rispetto della normativa vigente in materia di Aiuti di Stato e/o mancata presentazione della documentazione necessaria alla valutazione di conformità alla relativa normativa, nonchè deliberata presentazione di documentazione incompleta o non corretta finalizzata a dare o ricevere un aiuto maggiore di quello previsto dalla normativa vigente | D13: Amministrazione Titolare / Soggetti Attuatori | E13: Esterno | F13: N | G13: Non sono previsti Aiuti di Stato
A14: SR9 | B14: Processo di selezione dei progetti e/o dei Soggetti Attuatori incompleto/inadeguato | C14: Il processo di selezione dei progetti e/o dei Soggetti Attuatori non garantisce adeguatamente l'assenza di frodi perché l’Ufficio dell’Amministrazione Titolare responsabile della selezione e/o la Commissione di Valutazione non dispongono delle risorse e/o delle competenze adeguate in materia | D14: Amministrazione Titolare / Soggetti Attuatori | E14: Esterno | F14: N | G14: Sull'assenza di selezione diretta dei SA da parte dell'AT si rinvia a quanto esplicitato sui rischi precedenti. Si precisa, in ogni caso, che non si ravvisano criticità legate alla scarsità di risorse e/o competenze
A15: SR10 | B15: Conflitti di interesse da parte del destinatario dei fondi | C15: Il destinatario dei fondi detiene un interesse privato di natura finanziaria, economica o derivante da particolari legami di parentela, affinità, convivenza o frequentazione abituale con i soggetti titolari dell’azione amministrativa finalizzata a condizionare le modalità di ammissione a finanziamento dell'iniziativa che potrebbe porsi in contrasto con l’interesse pubblico | D15: Amministrazione Titolare / Soggetti Attuatori | E15: Esterno | F15: Y | G15: Si precisa che: a) per le procedure di reclutamento del personale, il Ministero, ai sensi delll’articolo 35, comma 5, d.lgs. 165/2001, come modificato dal d.lgs. 75/2017, è ricorso alla Commissione RIPAM, la quale si avvale del personale del Formez PA per lo svolgimento delle procedure selettive; b) per gli interventi di edilizia giudiziaria, il Ministero si avvale di Soggetti Attuatori pubblici cui spetta ex lege la competenza sullo specifico edificio, ovvero dei Provveditorati alle Opere Pubbliche (MIT), Agenzia del Demanio e Comune di Venezia; c) per la digitalizzazione del processo penale di I grado, la procedura viene svolta facendo ricorso agli strumenti di acquisto messi a disposizione dalla Centrale di Committenza Nazionale CONSIP
A16: SR11 | B16: Doppio finanziamento | C16: L'Amministrazione Titolare / Soggetti Attuatori presentano per la stessa iniziativa progettuale una richiesta di finanziamento a valere su due o più fondi del bilancio dell'UE e/o dello Stato Membro omettendo deliberatamente di dichiarare tali richieste | D16: Amministrazione Titolare / Soggetti Attuatori | E16: Interno | F16: Y | G16: Si precisa che: a) per le procedure di reclutamento del personale, il Ministero, ai sensi delll’articolo 35, comma 5, d.lgs. 165/2001, come modificato dal d.lgs. 75/2017, è ricorso alla Commissione RIPAM, la quale si avvale del personale del Formez PA per lo svolgimento delle procedure selettive; b) per gli interventi di edilizia giudiziaria, il Ministero si avvale di Soggetti Attuatori pubblici cui spetta ex lege la competenza sullo specifico edificio, ovvero dei Provveditorati alle Opere Pubbliche (MIT), Agenzia del Demanio e Comune di Venezia; c) per la digitalizzazione del processo penale di I grado, la procedura viene svolta facendo ricorso agli strumenti di acquisto messi a disposizione dalla Centrale di Committenza Nazionale CONSIP
A17: SR12 | B17: Irregolarità nel processo di selezione dei progetti da ammettere a finanziamento | C17: Nel processo di selezione dei progetti da ammettere a finanziamento e/o nella distribuzione geografica degli stessi tra i Soggetti Attuatori (individuati ex lege dalla normativa), non è garantita la coerenza con i criteri di selezione e gli obiettivi/principi PNRR, al fine di favorire un destinatario | D17: Amministrazione Titolare / Soggetti Attuatori | E17: Interno/Collusione | F17: Y
F38: Y
F39: N

Sheet SR1
C3: DESCRIZIONE DEL RISCHIO | J3: Sì | K3: Elevato
C4: Rif. rischio | D4: Rischio | E4: Descrizione del rischio | F4: Chi è coinvolto nel rischio? (Amministrazione Titolare / Enti/Amministrazioni attuatrici) | G4: Il rischio è interno all'Amministrazione Titolare, esterno o frutto di collusione? | J4: No | K4: Moderato
C5: ='1. Selezione'!A6 -> SR1 | D5: ='1. Selezione'!B6 -> Conflitti di interesse da parte del personale dell'Amministrazione Titolare coinvolto nella redazione e nella quality review del dispositivo di finanziamento | E5: ='1. Selezione'!C6 -> Il personale dell'Amministrazione Titolare coinvolto nella redazione e nella quality review del dispositivo di finanziamento altera deliberatamente i criteri generali e specifici di ammissibilità al fine di favorire/consentire la partecipazione di taluni potenziali proponenti | F5: ='1. Selezione'!D6 -> Amministrazione Titolare / Soggetti Attuatori | G5: ='1. Selezione'!E6 -> Interno / Collusione | K5: Basso
A8: RISCHIO LORDO | D8: CONTROLLI ESISTENTI | K8: RISCHIO NETTO
A9: Impatto del rischio (LORDO) | B9: Probabilità del rischio (LORDO) | C9: Rischio complessivo (LORDO) | D9: Rif. controllo | E9: Descrizione del controllo | F9: Può dimostrare il funzionamento di questo controllo? | G9: Effettua regolarmente un test di questo controllo? | H9: Quanto ritiene che sia efficace questo controllo? | I9: Effetto dei controlli combinati sull'IMPATTO del rischio considerando i livelli di fiducia | J9: Effetto dei controlli combinati sulla PROBABILITÀ del rischio considerando i livelli di fiducia | K9: Impatto del rischio (NETTO) | L9: Probabilità del rischio (NETTO) | M9: Rischio complessivo attuale (NETTO)
C10: =A10*B10 -> 0 | D10: SC 1.1 | E10: L’Amministrazione Titolare garantisce che il suo personale è consapevole delle conseguenze che comporta la partecipazione ad attività che possano mettere in dubbio la loro integrità, con una chiara descrizione di tali conseguenze e delle relative infrazioni specifiche | K10: =A10+I10 -> 0 | L10: =B10+J10 -> 0 | M10: =K10*L10 -> 0
D11: SC 1.2 | E11: L’Amministrazione Titolare dispone delle checklist customizzate in funzione della specifica misura, al fine di definire requisiti oggettivi, improntati alla trasparenza e, per quanto possibile, alla limitazione di criteri di soggettività, connessi al dispositivo di finanziamento.
A14: RISCHIO NETTO | D14: PIANO D'AZIONE | K14: RISCHIO PREVISTO
A15: Impatto del rischio (NETTO) | B15: Probabilità del rischio (NETTO) | C15: Rischio complessivo attuale (NETTO) | D15: Nuovo controllo in programma | F15: Responsabile | G15: Termine ultimo per l'attuazione | I15: Effetto dei controlli combinati in programma sul nuovo IMPATTO del rischio (NETTO) | J15: Effetto dei controlli combinati in programma sulla nuova PROBABILITÀ del rischio (NETTO) | K15: Impatto del rischio (PREVISTO) | L15: Probabilità del rischio (PREVISTO) | M15: Rischio complessivo (PREVISTO)
A16: =K10 -> 0 | B16: =L10 -> 0 | C16: =M10 -> 0 | K16: =A16+I16 -> 0 | L16: =B16+J16 -> 0 | M16: =K16*L16 -> 0
B48: 1 | C48: -1
B49: 2 | C49: -2
B50: 3 | C50: -3
B51: 4 | C51: -4

Sheet SR2
C3: DESCRIZIONE DEL RISCHIO
C4: Rif. rischio | D4: Rischio | E4: Descrizione del rischio | F4: Chi coinvolto nel rischio? (Amministrazione Titolare / Enti/Amministrazioni attuatrici) | G4: Il rischio è interno all'Amministrazione Titolare, esterno o frutto di collusione?
C5: ='1. Selezione'!A7 -> SR2 | D5: ='1. Selezione'!B7 -> Conflitti di interesse da parte della Commissione di valutazione | E5: ='1. Selezione'!C7 -> I membri della Commissione di valutazione dell'Amministrazione Titolare influenzano deliberatamente la valutazione e la selezione dei candidati per favorire uno di loro attraverso un trattamento compiacente nei confronti della sua candidatura in fase di valutazione o esercitando pressioni su altri membri della Commissione | F5: ='1. Selezione'!D7 -> Amministrazione Titolare / Soggetti Attuatori | G5: ='1. Selezione'!E7 -> Interno / Collusione
A8: RISCHIO LORDO | D8: CONTROLLI ESISTENTI | K8: RISCHIO NETTO
A9: Impatto del rischio (LORDO) | B9: Probabilità del rischio (LORDO) | C9: Rischio complessivo (LORDO) | D9: Rif. controllo | E9: Descrizione del controllo | F9: Può dimostrare il funzionamento di questo controllo? | G9: Effettua regolarmente un test di questo controllo? | H9: Quanto ritiene che sia efficace questo controllo? | I9: Effetto dei controlli combinati sull'IMPATTO del rischio considerando i livelli di fiducia | J9: Effetto dei controlli combinati sulla PROBABILITÀ del rischio considerando i livelli di fiducia | K9: Impatto del rischio (NETTO) | L9: Probabilità del rischio (NETTO) | M9: Rischio complessivo attuale (NETTO)
C10: =A10*B10 -> 0 | D10: SC 2.1 | E10: Il comitato di valutazione comprende diversi membri del personale direttivo che si avvicendano a rotazione e vengono selezionati, con un certo grado di casualità, per partecipare a ciascun comitato di valutazione. I membri del comitato posseggono i seguenti requisiti: - comprovata competenza ed esperienza nella tematica di interesse; - possesso dei requisiti di professionalità e onorabilità. | K10: =A10+I10 -> 0 | L10: =B10+J10 -> 0 | M10: =K10*L10 -> 0
D11: SC 2.2 | E11: L'Amministrazione Titolare attua una politica in materia di conflitto di interessi che preveda una dichiarazione annuale, un registro per tutti i membri del personale e misure per garantirne l'osservanza. Inoltre, i membri della Commissione rilasciano apposite dichiarazioni attestanti l’assenza del conflitto di interessi e di situazioni di incompatibilità prima dell’inizio dell’attività di valutazione
D12: SC 2.3 | E12: L’Amministrazione Titolare garantisce che l’eventuale presenza di un conflitto d’interesse sia gestita nel rispetto del quadro normativo applicabile
D13: SC 2.4 | E13: L'Amministrazione Titolare garantisce che i suoi membri sono consapevoli delle conseguenze che comporta la partecipazione ad attività che possano mettere in dubbio la loro integrità, con una chiara descrizione di tali conseguenze e delle relative infrazioni specifiche
D14: SC 2.5 | E14: L'Amministrazione Titolare garantisce che tutti gli Avvisi a presentare candidature siano oggetto di adeguate forme di pubblicizzazione
D15: SC 2.6 | E15: L’Amministrazione Titolare garantisce misure/meccanismi che assicurino la pubblicità e la massima trasparenza di tutte le fasi del processo di scelta del Soggetto Attuatore/Progetto
D16: SC 2.7 | E16: L’Amministrazione Titolare garantisce che tutte le candidature siano registrate e valutate conformemente ai criteri applicabili
D17: SC 2.8 | E17: L’Amministrazione Titolare garantisce che tutte le decisioni in merito all'approvazione / al rigetto delle candidature siano comunicate ai candidati
D18: SC 2.9 | E18: L’Amministrazione Titolare attua una politica in materia di contrasto alla corruzione che preveda una dichiarazione di rispetto della clausola di pantouflage
D19: SC 2.10 | E19: L’Amministrazione Titolare garantisce un’attività di vigilanza da parte della figura dirigenziale preposta circa il rispetto delle regole previste dal codice di comportamento e, in particolare, delle regole in materia di conflitto di interessi, incompatibilità e cumulo d’impieghi da parte del personale assegnato al suo ufficio
A22: RISCHIO NETTO | D22: PIANO D'AZIONE | K22: RISCHIO PREVISTO
A23: Impatto del rischio (NETTO) | B23: Probabilità del rischio (NETTO) | C23: Rischio complessivo attuale (NETTO) | D23: Nuovo controllo in programma | F23: Responsabile | G23: Termine ultimo per l'attuazione | I23: Effetto dei controlli combinati in programma sul nuovo IMPATTO del rischio (NETTO) | J23: Effetto dei controlli combinati in programma sulla nuova PROBABILITÀ del rischio (NETTO) | K23: Impatto del rischio (PREVISTO) | L23: Probabilità del rischio (PREVISTO) | M23: Rischio complessivo (PREVISTO)
A24: =K10 -> 0 | B24: =L10 -> 0 | C24: =M10 -> 0 | K24: =A24+I24 -> 0 | L24: =B24+J24 -> 0 | M24: =K24*L24 -> 0
B56: 1 | C56: -1
B57: 2 | C57: -2
B58: 3 | C58: -3
B59: 4 | C59: -4
B60: 5 | C60: -5

Sheet SR3
C3: DESCRIZIONE DEL RISCHIO
C4: Rif. rischio | D4: Rischio | E4: Descrizione del rischio | F4: Chi è coinvolto nel rischio? (Amministrazione Titolare / Enti/Amministrazioni attuatrici) | G4: Il rischio è interno all'Amministrazione Titolare, esterno o frutto di collusione?
C5: ='1. Selezione'!A8 -> SR3 | D5: ='1. Selezione'!B8 -> False dichiarazioni da parte dei proponenti circa i criteri generali e specifici di ammissibilità | E5: ='1. Selezione'!C8 -> I proponenti rilasciano false dichiarazioni nella domanda di finanziamento, attestando alla Commissione di valutazione il possesso di requisiti in realtà non posseduti, idonei a soddisfare i criteri generali e specifici di ammissibilità per superare la procedura di selezione della candidatura (ad es.: condizionalità PNRR, contributo all'indicatore comune e ai tagging ambientali e digitali, rispetto del principio DNSH, parità di genere, politiche per i giovani, quota SUD) | F5: ='1. Selezione'!D8 -> Amministrazione Titolare / Soggetti Attuatori | G5: ='1. Selezione'!E8 -> Esterno
A8: RISCHIO LORDO | D8: CONTROLLI ESISTENTI | K8: RISCHIO NETTO
A9: Impatto del rischio (LORDO) | B9: Probabilità del rischio (LORDO) | C9: Rischio complessivo (LORDO) | D9: Rif. controllo | E9: Descrizione del controllo | F9: Può dimostrare il funzionamento di questo controllo? | G9: Effettua regolarmente un test di questo controllo? | H9: Quanto ritiene che sia efficace questo controllo? | I9: Effetto dei controlli combinati sull'IMPATTO del rischio considerando i livelli di fiducia | J9: Effetto dei controlli combinati sulla PROBABILITÀ del rischio considerando i livelli di fiducia | K9: Impatto del rischio (NETTO) | L9: Probabilità del rischio (NETTO) | M9: Rischio complessivo attuale (NETTO)
C10: =A10*B10 -> 0 | D10: SC 3.1 | E10: L'Amministrazione Titolare si avvale delle conoscenze acquisite in precedenza sul beneficiario per adottare una decisione informata in merito alla veridicità delle dichiarazioni e delle informazioni presentate | K10: =A10+I10 -> 0 | L10: =B10+J10 -> 0 | M10: =K10*L10 -> 0
D11: SC 3.2 | E11: Nel processo di screening l'Amministrazione Titolare si avvale delle conoscenze acquisite sulle domande fraudolente precedentemente presentate e su altre pratiche fraudolente
D12: SC 3.3 | E12: Il processo di screening dell'Amministrazione Titolare prevede controlli incrociati, adeguatamente documentati, tramite l’utilizzo di banche dati pubbliche e private nazionali e internazionali, nonché qualsiasi altra informazione pertinente a disposizione delle istituzioni
D13: SC 3.4 | E13: L’Amministrazione Titolare dispone delle checklist al fine di documentare l’effettiva effettuazione dei controlli previsti
A16: RISCHIO NETTO | D16: PIANO D'AZIONE | K16: RISCHIO PREVISTO
A17: Impatto del rischio (NETTO) | B17: Probabilità del rischio (NETTO) | C17: Rischio complessivo attuale (NETTO) | D17: Nuovo controllo in programma | F17: Responsabile | G17: Termine ultimo per l'attuazione | I17: Effetto dei controlli combinati in programma sul nuovo IMPATTO del rischio (NETTO) | J17: Effetto dei controlli combinati in programma sulla nuova PROBABILITÀ del rischio (NETTO) | K17: Impatto del rischio (PREVISTO) | L17: Probabilità del rischio (PREVISTO) | M17: Rischio complessivo (PREVISTO)
A18: =K10 -> 0 | B18: =L10 -> 0 | C18: =M10 -> 0 | K18: =A18+I18 -> 0 | L18: =B18+J18 -> 0 | M18: =K18*L18 -> 0
B50: 1 | C50: -1
B51: 2 | C51: -2
B52: 3 | C52: -3
B53: 4 | C53: -4
B54: 5 | C54: -5

Sheet SR4
C3: DESCRIZIONE DEL RISCHIO
C4: Rif. rischio | D4: Rischio | E4: Descrizione del rischio | F4: Chi è coinvolto nel rischio? (Amministrazione Titolare / Enti/Amministrazioni attuatrici) | G4: Il rischio è interno all'Amministrazione Titolare, esterno o frutto di collusione?
C5: ='1. Selezione'!A9 -> SR4 | D5: ='1. Selezione'!B9 -> False dichiarazioni da parte dei proponenti circa il tema di conflitti di interesse, doppio finanziamento e verifica del titolare effettivo | E5: ='1. Selezione'!C9 -> I proponenti rilasciano false dichiarazioni nella domanda di finanziamento, attestando alla Commissione l'assenza di conflitti di interesse, doppio finanziamento e verifica del titolare effettivo | F5: ='1. Selezione'!D9 -> Amministrazione Titolare / Soggetti Attuatori | G5: ='1. Selezione'!E9 -> Esterno
A8: RISCHIO LORDO | D8: CONTROLLI ESISTENTI | K8: RISCHIO NETTO
A9: Impatto del rischio (LORDO) | B9: Probabilità del rischio (LORDO) | C9: Rischio complessivo (LORDO) | D9: Rif. controllo | E9: Descrizione del controllo | F9: Può dimostrare il funzionamento di questo controllo? | G9: Effettua regolarmente un test di questo controllo? | H9: Quanto ritiene che sia efficace questo controllo? | I9: Effetto dei controlli combinati sull'IMPATTO del rischio considerando i livelli di fiducia | J9: Effetto dei controlli combinati sulla PROBABILITÀ del rischio considerando i livelli di fiducia | K9: Impatto del rischio (NETTO) | L9: Probabilità del rischio (NETTO) | M9: Rischio complessivo attuale (NETTO)
C10: =A10*B10 -> 0 | D10: SC 4.1 | E10: L'Amministrazione Titolare si avvale delle conoscenze acquisite in precedenza sul beneficiario per adottare una decisione informata in merito alla veridicità delle dichiarazioni e delle informazioni presentate anche in materia di conflitto di interessi, titolare effettivo e doppio finanziamento | K10: =A10+I10 -> 0 | L10: =B10+J10 -> 0 | M10: =K10*L10 -> 0
D11: SC 4.2 | E11: Nel processo di screening l'Amministrazione Titolare si avvale delle conoscenze acquisite sulle domande fraudolente precedentemente presentate e su altre pratiche fraudolente, in materia di conflitto di interessi, titolare effettivo e doppio finanziamento
D12: SC 4.3 | E12: Il processo di screening dell'Amministrazione Titolare prevede controlli incrociati, adeguatamente documentati, tramite l’utilizzo di banche dati pubbliche e private nazionali e internazionali, nonché qualsiasi altra informazione pertinente a disposizione delle istituzioni, in materia di conflitto di interessi, titolare effettivo e doppio finanziamento
D13: SC 4.4 | E13: L’Amministrazione Titolare dispone delle checklist al fine di documentare l’effettiva effettuazione dei controlli previsti, in materia di conflitto di interessi, titolare effettivo e doppio finanziamento
A16: RISCHIO NETTO | D16: PIANO D'AZIONE | K16: RISCHIO PREVISTO
A17: Impatto del rischio (NETTO) | B17: Probabilità del rischio (NETTO) | C17: Rischio complessivo attuale (NETTO) | D17: Nuovo controllo in programma | F17: Responsabile | G17: Termine ultimo per l'attuazione | I17: Effetto dei controlli combinati in programma sul nuovo IMPATTO del rischio (NETTO) | J17: Effetto dei controlli combinati in programma sulla nuova PROBABILITÀ del rischio (NETTO) | K17: Impatto del rischio (PREVISTO) | L17: Probabilità del rischio (PREVISTO) | M17: Rischio complessivo (PREVISTO)
A18: =K10 -> 0 | B18: =L10 -> 0 | C18: =M10 -> 0 | K18: =A18+I18 -> 0 | L18: =B18+J18 -> 0 | M18: =K18*L18 -> 0
B50: 1 | C50: -1
B51: 2 | C51: -2
B52: 3 | C52: -3
B53: 4 | C53: -4
B54: 5 | C54: -5

Sheet SR5
C3: DESCRIZIONE DEL RISCHIO
C4: Rif. rischio | D4: Rischio | E4: Descrizione del rischio | F4: Chi è coinvolto nel rischio? (Amministrazione Titolare / Enti/Amministrazioni attuatrici) | G4: Il rischio è interno all'Amministrazione Centrale, esterno o frutto di collusione?
C5: ='1. Selezione'!A10 -> SR5 | D5: ='1. Selezione'!B10 -> Conflitti di interesse da parte del vincitore della selezione/destinatario dei fondi | E5: ='1. Selezione'!C10 -> Il vincitore della selezione/destinatario dei fondi detiene un interesse privato di natura finanziaria, economica o derivante da particolari legami di parentela, affinità, convivenza o frequentazione abituale con i soggetti titolari dell’azione amministrativa finalizzata all'ammissione a finanziamento dell'iniziativa che potrebbe porsi in contrasto con l’interesse pubblico | F5: ='1. Selezione'!D10 -> Amministrazione Titolare / Soggetti Attuatori | G5: ='1. Selezione'!E10 -> Esterno
A8: RISCHIO LORDO | D8: CONTROLLI ESISTENTI | K8: RISCHIO NETTO
A9: Impatto del rischio (LORDO) | B9: Probabilità del rischio (LORDO) | C9: Rischio complessivo (LORDO) | D9: Rif. controllo | E9: Descrizione del controllo | F9: Può dimostrare il funzionamento di questo controllo? | G9: Effettua regolarmente un test di questo controllo? | H9: Quanto ritiene che sia efficace questo controllo? | I9: Effetto dei controlli combinati sull'IMPATTO del rischio considerando i livelli di fiducia | J9: Effetto dei controlli combinati sulla PROBABILITÀ del rischio considerando i livelli di fiducia | K9: Impatto del rischio (NETTO) | L9: Probabilità del rischio (NETTO) | M9: Rischio complessivo attuale (NETTO)
D10: SC 5.1 | E10: L’Amministrazione Titolare richiede l’evidenza ai Soggetti Attuatori dell’effettiva adozione e attuazione da parte di quest’ultimi di politiche volte a contrastare la corruzione e il conflitto d’interessi
D11: SC 5.2 | E11: L’Amministrazione Titolare richiede ai Soggetti Attuatori il rilascio di una dichiarazione attestante l’assenza di conflitto di interessi al momento della partecipazione al bando o la segnalazione del relativo conflitto
D12: SC 5.3 | E12: L’Ufficio di rendicontazione e controllo richiede l’evidenza, da parte della struttura dell’Amministrazione Titolare deputata alla selezione delle candidature, dell’effettiva adozione e attuazione di politiche volte a contrastare la corruzione e il conflitto d’interesse
A13: RISCHIO NETTO | D13: PIANO D'AZIONE | K13: RISCHIO PREVISTO
A14: Impatto del rischio (NETTO) | B14: Probabilità del rischio (NETTO) | C14: Rischio complessivo attuale (NETTO) | D14: Nuovo controllo in programma | F14: Responsabile | G14: Termine ultimo per l'attuazione | I14: Effetto dei controlli combinati in programma sul nuovo IMPATTO del rischio (NETTO) | J14: Effetto dei controlli combinati in programma sulla nuova PROBABILITÀ del rischio (NETTO) | K14: Impatto del rischio (PREVISTO) | L14: Probabilità del rischio (PREVISTO) | M14: Rischio complessivo (PREVISTO)
A15: =K10 -> 0 | B15: =L10 -> 0 | C15: =M10 -> 0 | K15: =A15+I15 -> 0 | L15: =B15+J15 -> 0 | M15: =K15*L15 -> 0
B47: 1 | C47: -1
B48: 2 | C48: -2
B49: 3 | C49: -3
B50: 4 | C50: -4
B51: 5 | C51: -5

Sheet SR6
C3: DESCRIZIONE DEL RISCHIO
C4: Rif. rischio | D4: Rischio | E4: Descrizione del rischio | F4: Chi è coinvolto nel rischio? (Amministrazione Titolare / Enti/Amministrazioni attuatrici) | G4: Il rischio è interno all'Amministrazione Centrale, esterno o frutto di collusione?
C5: ='1. Selezione'!A11 -> SR6 | D5: ='1. Selezione'!B11 -> Doppio finanziamento | E5: ='1. Selezione'!C11 -> I proponenti presentano per la stessa iniziativa progettuale una richiesta di finanziamento a valere su due o più fondi del bilancio dell'UE e/o dello Stato Membro, omettendo deliberatamente di dichiarare tali richieste | F5: ='1. Selezione'!D11 -> Amministrazione Titolare / Soggetti Attuatori | G5: ='1. Selezione'!E11 -> Esterno
A8: RISCHIO LORDO | D8: CONTROLLI ESISTENTI | K8: RISCHIO NETTO
A9: Impatto del rischio (LORDO) | B9: Probabilità del rischio (LORDO) | C9: Rischio complessivo (LORDO) | D9: Rif. controllo | E9: Descrizione del controllo | F9: Può dimostrare il funzionamento di questo controllo? | G9: Effettua regolarmente un test di questo controllo? | H9: Quanto ritiene che sia efficace questo controllo? | I9: Effetto dei controlli combinati sull'IMPATTO del rischio considerando i livelli di fiducia | J9: Effetto dei controlli combinati sulla PROBABILITÀ del rischio considerando i livelli di fiducia | K9: Impatto del rischio (NETTO) | L9: Probabilità del rischio (NETTO) | M9: Rischio complessivo attuale (NETTO)
D10: SC 6.1 | E10: L’Amministrazione Titolare prevede controlli incrociati, volti ad identificare situazioni di doppio finanziamento, tramite l’utilizzo di banche dati pubbliche e private nazionali e internazionali (ad es.: ReGIS, Arachne, Piaf), nonché qualsiasi altra informazione pertinente a disposizione delle istituzioni e, in caso di esito positivo, ne approfondisce le motivazioni
D11: SC 6.2 | E11: L’Amministrazione Titolare svolge in maniera continuativa tutti i controlli ordinari previsti dalla normativa vigente
D12: SC 6.3 | E12: L’Amministrazione Titolare archivia tutta la documentazione atta a comprovare l’effettivo e regolare svolgimento dei controlli
D13: SC 6.4 | E13: L’Amministrazione Titolare verifica la veridicità, correttezza e coerenza delle dichiarazioni rilasciate in merito al doppio finanziamento
D14: SC 6.5 | E14: L’Amministrazione Titolare in caso di sospetto doppio finanziamento richiede ulteriore documentazione ai potenziali Soggetti attuatori
A17: RISCHIO NETTO | D17: PIANO D'AZIONE | K17: RISCHIO PREVISTO
A18: Impatto del rischio (NETTO) | B18: Probabilità del rischio (NETTO) | C18: Rischio complessivo attuale (NETTO) | D18: Nuovo controllo in programma | F18: Responsabile | G18: Termine ultimo per l'attuazione | I18: Effetto dei controlli combinati in programma sul nuovo IMPATTO del rischio (NETTO) | J18: Effetto dei controlli combinati in programma sulla nuova PROBABILITÀ del rischio (NETTO) | K18: Impatto del rischio (PREVISTO) | L18: Probabilità del rischio (PREVISTO) | M18: Rischio complessivo (PREVISTO)
A19: =K10 -> 0 | B19: =L10 -> 0 | C19: =M10 -> 0 | K19: =A19+I19 -> 0 | L19: =B19+J19 -> 0 | M19: =K19*L19 -> 0
B51: 1 | C51: -1
B52: 2 | C52: -2
B53: 3 | C53: -3
B54: 4 | C54: -4
B55: 5 | C55: -5

Sheet SR7
C3: DESCRIZIONE DEL RISCHIO
C4: Rif. rischio | D4: Rischio | E4: Descrizione del rischio | F4: Chi è coinvolto nel rischio? (Amministrazione Titolare / Enti/Amministrazioni attuatrici) | G4: Il rischio è interno all'Amministrazione Centrale, esterno o frutto di collusione?
C5: ='1. Selezione'!A12 -> SR7 | D5: ='1. Selezione'!B12 -> Inadeguata applicazione dei criteri di selezione dei "progetti in essere" | E5: ='1. Selezione'!C12 -> Deliberata ed inadeguata attività istruttoria finalizzata a non garantire la coerenza con i criteri di selezione e gli obiettivi del PNRR, nonchè la conformità e l'effettivo rispetto delle regole, degli obblighi e dei principi del PNRR stabiliti dalla normativa nazionale e comunitaria di riferimento al fine di favorire un partecipante | F5: ='1. Selezione'!D12 -> Amministrazione Titolare / Soggetti Attuatori | G5: ='1. Selezione'!E12 -> Interno / Collusione
A8: RISCHIO LORDO | D8: CONTROLLI ESISTENTI | K8: RISCHIO NETTO
A9: Impatto del rischio (LORDO) | B9: Probabilità del rischio (LORDO) | C9: Rischio complessivo (LORDO) | D9: Rif. controllo | E9: Descrizione del controllo | F9: Può dimostrare il funzionamento di questo controllo? | G9: Effettua regolarmente un test di questo controllo? | H9: Quanto ritiene che sia efficace questo controllo? | I9: Effetto dei controlli combinati sull'IMPATTO del rischio considerando i livelli di fiducia | J9: Effetto dei controlli combinati sulla PROBABILITÀ del rischio considerando i livelli di fiducia | K9: Impatto del rischio (NETTO) | L9: Probabilità del rischio (NETTO) | M9: Rischio complessivo attuale (NETTO)
C10: =A10*B10 -> 0 | D10: SC 7.1 | E10: L’Amministrazione Titolare dispone delle check-list customizzate in funzione della specifica misura, al fine di definire requisiti oggettivi (principio del DNSH nonché i principi trasversali), improntati alla trasparenza e, per quanto possibile, alla limitazione di criteri di soggettività, connessi al dispositivo di finanziamento | K10: =A10+I10 -> 0 | L10: =B10+J10 -> 0 | M10: =K10*L10 -> 0
D11: SC 7.2 | E11: L’Amministrazione Titolare definisce le modalità e i criteri per la predisposizione e l’approvazione dei bandi di gara
A14: RISCHIO NETTO | D14: PIANO D'AZIONE | K14: RISCHIO PREVISTO
A15: Impatto del rischio (NETTO) | B15: Probabilità del rischio (NETTO) | C15: Rischio complessivo attuale (NETTO) | D15: Nuovo controllo in programma | F15: Responsabile | G15: Termine ultimo per l'attuazione | I15: Effetto dei controlli combinati in programma sul nuovo IMPATTO del rischio (NETTO) | J15: Effetto dei controlli combinati in programma sulla nuova PROBABILITÀ del rischio (NETTO) | K15: Impatto del rischio (PREVISTO) | L15: Probabilità del rischio (PREVISTO) | M15: Rischio complessivo (PREVISTO)
A16: =K10 -> 0 | B16: =L10 -> 0 | C16: =M10 -> 0 | K16: =A16+I16 -> 0 | L16: =B16+J16 -> 0 | M16: =K16*L16 -> 0
B48: 1 | C48: -1
B49: 2 | C49: -2
B50: 3 | C50: -3
B51: 4 | C51: -4
B52: 5 | C52: -5

Sheet SR8
C3: DESCRIZIONE DEL RISCHIO
C4: Rif. rischio | D4: Rischio | E4: Descrizione del rischio | F4: Chi è coinvolto nel rischio? (Amministrazione Titolare / Enti/Amministrazioni attuatrici) | G4: Il rischio è interno all'Amministrazione Titolare, esterno o frutto di collusione?
C5: ='1. Selezione'!A13 -> SR8 | D5: ='1. Selezione'!B13 -> Mancato rispetto della normativa sugli Aiuti di Stato, con particolare riferimento alla dimensione di impresa e al de minimis | E5: ='1. Selezione'!C13 -> Deliberato e mancato rispetto della normativa vigente in materia di Aiuti di Stato e/o mancata presentazione della documentazione necessaria alla valutazione di conformità alla relativa normativa, nonchè deliberata presentazione di documentazione incompleta o non corretta finalizzata a dare o ricevere un aiuto maggiore di quello previsto dalla normativa vigente | F5: ='1. Selezione'!D13 -> Amministrazione Titolare / Soggetti Attuatori | G5: ='1. Selezione'!E13 -> Esterno
A8: RISCHIO LORDO | D8: CONTROLLI ESISTENTI | K8: RISCHIO NETTO
A9: Impatto del rischio (LORDO) | B9: Probabilità del rischio (LORDO) | C9: Rischio complessivo (LORDO) | D9: Rif. controllo | E9: Descrizione del controllo | F9: Può dimostrare il funzionamento di questo controllo? | G9: Effettua regolarmente un test di questo controllo? | H9: Quanto ritiene che sia efficace questo controllo? | I9: Effetto dei controlli combinati sull'IMPATTO del rischio considerando i livelli di fiducia | J9: Effetto dei controlli combinati sulla PROBABILITÀ del rischio considerando i livelli di fiducia | K9: Impatto del rischio (NETTO) | L9: Probabilità del rischio (NETTO) | M9: Rischio complessivo attuale (NETTO)
C10: =A10*B10 -> 0 | D10: SC 8.1 | E10: L’Amministrazione Titolare riscontra attraverso il supporto di apposite check-list la presenza di tutta la documentazione necessaria per la verifica riguardo il rispetto alla normativa vigente in materia di Aiuti di Stato | K10: =A10+I10 -> 0 | L10: =B10+J10 -> 0 | M10: =K10*L10 -> 0
A13: RISCHIO NETTO | D13: PIANO D'AZIONE | K13: RISCHIO PREVISTO
A14: Impatto del rischio (NETTO) | B14: Probabilità del rischio (NETTO) | C14: Rischio complessivo attuale (NETTO) | D14: Nuovo controllo in programma | F14: Responsabile | G14: Termine ultimo per l'attuazione | I14: Effetto dei controlli combinati in programma sul nuovo IMPATTO del rischio (NETTO) | J14: Effetto dei controlli combinati in programma sulla nuova PROBABILITÀ del rischio (NETTO) | K14: Impatto del rischio (PREVISTO) | L14: Probabilità del rischio (PREVISTO) | M14: Rischio complessivo (PREVISTO)
A15: =K10 -> 0 | B15: =L10 -> 0 | C15: =M10 -> 0 | K15: =A15+I15 -> 0 | L15: =B15+J15 -> 0 | M15: =K15*L15 -> 0
B47: 1 | C47: -1
B48: 2 | C48: -2
B49: 3 | C49: -3
B50: 4 | C50: -4
B51: 5 | C51: -5

Sheet SR9
C3: DESCRIZIONE DEL RISCHIO
C4: Rif. rischio | D4: Rischio | E4: Descrizione del rischio | F4: Chi è coinvolto nel rischio? (Amministrazione Titolare / Enti/Amministrazioni attuatrici) | G4: Il rischio è interno all'Amministrazione Titolare, esterno o frutto di collusione?
C5: ='1. Selezione'!A14 -> SR9 | D5: ='1. Selezione'!B14 -> Processo di selezione dei progetti e/o dei Soggetti Attuatori incompleto/inadeguato | E5: ='1. Selezione'!C14 -> Il processo di selezione dei progetti e/o dei Soggetti Attuatori non garantisce adeguatamente l'assenza di frodi perché l’Ufficio dell’Amministrazione Titolare responsabile della selezione e/o la Commissione di Valutazione non dispongono delle risorse e/o delle competenze adeguate in materia | F5: ='1. Selezione'!D14 -> Amministrazione Titolare / Soggetti Attuatori | G5: ='1. Selezione'!E14 -> Esterno
A8: RISCHIO LORDO | D8: CONTROLLI ESISTENTI | K8: RISCHIO NETTO
A9: Impatto del rischio (LORDO) | B9: Probabilità del rischio (LORDO) | C9: Rischio complessivo (LORDO) | D9: Rif. controllo | E9: Descrizione del controllo | F9: Può dimostrare il funzionamento di questo controllo? | G9: Effettua regolarmente un test di questo controllo? | H9: Quanto ritiene che sia efficace questo controllo? | I9: Effetto dei controlli combinati sull'IMPATTO del rischio considerando i livelli di fiducia | J9: Effetto dei controlli combinati sulla PROBABILITÀ del rischio considerando i livelli di fiducia | K9: Impatto del rischio (NETTO) | L9: Probabilità del rischio (NETTO) | M9: Rischio complessivo attuale (NETTO)
C10: =A10*B10 -> 0 | D10: SC 9.1 | E10: L’Amministrazione Titolare garantisce che ci sia un corretto dimensionamento tra i progetti da esaminare e le risorse delegate all’Ufficio della selezione | K10: =A10+I10 -> 0 | L10: =B10+J10 -> 0 | M10: =K10*L10 -> 0
D11: SC 9.2 | E11: L’Amministrazione Titolare garantisce che il personale dell’Ufficio della selezione e i membri delle Commissioni di Valutazione è adeguatamente qualificato ed esperto, oltre ad essere provvisto di una formazione aggiornata in materia di sensibilizzazione alle frodi e ai conflitti di interesse
A14: RISCHIO NETTO | D14: PIANO D'AZIONE | K14: RISCHIO PREVISTO
A15: Impatto del rischio (NETTO) | B15: Probabilità del rischio (NETTO) | C15: Rischio complessivo attuale (NETTO) | D15: Nuovo controllo in programma | F15: Responsabile | G15: Termine ultimo per l'attuazione | I15: Effetto dei controlli combinati in programma sul nuovo IMPATTO del rischio (NETTO) | J15: Effetto dei controlli combinati in programma sulla nuova PROBABILITÀ del rischio (NETTO) | K15: Impatto del rischio (PREVISTO) | L15: Probabilità del rischio (PREVISTO) | M15: Rischio complessivo (PREVISTO)
A16: =K10 -> 0 | B16: =L10 -> 0 | C16: =M10 -> 0 | K16: =A16+I16 -> 0 | L16: =B16+J16 -> 0 | M16: =K16*L16 -> 0
B48: 1 | C48: -1
B49: 2 | C49: -2
B50: 3 | C50: -3
B51: 4 | C51: -4
B52: 5 | C52: -5

Sheet SR10
C3: DESCRIZIONE DEL RISCHIO
C4: Rif. rischio | D4: Rischio | E4: Descrizione del rischio | F4: Chi è coinvolto nel rischio? (Amministrazione Titolare / Enti/Amministrazioni attuatrici) | G4: Il rischio è interno all'Amministrazione Titolare, esterno o frutto di collusione?
C5: SR10 | D5: Conflitti di interesse da parte del destinatario dei fondi | E5: ='1. Selezione'!C15 -> Il destinatario dei fondi detiene un interesse privato di natura finanziaria, economica o derivante da particolari legami di parentela, affinità, convivenza o frequentazione abituale con i soggetti titolari dell’azione amministrativa finalizzata a condizionare le modalità di ammissione a finanziamento dell'iniziativa che potrebbe porsi in contrasto con l’interesse pubblico | F5: Amministrazione Titolare / Soggetti attuatori | G5: ='1. Selezione'!E10 -> Esterno
A8: RISCHIO LORDO | D8: CONTROLLI ESISTENTI | K8: RISCHIO NETTO
A9: Impatto del rischio (LORDO) | B9: Probabilità del rischio (LORDO) | C9: Rischio complessivo (LORDO) | D9: Rif. controllo | E9: Descrizione del controllo | F9: Può dimostrare il funzionamento di questo controllo? | G9: Effettua regolarmente un test di questo controllo? | H9: Quanto ritiene che sia efficace questo controllo? | I9: Effetto dei controlli combinati sull'IMPATTO del rischio considerando i livelli di fiducia | J9: Effetto dei controlli combinati sulla PROBABILITÀ del rischio considerando i livelli di fiducia | K9: Impatto del rischio (NETTO) | L9: Probabilità del rischio (NETTO) | M9: Rischio complessivo attuale (NETTO)
A10: 4 | B10: 2 | C10: 8 | D10: SC 10.1 | E10: L’Amministrazione Titolare fornisce istruzioni ai Soggetti Attuatori sull’effettiva adozione e attuazione da parte di quest’ultimi di politiche volte a contrastare la corruzione e il conflitto d’interesse | F10: SI | G10: SI | H10: MEDIO | I10: -1 | J10: -1 | K10: =A10+I10 -> 3 | L10: =B10+J10 -> 1 | M10: =K10*L10 -> 3
D11: SC 10.2 | E11: L’Amministrazione Titolare richiede al Soggetto Attuatore il rilascio di una dichiarazione attestante l’assenza di conflitto di interessi | F11: SI | G11: SI | H11: MEDIO
D12: SC 10.3 | E12: L’Ufficio di rendicontazione e controllo richiede l’evidenza, da parte della struttura dell’Amministrazione Titolare deputata alla selezione delle candidature, dell’effettiva adozione e attuazione di politiche volte a contrastare la corruzione e il conflitto d’interesse | F12: N.A. | G12: N.A. | H12: N.A.
D13: SC 10.4 | E13: L'Amministrazione Titolare fornisce orientamenti chiari e una formazione ai propri membri sull'etica, sui conflitti di interessi e sulle conseguenze della mancata adesione alle linee guida approvate | F13: SI | G13: SI | H13: MEDIO
D14: SC 10.5 | E14: L’Amministrazione Titolare adotta un Codice Etico che contempla le principali regole di condotta del personale (ad es. Codice di comportamento dei dipendenti pubblici – patto di integrità) | F14: SI | G14: SI | H14: MEDIO
D15: SC 10.6 | E15: L’Amministrazione Titolare compila apposite Check List per l'autocontrollo dell'assenza di conflitto di interessi | F15: SI | G15: SI | H15: MEDIO
A16: organizzativo | B16: discrezionalità
A17: reputazione
A18: immagine
A19: RISCHIO NETTO | D19: PIANO D'AZIONE | K19: RISCHIO PREVISTO
A20: Impatto del rischio (NETTO) | B20: Probabilità del rischio (NETTO) | C20: Rischio complessivo attuale (NETTO) | D20: Nuovo controllo in programma | F20: Responsabile | G20: Termine ultimo per l'attuazione | I20: Effetto dei controlli combinati in programma sul nuovo IMPATTO del rischio (NETTO) | J20: Effetto dei controlli combinati in programma sulla nuova PROBABILITÀ del rischio (NETTO) | K20: Impatto del rischio (PREVISTO) | L20: Probabilità del rischio (PREVISTO) | M20: Rischio complessivo (PREVISTO)
A21: =K10 -> 3 | B21: =L10 -> 1 | C21: =M10 -> 3 | K21: =A21+I21 -> 3 | L21: =B21+J21 -> 1 | M21: =K21*L21 -> 3
B53: 1 | C53: -1
B54: 2 | C54: -2
B55: 3 | C55: -3
B56: 4 | C56: -4
B57: 5 | C57: -5

Sheet SR11
C3: DESCRIZIONE DEL RISCHIO
C4: Rif. rischio | D4: Rischio | E4: Descrizione del rischio | F4: Chi è coinvolto nel rischio? (Amministrazione Titolare / Enti/Amministrazioni attuatrici) | G4: Il rischio è interno all'Amministrazione Titolare, esterno o frutto di collusione?
C5: SR11 | D5: Doppio finanziamento | E5: ='1. Selezione'!C16 -> L'Amministrazione Titolare / Soggetti Attuatori presentano per la stessa iniziativa progettuale una richiesta di finanziamento a valere su due o più fondi del bilancio dell'UE e/o dello Stato Membro omettendo deliberatamente di dichiarare tali richieste | F5: Amministrazione Titolare / Soggetti Attuatori | G5: Interno
A8: RISCHIO LORDO | D8: CONTROLLI ESISTENTI | K8: RISCHIO NETTO
A9: Impatto del rischio (LORDO) | B9: Probabilità del rischio (LORDO) | C9: Rischio complessivo (LORDO) | D9: Rif. controllo | E9: Descrizione del controllo | F9: Può dimostrare il funzionamento di questo controllo? | G9: Effettua regolarmente un test di questo controllo? | H9: Quanto ritiene che sia efficace questo controllo? | I9: Effetto dei controlli combinati sull'IMPATTO del rischio considerando i livelli di fiducia | J9: Effetto dei controlli combinati sulla PROBABILITÀ del rischio considerando i livelli di fiducia | K9: Impatto del rischio (NETTO) | L9: Probabilità del rischio (NETTO) | M9: Rischio complessivo attuale (NETTO)
A10: 2 | B10: 2 | C10: 4 | D10: SC 11.1 | E10: L’Amministrazione Titolare/Soggetto attuatore prevede controlli incrociati, volti ad identificare situazioni di doppio finanziamento, tramite l’utilizzo di banche dati pubbliche e private nazionali e internazionali (ad es.: ReGiS, Arachne, Piaf), nonché qualsiasi altra informazione pertinente a disposizione delle istituzioni e, in caso di esito positivo, ne approfondisce le motivazioni | F10: SI | G10: SI | H10: MEDIO | I10: -1 | J10: -1 | K10: 1 | L10: 1 | M10: 1
D11: SC 11.2 | E11: L’Amministrazione Titolare/Soggetto attuatore svolge in maniera continuativa tutti i controlli ordinari previsti dalla normativa vigente | F11: SI | G11: SI | H11: MEDIO
D12: SC 11.3 | E12: L’Amministrazione Titolare/Soggetto attuatore archivia tutta la documentazione atta a comprovare l’effettivo e regolare svolgimento dei controlli | F12: SI | G12: SI | H12: MEDIO
D13: SC 11.4 | E13: L’Amministrazione Titolare/Soggetto attuatore verifica la veridicità, correttezza e coerenza delle dichiarazioni rilasciate in merito al doppio finanziamento | F13: SI | G13: SI | H13: MEDIO
D14: SC 11.5 | E14: L’Amministrazione Titolare/Soggetto attuatore in caso di sospetto doppio finanziamento richiede ulteriore documentazione al Soggetto responsabile della progettualità in esame | F14: SI | G14: SI | H14: MEDIO
D15: SC 11.6 | E15: L’Amministrazione Titolare/Soggetto attuatore compila apposite Check List per l’autocontrollo sia delle procedure di selezione degli interventi e dei soggetti attuatori che per l'assenza di doppio finanziamento | F15: SI | G15: SI | H15: MEDIO
A16: economico / finanziario | B16: discrezionalità
A18: RISCHIO NETTO | D18: PIANO D'AZIONE | K18: RISCHIO PREVISTO
A19: Impatto del rischio (NETTO) | B19: Probabilità del rischio (NETTO) | C19: Rischio complessivo attuale (NETTO) | D19: Nuovo controllo in programma | F19: Responsabile | G19: Termine ultimo per l'attuazione | I19: Effetto dei controlli combinati in programma sul nuovo IMPATTO del rischio (NETTO) | J19: Effetto dei controlli combinati in programma sulla nuova PROBABILITÀ del rischio (NETTO) | K19: Impatto del rischio (PREVISTO) | L19: Probabilità del rischio (PREVISTO) | M19: Rischio complessivo (PREVISTO)
A20: =K10 -> 1 | B20: =L10 -> 1 | C20: =M10 -> 1 | K20: =A20+I20 -> 1 | L20: =B20+J20 -> 1 | M20: =K20*L20 -> 1
B52: 1 | C52: -1
B53: 2 | C53: -2
B54: 3 | C54: -3
B55: 4 | C55: -4
B56: 5 | C56: -5

Sheet SR12
C3: DESCRIZIONE DEL RISCHIO
C4: Rif. rischio | D4: Rischio | E4: Descrizione del rischio | F4: Chi è coinvolto nel rischio? (Amministrazione Titolare / Enti/Amministrazioni attuatrici) | G4: Il rischio è interno all'Amministrazione Titolare, esterno o frutto di collusione?
C5: SR12 | D5: Irregolarità nel processo di selezione dei progetti da ammettere a finanziamento | E5: ='1. Selezione'!C17 -> Nel processo di selezione dei progetti da ammettere a finanziamento e/o nella distribuzione geografica degli stessi tra i Soggetti Attuatori (individuati ex lege dalla normativa), non è garantita la coerenza con i criteri di selezione e gli obiettivi/principi PNRR, al fine di favorire un destinatario | F5: Amministrazione Titolare / Soggetti Attuatori | G5: Interno/Collusione
A8: RISCHIO LORDO | D8: CONTROLLI ESISTENTI | K8: RISCHIO NETTO
A9: Impatto del rischio (LORDO) | B9: Probabilità del rischio (LORDO) | C9: Rischio complessivo (LORDO) | D9: Rif. controllo | E9: Descrizione del controllo | F9: Può dimostrare il funzionamento di questo controllo? | G9: Effettua regolarmente un test di questo controllo? | H9: Quanto ritiene che sia efficace questo controllo? | I9: Effetto dei controlli combinati sull'IMPATTO del rischio considerando i livelli di fiducia | J9: Effetto dei controlli combinati sulla PROBABILITÀ del rischio considerando i livelli di fiducia | K9: Impatto del rischio (NETTO) | L9: Probabilità del rischio (NETTO) | M9: Rischio complessivo attuale (NETTO)
A10: 3 | B10: 3 | C10: =A10*B10 -> 9 | D10: SC 12.1 | E10: L’Amministrazione Titolare definisce chiaramente ed esaustivamente gli aspetti da sottoporre a controllo (Check List) e prevede la compilazione di apposite Check List per l’autocontrollo delle procedure di selezione degli interventi edei Soggetti Attuatori | F10: SI | G10: SI | H10: ALTO | I10: -1 | J10: -2 | K10: =A10+I10 -> 2 | L10: =B10+J10 -> 1 | M10: =K10*L10 -> 2
D11: SC 12.2 | E11: Archiviazione di tutta la documentazione comprovante le attività svolte, gli esiti del controllo e degli eventuali follow up | F11: SI | G11: SI | H11: MEDIO
D12: SC 12.3 | E12: L’Amministrazione Titolare garantisce che il personale coinvolto nelle procedure di selezione sia adeguatamente qualificato, esperto ed adeguatamente aggiornato mediante lo svolgimento di specifiche attività formative | F12: SI | G12: SI | H12: MEDIO
A13: economico / finanziario | B13: interessi esterni
A14: strategico | B14: discrezionalità
A15: RISCHIO NETTO | D15: PIANO D'AZIONE | K15: RISCHIO PREVISTO
A16: Impatto del rischio (NETTO) | B16: Probabilità del rischio (NETTO) | C16: Rischio complessivo attuale (NETTO) | D16: Nuovo controllo in programma | F16: Responsabile | G16: Termine ultimo per l'attuazione | I16: Effetto dei controlli combinati in programma sul nuovo IMPATTO del rischio (NETTO) | J16: Effetto dei controlli combinati in programma sulla nuova PROBABILITÀ del rischio (NETTO) | K16: Impatto del rischio (PREVISTO) | L16: Probabilità del rischio (PREVISTO) | M16: Rischio complessivo (PREVISTO)
A17: =K10 -> 2 | B17: =L10 -> 1 | C17: =M10 -> 2 | K17: =A17+I17 -> 2 | L17: =B17+J17 -> 1 | M17: =K17*L17 -> 2
B49: 1 | C49: -1
B50: 2 | C50: -2
B51: 3 | C51: -3
B52: 4 | C52: -4
B53: 5 | C53: -5

Sheet 2. Attuazione e verifica
A2: 2: VALUTAZIONE DELL'ESPOSIZIONE A RISCHI DI FRODE SPECIFICI - ATTUAZIONE DEL PIANO E VERIFICA DELLE ATTIVITA'
A4: DESCRIZIONE DEL RISCHIO
A5: Rif. rischio | B5: Rischio | C5: Descrizione del rischio | D5: Descrizione dettagliata del rischio | E5: Chi è coinvolto nel rischio? (Amministrazione Titolare / Enti/Amministrazioni attuatrici/ Soggetti Attuatori/Terzi) | F5: Il rischio è interno all'Amministrazione Titolare, esterno o frutto di collusione? | G5: L'Amministrazione Titolare è esposta a questo rischio? | H5: Motivare la risposta, se negativa
A6: Attuazione - rischi relativi ad appalti pubblici per contratti aggiudicati e gestiti dai Soggetti attuatori/Amministrazioni titolari (nel caso di attuazione diretta)
A7: AV1 | B7: Conflitto di interessi occulto o pagamenti illeciti | C7: Un membro del personale dell'Amministrazione Titolare (nel caso di attuazione diretta) o Amministrazione Attuatrice o Soggetto Attuatore favorisce un candidato / offerente perché: - si è verificato un conflitto di interessi non dichiarato oppure - sono stati versati pagamenti illeciti e tangenti | D7: 1) Può accadere che i Soggetti attuatori/Amministrazioni Titolari (nel caso di attuazione diretta) aggiudichino contratti di subappalto a terzi nei confronti dei quali un membro del personale nutre un interesse, sia esso di carattere finanziario o di altro genere. Analogamente, le organizzazioni non possono rendere integralmente noti tutti i conflitti di interesse quando si candidano per un contratto; oppure 2) può accadere che terzi che si sono candidati per un contratto paghino somme illecite e tangenti aI Soggetti attuatori/Amministrazioni titolari (nel caso di attuazione diretta) per influenzare l'aggiudicazione | E7: Amministrazione Titolare / Soggetti Attuatori | F7: Esterno | G7: Y
A8: AV2 | B8: Elusione della procedura di gara obbligatoria | C8: Una Amministrazione Titolare (nel caso di attuazione diretta) o Amministrazione Attuatrice o Soggetto Attuatore elude la procedura di gara obbligatoria, allo scopo di favorire un determinato candidato per l'aggiudicazione o il mantenimento di un contratto, mediante: - il frazionamento delle acquisizioni, o - l'assegnazione ingiustificata dell'appalto ad un solo fornitore, o - la mancata organizzazione di una gara d'appalto, o - la proroga irregolare del contratto | D8: 1) Può accadere che i Soggetti attuatori/Amministrazioni Titolari (nel caso di attuazione diretta) frazionino un'acquisizione in due o più ordini di acquisto o contratti al fine di evitare di dover bandire una procedura di gara o una verifica della gestione di livello superiore o 2) che i Soggetti attuatori/Amministrazioni titolari (nel caso di attuazione diretta) falsifichino il motivo per cui hanno aggiudicato i contratti ad un solo fornitore definendo specifiche molto restrittive o 3) aggiudichino contratti a terzi favoriti senza effettuare la gara d'appalto richiesta o 4) proroghino le durate originarie dei contratti, mediante l'inserimento di una clausola contrattuale o di una condizione supplementare, al fine di evitare una nuova gara d'appalto | E8: Amministrazione Titolare / Soggetti Attuatori | F8: Esterno | G8: Y
A9: AV3 | B9: Manipolazione della gara d'appalto obbligatoria | C9: Un membro del personale di una Amministrazione titolare (nel caso di attuazione diretta) o Amministrazione Attuatrice o Soggetto Attuatore favorisce un offerente in una procedura di gara mediante: - specifiche atte a favorire le turbative d'asta; - la divulgazione dei dati relativi alle offerte, o - la manipolazione delle offerte | D9: 1) Può accadere che Soggetti attuatori/Amministrazioni titolari (nel caso di attuazione diretta) "personalizzino" le richieste di offerte o di proposte in modo che esse prevedano specifiche che corrispondono appositamente alle qualifiche di un particolare offerente o che solo un offerente può soddisfare. È possibile che vengano richieste specifiche eccessivamente restrittive per escludere altri offerenti qualificati o 2) che il personale di un Soggetto attuatore/Amministrazione titolare (nel caso di attuazione diretta) addetto alla definizione del progetto o alla valutazione delle offerte divulghi informazioni riservate per aiutare un offerente favorito a formulare una proposta tecnica o finanziaria migliore (bilanci di previsioni, soluzioni preferite o dettagli sulle offerte concorrenti) o 3) che i beneficiari manipolino le offerte dopo averle ricevute per favorire la selezione di un offerente favorito | E9: Amministrazione Titolare / Soggetti Attuatori | F9: Esterno | G9: Y
A10: AV4 | B10: Offerte concordate | C10: Gli offerenti manipolano la procedura di appalto organizzata da una Amministrazione titolare (nel caso di attuazione diretta) o Amministrazione Attuatrice o Soggetto Attuatore al fine di aggiudicarsi un contratto attraverso la collusione con altri offerenti o predisponendo offerte fittizie: - offerte concordate, comprese quelle presentate da aziende collegate tra loro, o - fornitori fantasma di servizi | D10: 1) Può accadere che terzi appartenenti a una particolare area geografica, regione o settore agiscano in collusione per sconfiggere annullare la concorrenza e aumentare i prezzi mediante il ricorso a vari sistemi di offerte concordate, quali offerte complementari, rotazione delle offerte, soppressione delle offerte e divisione del mercato, oppure 2) facciano partecipare un fornitore "fantasma" di servizi al fine di presentare offerte complementari che rientrano nell'ambito di offerte concordate, gonfiare i costi o semplicemente generare fatture fittizie. Inoltre, è possibile che un dipendente del Soggetto attuatore/Amministrazione titolare (nel caso di attuazione diretta) autorizzi pagamenti a favore di un fornitore fittizio al fine di appropriarsi indebitamente di finanziamenti. | E10: Terzi | F10: Esterno | G10: Y
A11: AV5 | B11: Offerta incompleta | C11: Un offerente manipola la procedura di gara omettendo di specificare taluni costi nella propria offerta | D11: Può accadere che vi siano terzi che non indichino nelle loro offerte dati completi, aggiornati e precisi in merito ai costi o ai prezzi, causando l'aumento del prezzo dell'appalto | E11: Terzi | F11: Esterno | G11: Y
A12: AV6 | B12: Omissione di controlli obbligatori in fase di stipula | C12: Referenti dell'Amministrazione titolare (nel caso di attuazione diretta) o Amministrazione Attuatrice o Soggetto Attuatore, in accordo con l'aggiudicatario, acconsentono all'attenuazione / omissione di controlli in fase di perfezionamento contrattuale per evitare l'acquisizione di atti/elementi che implicherebbero l'esclusione dalla procedura di gara | D12: In fase di perfezionamento del Contratto, può accadere che il personale del Soggetto attuatore/Amministrazione titolare (nel caso di attuazione diretta) - in accordo con l'aggiudicatario - acconsenta all'attenuazione / omissione di controlli in fase di perfezionamento contrattuale (ad es.: sul possesso dei requisiti di gara) per evitare l'acquisizione di atti/elementi che implicherebbero l'esclusione dalla procedura di gara | E12: Amministrazione Titolare / Soggetti Attuatori / Terzi | F12: Esterno | G12: Y
