Workbook

Sheet PRESENT.
A8: RELAZIONE AL PARLAMENTO EX LEGGE 16 APRILE 2015, n. 47
A9: “Modifiche al codice di procedura penale in materia di misure cautelari personali..."
A12: TABELLE: ANNO 2021
A14: ITALIA (Totali nazionali)
A16: AVVERTENZA: I DATI NON PERVENUTI SONO STATI STIMATI

Sheet ----

Sheet ITALIA (1)
A1: MINISTERO DELLA GIUSTIZIA
A2: DIPARTIMENTO PER GLI AFFARI DI GIUSTIZIA
A3: Direzione Generale degli Affari Interni
A5: MISURE CAUTELARI PERSONALI (L. 47/2015) - emesse nell'anno 2021 - ITALIA
A7: MISURE CAUTELARI PERSONALI (Libro IV del Codice di Procedura Penale) | B7: art. 281: Divieto espatrio | C7: art. 282: Obbligo presentazione Polizia Giudiz. | D7: art. 282 bis comma 1: Allontanamento dalla casa familiare | E7: art. 282 ter: Divieto di avvicinamento (anche come prescrizione accessoria della m.c. di cui all'art. 282 bis c.1, ai sensi dell'art. 282 bis c.2) | F7: art. 283 comma 1: Divieto di dimora | G7: art. 283 comma 2: Obbligo di dimora | H7: art. 284 Arresti domiciliari: senza braccialetto | I7: art. 284 +275 bis Arresti domiciliari: con braccialetto | J7: art. 285 Custodia cautelare in carcere | K7: art. 286 Custodia in luogo di cura | L7: TOTALE
A8: Totale misure cautelari emesse nell'anno | B8: 54 | C8: 12816 | D8: 3181 | E8: 8444 | F8: 4532 | G8: 6467 | H8: 18036 | I8: 2808 | J8: 24126 | K8: 638 | L8: 81102
A9: MISURE EMESSE NELL'ANNO, IN PROCEDIMENTI ISCRITTI NELL'ANNO E DEFINITI NELL'ANNO
A10: Totale misure emesse nell'anno, in procedimenti iscritti e definiti nell'anno | B10: 6 | C10: 5395 | D10: 430 | E10: 1092 | F10: 2187 | G10: 1997 | H10: 7011 | I10: 786 | J10: 7951 | K10: 86 | L10: 26941
A11: Misure emesse nell'anno, in procedimenti iscritti e definiti nell'anno, con condanna definitiva e senza sosp. condiz. pena | B11: 1 | C11: 862 | D11: 44 | E11: 91 | F11: 415 | G11: 310 | H11: 1277 | I11: 103 | J11: 1418 | K11: 12 | L11: 4533 | M11: condanna definitiva
A12: Misure emesse nell'anno, in procedimenti iscritti e definiti nell'anno, con condanna definitiva e con sosp. condiz. pena | B12: 0 | C12: 447 | D12: 52 | E12: 111 | F12: 154 | G12: 208 | H12: 468 | I12: 37 | J12: 332 | K12: 1 | L12: 1810
A13: Misure emesse nell'anno, in procedimenti iscritti e definiti nell'anno, con condanna non definitiva e senza sospens. condiz. della pena | B13: 3 | C13: 2941 | D13: 154 | E13: 479 | F13: 1241 | G13: 1057 | H13: 4226 | I13: 554 | J13: 5236 | K13: 16 | L13: 15907 | M13: condanna non definitiva
A14: Misure emesse nell'anno, in procedimenti iscritti e definiti nell'anno, con condanna non definitiva e con sospens. condiz. della pena | B14: 0 | C14: 789 | D14: 85 | E14: 158 | F14: 287 | G14: 285 | H14: 532 | I14: 42 | J14: 374 | K14: 4 | L14: 2556
A15: Misure emesse nell'anno, in procedimenti iscritti e definiti nell'anno, con assoluzione definitiva | B15: 0 | C15: 59 | D15: 14 | E15: 26 | F15: 27 | G15: 21 | H15: 104 | I15: 5 | J15: 98 | K15: 24 | L15: 378 | M15: assoluzione
A16: Misure emesse nell'anno, in procedimenti iscritti e definiti nell'anno, con assoluzione non definitiva | B16: 1 | C16: 225 | D16: 44 | E16: 103 | F16: 48 | G16: 90 | H16: 289 | I16: 40 | J16: 382 | K16: 25 | L16: 1247
A17: Misure emesse nell'anno, in procedimenti iscritti e definiti nell'anno, con altro tipo di sentenza (definitiva o non definitiva) (*) | B17: 1 | C17: 72 | D17: 37 | E17: 124 | F17: 15 | G17: 26 | H17: 115 | I17: 5 | J17: 111 | K17: 4 | L17: 510 | M17: altro
A18: MISURE EMESSE NELL'ANNO, IN PROCEDIMENTI ISCRITTI IN ANNI PRECEDENTI E DEFINITI NELL'ANNO
A19: Totale misure emesse nell'anno, in procedimenti iscritti in anni precedenti e definiti nell'anno | B19: 6 | C19: 986 | D19: 41 | E19: 464 | F19: 250 | G19: 669 | H19: 1977 | I19: 428 | J19: 989 | K19: 54 | L19: 5864 | M19: 5864
A20: Misure emesse nell'anno, in procedimenti iscritti in anni precedenti e definiti nell'anno, con condanna definitiva e senza sosp. condiz. pena | B20: 1 | C20: 150 | D20: 6 | E20: 48 | F20: 45 | G20: 110 | H20: 357 | I20: 50 | J20: 143 | K20: 6 | L20: 916 | M20: condanna definitiva
A21: Misure emesse nell'anno, in procedimenti iscritti in anni precedenti e definiti nell'anno, con condanna definitiva e con sosp. condiz. pena | B21: 0 | C21: 33 | D21: 4 | E21: 27 | F21: 5 | G21: 21 | H21: 38 | I21: 3 | J21: 28 | K21: 0 | L21: 159
A22: Misure emesse nell'anno, in procedimenti iscritti in anni precedenti e definiti nell'anno, con condanna non definitiva e senza sospens. condiz. della pena | B22: 4 | C22: 629 | D22: 18 | E22: 243 | F22: 154 | G22: 432 | H22: 1303 | I22: 322 | J22: 673 | K22: 9 | L22: 3787 | M22: condanna non definitiva
A23: Misure emesse nell'anno, in procedimenti iscritti in anni precedenti e definiti nell'anno, con condanna non definitiva e con sospens. condiz. della pena | B23: 1 | C23: 48 | D23: 5 | E23: 31 | F23: 15 | G23: 25 | H23: 53 | I23: 3 | J23: 23 | K23: 1 | L23: 205
A24: Misure emesse nell'anno, in procedimenti iscritti in anni precedenti e definiti nell'anno, con assoluzione definitiva | B24: 0 | C24: 18 | D24: 5 | E24: 16 | F24: 5 | G24: 11 | H24: 24 | I24: 3 | J24: 16 | K24: 19 | L24: 117 | M24: assoluzione
A25: Misure emesse nell'anno, in procedimenti iscritti in anni precedenti e definiti nell'anno, con assoluzione non definitiva | B25: 0 | C25: 92 | D25: 3 | E25: 65 | F25: 16 | G25: 62 | H25: 152 | I25: 38 | J25: 87 | K25: 13 | L25: 528
A26: Misure emesse nell'anno, in procedimenti iscritti in anni precedenti e definiti nell'anno, con altro tipo di sentenza (definitiva o non definitiva) (*) | B26: 0 | C26: 16 | D26: 0 | E26: 34 | F26: 10 | G26: 8 | H26: 50 | I26: 9 | J26: 19 | K26: 6 | L26: 152 | M26: altro
A27: AVVERTENZA: tutte le righe riportano il numero delle misure cautelari emesse nell'anno, a prescindere dal numero dei procedimenti o provvedimenti che le contengono
A28: (*) le due categorie "con altro tipo di sentenza" ricomprendono le misure emesse nei procedimenti definiti ex artt. 129 - 425 - 469 - 529 - 531 c.p.p. (restano quindi esclusi i procedimenti definiti per incompetenza)

Sheet ITALIA (2)
A1: MINISTERO DELLA GIUSTIZIA
A2: DIPARTIMENTO PER GLI AFFARI DI GIUSTIZIA
A3: Direzione Generale degli Affari Interni
A5: MISURE CAUTELARI PERSONALI (L. 47/2015) - emesse nell'anno 2021 - ITALIA
A7: MISURE CAUTELARI PERSONALI (Libro IV del Codice di Procedura Penale) | B7: art. 281: Divieto espatrio | C7: art. 282: Obbligo presentazione Polizia Giudiz. | D7: art. 282 bis comma 1: Allontanamento dalla casa familiare | E7: art. 282 ter: Divieto di avvicinamento (anche come prescrizione accessoria della m.c. di cui all'art. 282 bis c.1, ai sensi dell'art. 282 bis c.2) | F7: art. 283 comma 1: Divieto di dimora | G7: art. 283 comma 2: Obbligo di dimora | H7: art. 284 Arresti domiciliari: senza braccialetto | I7: art. 284 +275 bis Arresti domiciliari: con braccialetto | J7: art. 285 Custodia cautelare in carcere | K7: art. 286 Custodia in luogo di cura | L7: TOTALE
A8: Totale misure cautelari emesse nell'anno | B8: 54 | C8: 12816 | D8: 3181 | E8: 8444 | F8: 4532 | G8: 6467 | H8: 18036 | I8: 2808 | J8: 24126 | K8: 638 | L8: 81102
A9: MISURE EMESSE NELL'ANNO NEI PROCEDIMENTI DEFINITI NELL'ANNO
A10: Totale misure emesse nell'anno, nei procedimenti definiti nell'anno | B10: 12 | C10: 6381 | D10: 471 | E10: 1556 | F10: 2437 | G10: 2666 | H10: 8988 | I10: 1214 | J10: 8940 | K10: 140 | L10: 32805
A11: Misure emesse nell'anno, nei procedimenti definiti nell'anno, con condanna definitiva e senza sosp. condiz. pena | B11: 2 | C11: 1012 | D11: 50 | E11: 139 | F11: 460 | G11: 420 | H11: 1634 | I11: 153 | J11: 1561 | K11: 18 | L11: 5449 | M11: condanna definitiva
A12: Misure emesse nell'anno, nei procedimenti definiti nell'anno, con condanna definitiva e con sosp. condiz. pena | B12: 0 | C12: 480 | D12: 56 | E12: 138 | F12: 159 | G12: 229 | H12: 506 | I12: 40 | J12: 360 | K12: 1 | L12: 1969
A13: Misure emesse nell'anno, nei procedimenti definiti nell'anno, con condanna non definitiva e senza sospens. condiz. della pena | B13: 7 | C13: 3570 | D13: 172 | E13: 722 | F13: 1395 | G13: 1489 | H13: 5529 | I13: 876 | J13: 5909 | K13: 25 | L13: 19694 | M13: condanna non definitiva
A14: Misure emesse nell'anno, nei procedimenti definiti nell'anno, con condanna non definitiva e con sospens. condiz. della pena | B14: 1 | C14: 837 | D14: 90 | E14: 189 | F14: 302 | G14: 310 | H14: 585 | I14: 45 | J14: 397 | K14: 5 | L14: 2761
A15: Misure emesse nell'anno, nei procedimenti definiti nell'anno, con assoluzione definitiva | B15: 0 | C15: 77 | D15: 19 | E15: 42 | F15: 32 | G15: 32 | H15: 128 | I15: 8 | J15: 114 | K15: 43 | L15: 495 | M15: assoluzione
A16: Misure emesse nell'anno, nei procedimenti definiti nell'anno, con assoluzione non definitiva | B16: 1 | C16: 317 | D16: 47 | E16: 168 | F16: 64 | G16: 152 | H16: 441 | I16: 78 | J16: 469 | K16: 38 | L16: 1775
A17: Misure emesse nell'anno, nei procedimenti definiti nell'anno, con altro tipo di sentenza (definitiva o non definitiva) (*) | B17: 1 | C17: 88 | D17: 37 | E17: 158 | F17: 25 | G17: 34 | H17: 165 | I17: 14 | J17: 130 | K17: 10 | L17: 662 | M17: altro
A18: AVVERTENZA: tutte le righe riportano il numero delle misure cautelari emesse nell'anno, a prescindere dal numero dei procedimenti o provvedimenti che le contengono
A19: (*) la categoria "con altro tipo di sentenza" ricomprende le misure emesse nei procedimenti definiti ex artt. 129 - 425 - 469 - 529 - 531 c.p.p. (restano quindi esclusi i procedimenti definiti per incompetenza)

Sheet ITALIA % TIPO MISURA
A1: MINISTERO DELLA GIUSTIZIA
A2: DIPARTIMENTO PER GLI AFFARI DI GIUSTIZIA
A3: Direzione Generale degli Affari Interni
A4: .
A5: MISURE CAUTELARI PERSONALI (L. 47/2015) - emesse nell'anno 2021 - ITALIA - % PER TIPOLOGIA DI MISURA
A6: .
A7: MISURE CAUTELARI PERSONALI (Libro IV del Codice di Procedura Penale) | B7: art. 281: Divieto espatrio | C7: art. 282: Obbligo presentazione Polizia Giudiz. | D7: art. 282 bis comma 1: Allontanamento dalla casa familiare | E7: art. 282 ter: Divieto di avvicinamento (anche come prescrizione accessoria della m.c. di cui all'art. 282 bis c.1, ai sensi dell'art. 282 bis c.2) | F7: art. 283 comma 1: Divieto di dimora | G7: art. 283 comma 2: Obbligo di dimora | H7: art. 284 Arresti domiciliari: senza braccialetto | I7: art. 284 +275 bis Arresti domiciliari: con braccialetto | J7: art. 285 Custodia cautelare in carcere | K7: art. 286 Custodia in luogo di cura | L7: TOTALE
A8: Totale misure cautelari emesse nell'anno | B8: ='ITALIA (1)'!B8/'ITALIA (1)'!$L8 -> 0.00066582822 | C8: ='ITALIA (1)'!C8/'ITALIA (1)'!$L8 -> 0.15802323 | D8: ='ITALIA (1)'!D8/'ITALIA (1)'!$L8 -> 0.039222214 | E8: ='ITALIA (1)'!E8/'ITALIA (1)'!$L8 -> 0.1041158 | F8: ='ITALIA (1)'!F8/'ITALIA (1)'!$L8 -> 0.05588025 | G8: ='ITALIA (1)'!G8/'ITALIA (1)'!$L8 -> 0.079739094 | H8: ='ITALIA (1)'!H8/'ITALIA (1)'!$L8 -> 0.22238662 | I8: ='ITALIA (1)'!I8/'ITALIA (1)'!$L8 -> 0.034623067 | ... K8: ='ITALIA (1)'!K8/'ITALIA (1)'!$L8 -> 0.0078666371 | L8: =SUM(B8:K8) -> 1
A9: MISURE EMESSE NELL'ANNO, IN PROCEDIMENTI ISCRITTI NELL'ANNO E DEFINITI NELL'ANNO
A10: Totale misure emesse nell'anno, in procedimenti iscritti e definiti nell'anno | B10: ='ITALIA (1)'!B10/'ITALIA (1)'!$L10 -> 0.00022270888 | C10: ='ITALIA (1)'!C10/'ITALIA (1)'!$L10 -> 0.2002524 | D10: ='ITALIA (1)'!D10/'ITALIA (1)'!$L10 -> 0.015960803 | E10: ='ITALIA (1)'!E10/'ITALIA (1)'!$L10 -> 0.040533017 | F10: ='ITALIA (1)'!F10/'ITALIA (1)'!$L10 -> 0.081177388 | G10: ='ITALIA (1)'!G10/'ITALIA (1)'!$L10 -> 0.07412494 | H10: ='ITALIA (1)'!H10/'ITALIA (1)'!$L10 -> 0.26023533 | I10: ='ITALIA (1)'!I10/'ITALIA (1)'!$L10 -> 0.029174864 | ... K10: ='ITALIA (1)'!K10/'ITALIA (1)'!$L10 -> 0.0031921606 | L10: =SUM(B10:K10) -> 1
A11: Misure emesse nell'anno, in procedimenti iscritti e definiti nell'anno, con condanna definitiva e senza sosp. condiz. pena | B11: ='ITALIA (1)'!B11/'ITALIA (1)'!$L11 -> 0.00022060446 | C11: ='ITALIA (1)'!C11/'ITALIA (1)'!$L11 -> 0.19016104 | D11: ='ITALIA (1)'!D11/'ITALIA (1)'!$L11 -> 0.0097065961 | E11: ='ITALIA (1)'!E11/'ITALIA (1)'!$L11 -> 0.020075006 | F11: ='ITALIA (1)'!F11/'ITALIA (1)'!$L11 -> 0.091550849 | G11: ='ITALIA (1)'!G11/'ITALIA (1)'!$L11 -> 0.068387381 | H11: ='ITALIA (1)'!H11/'ITALIA (1)'!$L11 -> 0.28171189 | I11: ='ITALIA (1)'!I11/'ITALIA (1)'!$L11 -> 0.022722259 | ... K11: ='ITALIA (1)'!K11/'ITALIA (1)'!$L11 -> 0.0026472535 | L11: =SUM(B11:K11) -> 1 | M11: condanna definitiva
A12: Misure emesse nell'anno, in procedimenti iscritti e definiti nell'anno, con condanna definitiva e con sosp. condiz. pena | B12: ='ITALIA (1)'!B12/'ITALIA (1)'!$L12 -> 0 | C12: ='ITALIA (1)'!C12/'ITALIA (1)'!$L12 -> 0.24696133 | D12: ='ITALIA (1)'!D12/'ITALIA (1)'!$L12 -> 0.028729282 | E12: ='ITALIA (1)'!E12/'ITALIA (1)'!$L12 -> 0.061325967 | F12: ='ITALIA (1)'!F12/'ITALIA (1)'!$L12 -> 0.085082873 | G12: ='ITALIA (1)'!G12/'ITALIA (1)'!$L12 -> 0.11491713 | H12: ='ITALIA (1)'!H12/'ITALIA (1)'!$L12 -> 0.25856354 | I12: ='ITALIA (1)'!I12/'ITALIA (1)'!$L12 -> 0.020441989 | ... K12: ='ITALIA (1)'!K12/'ITALIA (1)'!$L12 -> 0.00055248619 | L12: =SUM(B12:K12) -> 1
A13: Misure emesse nell'anno, in procedimenti iscritti e definiti nell'anno, con condanna non definitiva e senza sospens. condiz. della pena | B13: ='ITALIA (1)'!B13/'ITALIA (1)'!$L13 -> 0.00018859622 | C13: ='ITALIA (1)'!C13/'ITALIA (1)'!$L13 -> 0.18488716 | D13: ='ITALIA (1)'!D13/'ITALIA (1)'!$L13 -> 0.0096812724 | E13: ='ITALIA (1)'!E13/'ITALIA (1)'!$L13 -> 0.030112529 | F13: ='ITALIA (1)'!F13/'ITALIA (1)'!$L13 -> 0.078015968 | G13: ='ITALIA (1)'!G13/'ITALIA (1)'!$L13 -> 0.066448733 | H13: ='ITALIA (1)'!H13/'ITALIA (1)'!$L13 -> 0.2656692 | I13: ='ITALIA (1)'!I13/'ITALIA (1)'!$L13 -> 0.034827434 | ... K13: ='ITALIA (1)'!K13/'ITALIA (1)'!$L13 -> 0.0010058465 | L13: =SUM(B13:K13) -> 1 | M13: condanna non definitiva
A14: Misure emesse nell'anno, in procedimenti iscritti e definiti nell'anno, con condanna non definitiva e con sospens. condiz. della pena | B14: ='ITALIA (1)'!B14/'ITALIA (1)'!$L14 -> 0 | C14: ='ITALIA (1)'!C14/'ITALIA (1)'!$L14 -> 0.30868545 | D14: ='ITALIA (1)'!D14/'ITALIA (1)'!$L14 -> 0.033255086 | E14: ='ITALIA (1)'!E14/'ITALIA (1)'!$L14 -> 0.061815336 | F14: ='ITALIA (1)'!F14/'ITALIA (1)'!$L14 -> 0.11228482 | G14: ='ITALIA (1)'!G14/'ITALIA (1)'!$L14 -> 0.11150235 | H14: ='ITALIA (1)'!H14/'ITALIA (1)'!$L14 -> 0.20813772 | I14: ='ITALIA (1)'!I14/'ITALIA (1)'!$L14 -> 0.016431925 | ... K14: ='ITALIA (1)'!K14/'ITALIA (1)'!$L14 -> 0.0015649452 | L14: =SUM(B14:K14) -> 1
A15: Misure emesse nell'anno, in procedimenti iscritti e definiti nell'anno, con assoluzione definitiva | B15: ='ITALIA (1)'!B15/'ITALIA (1)'!$L15 -> 0 | C15: ='ITALIA (1)'!C15/'ITALIA (1)'!$L15 -> 0.15608466 | D15: ='ITALIA (1)'!D15/'ITALIA (1)'!$L15 -> 0.037037037 | E15: ='ITALIA (1)'!E15/'ITALIA (1)'!$L15 -> 0.068783069 | F15: ='ITALIA (1)'!F15/'ITALIA (1)'!$L15 -> 0.071428571 | G15: ='ITALIA (1)'!G15/'ITALIA (1)'!$L15 -> 0.055555556 | H15: ='ITALIA (1)'!H15/'ITALIA (1)'!$L15 -> 0.27513228 | I15: ='ITALIA (1)'!I15/'ITALIA (1)'!$L15 -> 0.013227513 | ... K15: ='ITALIA (1)'!K15/'ITALIA (1)'!$L15 -> 0.063492063 | L15: =SUM(B15:K15) -> 1 | M15: assoluzione
A16: Misure emesse nell'anno, in procedimenti iscritti e definiti nell'anno, con assoluzione non definitiva | B16: ='ITALIA (1)'!B16/'ITALIA (1)'!$L16 -> 0.00080192462 | C16: ='ITALIA (1)'!C16/'ITALIA (1)'!$L16 -> 0.18043304 | D16: ='ITALIA (1)'!D16/'ITALIA (1)'!$L16 -> 0.035284683 | E16: ='ITALIA (1)'!E16/'ITALIA (1)'!$L16 -> 0.082598236 | F16: ='ITALIA (1)'!F16/'ITALIA (1)'!$L16 -> 0.038492382 | G16: ='ITALIA (1)'!G16/'ITALIA (1)'!$L16 -> 0.072173216 | H16: ='ITALIA (1)'!H16/'ITALIA (1)'!$L16 -> 0.23175621 | I16: ='ITALIA (1)'!I16/'ITALIA (1)'!$L16 -> 0.032076985 | ... K16: ='ITALIA (1)'!K16/'ITALIA (1)'!$L16 -> 0.020048115 | L16: =SUM(B16:K16) -> 1
A17: Misure emesse nell'anno, in procedimenti iscritti e definiti nell'anno, con altro tipo di sentenza (definitiva o non definitiva) (*) | B17: ='ITALIA (1)'!B17/'ITALIA (1)'!$L17 -> 0.0019607843 | C17: ='ITALIA (1)'!C17/'ITALIA (1)'!$L17 -> 0.14117647 | D17: ='ITALIA (1)'!D17/'ITALIA (1)'!$L17 -> 0.07254902 | E17: ='ITALIA (1)'!E17/'ITALIA (1)'!$L17 -> 0.24313725 | F17: ='ITALIA (1)'!F17/'ITALIA (1)'!$L17 -> 0.029411765 | G17: ='ITALIA (1)'!G17/'ITALIA (1)'!$L17 -> 0.050980392 | H17: ='ITALIA (1)'!H17/'ITALIA (1)'!$L17 -> 0.2254902 | I17: ='ITALIA (1)'!I17/'ITALIA (1)'!$L17 -> 0.0098039216 | ... K17: ='ITALIA (1)'!K17/'ITALIA (1)'!$L17 -> 0.0078431373 | L17: =SUM(B17:K17) -> 1 | M17: altro
A18: MISURE EMESSE NELL'ANNO, IN PROCEDIMENTI ISCRITTI IN ANNI PRECEDENTI E DEFINITI NELL'ANNO
A19: Totale misure emesse nell'anno, in procedimenti iscritti in anni precedenti e definiti nell'anno | B19: ='ITALIA (1)'!B19/'ITALIA (1)'!$L19 -> 0.0010231924 | C19: ='ITALIA (1)'!C19/'ITALIA (1)'!$L19 -> 0.16814461 | D19: ='ITALIA (1)'!D19/'ITALIA (1)'!$L19 -> 0.0069918145 | E19: ='ITALIA (1)'!E19/'ITALIA (1)'!$L19 -> 0.079126876 | F19: ='ITALIA (1)'!F19/'ITALIA (1)'!$L19 -> 0.042633015 | G19: ='ITALIA (1)'!G19/'ITALIA (1)'!$L19 -> 0.11408595 | H19: ='ITALIA (1)'!H19/'ITALIA (1)'!$L19 -> 0.33714188 | I19: ='ITALIA (1)'!I19/'ITALIA (1)'!$L19 -> 0.072987722 | ... K19: ='ITALIA (1)'!K19/'ITALIA (1)'!$L19 -> 0.0092087312 | L19: =SUM(B19:K19) -> 1
A20: Misure emesse nell'anno, in procedimenti iscritti in anni precedenti e definiti nell'anno, con condanna definitiva e senza sosp. condiz. pena | B20: ='ITALIA (1)'!B20/'ITALIA (1)'!$L20 -> 0.0010917031 | C20: ='ITALIA (1)'!C20/'ITALIA (1)'!$L20 -> 0.16375546 | D20: ='ITALIA (1)'!D20/'ITALIA (1)'!$L20 -> 0.0065502183 | E20: ='ITALIA (1)'!E20/'ITALIA (1)'!$L20 -> 0.052401747 | F20: ='ITALIA (1)'!F20/'ITALIA (1)'!$L20 -> 0.049126638 | G20: ='ITALIA (1)'!G20/'ITALIA (1)'!$L20 -> 0.12008734 | H20: ='ITALIA (1)'!H20/'ITALIA (1)'!$L20 -> 0.38973799 | I20: ='ITALIA (1)'!I20/'ITALIA (1)'!$L20 -> 0.054585153 | ... K20: ='ITALIA (1)'!K20/'ITALIA (1)'!$L20 -> 0.0065502183 | L20: =SUM(B20:K20) -> 1 | M20: condanna definitiva
A21: Misure emesse nell'anno, in procedimenti iscritti in anni precedenti e definiti nell'anno, con condanna definitiva e con sosp. condiz. pena | B21: ='ITALIA (1)'!B21/'ITALIA (1)'!$L21 -> 0 | C21: ='ITALIA (1)'!C21/'ITALIA (1)'!$L21 -> 0.20754717 | D21: ='ITALIA (1)'!D21/'ITALIA (1)'!$L21 -> 0.025157233 | E21: ='ITALIA (1)'!E21/'ITALIA (1)'!$L21 -> 0.16981132 | F21: ='ITALIA (1)'!F21/'ITALIA (1)'!$L21 -> 0.031446541 | G21: ='ITALIA (1)'!G21/'ITALIA (1)'!$L21 -> 0.13207547 | H21: ='ITALIA (1)'!H21/'ITALIA (1)'!$L21 -> 0.23899371 | I21: ='ITALIA (1)'!I21/'ITALIA (1)'!$L21 -> 0.018867925 | ... K21: ='ITALIA (1)'!K21/'ITALIA (1)'!$L21 -> 0 | L21: =SUM(B21:K21) -> 1
A22: Misure emesse nell'anno, in procedimenti iscritti in anni precedenti e definiti nell'anno, con condanna non definitiva e senza sospens. condiz. della pena | B22: ='ITALIA (1)'!B22/'ITALIA (1)'!$L22 -> 0.001056245 | C22: ='ITALIA (1)'!C22/'ITALIA (1)'!$L22 -> 0.16609453 | D22: ='ITALIA (1)'!D22/'ITALIA (1)'!$L22 -> 0.0047531027 | E22: ='ITALIA (1)'!E22/'ITALIA (1)'!$L22 -> 0.064166887 | F22: ='ITALIA (1)'!F22/'ITALIA (1)'!$L22 -> 0.040665434 | G22: ='ITALIA (1)'!G22/'ITALIA (1)'!$L22 -> 0.11407447 | H22: ='ITALIA (1)'!H22/'ITALIA (1)'!$L22 -> 0.34407182 | I22: ='ITALIA (1)'!I22/'ITALIA (1)'!$L22 -> 0.085027726 | ... K22: ='ITALIA (1)'!K22/'ITALIA (1)'!$L22 -> 0.0023765514 | L22: =SUM(B22:K22) -> 1 | M22: condanna non definitiva
A23: Misure emesse nell'anno, in procedimenti iscritti in anni precedenti e definiti nell'anno, con condanna non definitiva e con sospens. condiz. della pena | B23: ='ITALIA (1)'!B23/'ITALIA (1)'!$L23 -> 0.0048780488 | C23: ='ITALIA (1)'!C23/'ITALIA (1)'!$L23 -> 0.23414634 | D23: ='ITALIA (1)'!D23/'ITALIA (1)'!$L23 -> 0.024390244 | E23: ='ITALIA (1)'!E23/'ITALIA (1)'!$L23 -> 0.15121951 | F23: ='ITALIA (1)'!F23/'ITALIA (1)'!$L23 -> 0.073170732 | G23: ='ITALIA (1)'!G23/'ITALIA (1)'!$L23 -> 0.12195122 | H23: ='ITALIA (1)'!H23/'ITALIA (1)'!$L23 -> 0.25853659 | I23: ='ITALIA (1)'!I23/'ITALIA (1)'!$L23 -> 0.014634146 | ... K23: ='ITALIA (1)'!K23/'ITALIA (1)'!$L23 -> 0.0048780488 | L23: =SUM(B23:K23) -> 1
A24: Misure emesse nell'anno, in procedimenti iscritti in anni precedenti e definiti nell'anno, con assoluzione definitiva | B24: ='ITALIA (1)'!B24/'ITALIA (1)'!$L24 -> 0 | C24: ='ITALIA (1)'!C24/'ITALIA (1)'!$L24 -> 0.15384615 | D24: ='ITALIA (1)'!D24/'ITALIA (1)'!$L24 -> 0.042735043 | E24: ='ITALIA (1)'!E24/'ITALIA (1)'!$L24 -> 0.13675214 | F24: ='ITALIA (1)'!F24/'ITALIA (1)'!$L24 -> 0.042735043 | G24: ='ITALIA (1)'!G24/'ITALIA (1)'!$L24 -> 0.094017094 | H24: ='ITALIA (1)'!H24/'ITALIA (1)'!$L24 -> 0.20512821 | I24: ='ITALIA (1)'!I24/'ITALIA (1)'!$L24 -> 0.025641026 | ... K24: ='ITALIA (1)'!K24/'ITALIA (1)'!$L24 -> 0.16239316 | L24: =SUM(B24:K24) -> 1 | M24: assoluzione
A25: Misure emesse nell'anno, in procedimenti iscritti in anni precedenti e definiti nell'anno, con assoluzione non definitiva | B25: ='ITALIA (1)'!B25/'ITALIA (1)'!$L25 -> 0 | C25: ='ITALIA (1)'!C25/'ITALIA (1)'!$L25 -> 0.17424242 | D25: ='ITALIA (1)'!D25/'ITALIA (1)'!$L25 -> 0.0056818182 | E25: ='ITALIA (1)'!E25/'ITALIA (1)'!$L25 -> 0.12310606 | F25: ='ITALIA (1)'!F25/'ITALIA (1)'!$L25 -> 0.03030303 | G25: ='ITALIA (1)'!G25/'ITALIA (1)'!$L25 -> 0.11742424 | H25: ='ITALIA (1)'!H25/'ITALIA (1)'!$L25 -> 0.28787879 | I25: ='ITALIA (1)'!I25/'ITALIA (1)'!$L25 -> 0.071969697 | ... K25: ='ITALIA (1)'!K25/'ITALIA (1)'!$L25 -> 0.024621212 | L25: =SUM(B25:K25) -> 1
A26: Misure emesse nell'anno, in procedimenti iscritti in anni precedenti e definiti nell'anno, con altro tipo di sentenza (definitiva o non definitiva) (*) | B26: ='ITALIA (1)'!B26/'ITALIA (1)'!$L26 -> 0 | C26: ='ITALIA (1)'!C26/'ITALIA (1)'!$L26 -> 0.10526316 | D26: ='ITALIA (1)'!D26/'ITALIA (1)'!$L26 -> 0 | E26: ='ITALIA (1)'!E26/'ITALIA (1)'!$L26 -> 0.22368421 | F26: ='ITALIA (1)'!F26/'ITALIA (1)'!$L26 -> 0.065789474 | G26: ='ITALIA (1)'!G26/'ITALIA (1)'!$L26 -> 0.052631579 | H26: ='ITALIA (1)'!H26/'ITALIA (1)'!$L26 -> 0.32894737 | I26: ='ITALIA (1)'!I26/'ITALIA (1)'!$L26 -> 0.059210526 | ... K26: ='ITALIA (1)'!K26/'ITALIA (1)'!$L26 -> 0.039473684 | L26: =SUM(B26:K26) -> 1 | M26: altro
A27: AVVERTENZA: tutte le righe riportano il numero delle misure cautelari emesse nell'anno, a prescindere dal numero dei procedimenti o provvedimenti che le contengono
A28: (*) la categoria "con altro tipo di sentenza" ricomprende le misure emesse nei procedimenti definiti ex artt. 129 - 425 - 469 - 529 - 531 c.p.p. (restano quindi esclusi i procedimenti definiti per incompetenza)

Sheet ITALIA % TIPO SENTENZA
A1: MINISTERO DELLA GIUSTIZIA
A2: DIPARTIMENTO PER GLI AFFARI DI GIUSTIZIA
A3: Direzione Generale degli Affari Interni
A4: .
A5: MISURE CAUTELARI PERSONALI (L. 47/2015) - emesse nell'anno 2021 - ITALIA - % PER TIPOLOGIA DI SENTENZA
A6: .
A7: MISURE CAUTELARI PERSONALI (Libro IV del Codice di Procedura Penale) | B7: art. 281: Divieto espatrio | C7: art. 282: Obbligo presentazione Polizia Giudiz. | D7: art. 282 bis comma 1: Allontanamento dalla casa familiare | E7: art. 282 ter: Divieto di avvicinamento (anche come prescrizione accessoria della m.c. di cui all'art. 282 bis c.1, ai sensi dell'art. 282 bis c.2) | F7: art. 283 comma 1: Divieto di dimora | G7: art. 283 comma 2: Obbligo di dimora | H7: art. 284 Arresti domiciliari: senza braccialetto | I7: art. 284 +275 bis Arresti domiciliari: con braccialetto | J7: art. 285 Custodia cautelare in carcere | K7: art. 286 Custodia in luogo di cura | L7: TOTALE
A8: Totale misure cautelari emesse nell'anno | B8: ='ITALIA (1)'!B8 -> 54 | C8: ='ITALIA (1)'!C8 -> 12816 | D8: ='ITALIA (1)'!D8 -> 3181 | E8: ='ITALIA (1)'!E8 -> 8444 | F8: ='ITALIA (1)'!F8 -> 4532 | G8: ='ITALIA (1)'!G8 -> 6467 | H8: ='ITALIA (1)'!H8 -> 18036 | I8: ='ITALIA (1)'!I8 -> 2808 | ... K8: ='ITALIA (1)'!K8 -> 638 | L8: =IF(SUM(B8:K8)='ITALIA (1)'!L8,'ITALIA (1)'!L8) -> 81102
A9: MISURE EMESSE NELL'ANNO NEI PROCEDIMENTI DEFINITI NELL'ANNO
A10: Totale misure emesse nell'anno, nei procedimenti definiti nell'anno | B10: =SUM(B11:B17) -> 1 | C10: =SUM(C11:C17) -> 1 | D10: =SUM(D11:D17) -> 1 | E10: =SUM(E11:E17) -> 1 | F10: =SUM(F11:F17) -> 1 | G10: =SUM(G11:G17) -> 1 | H10: =SUM(H11:H17) -> 1 | I10: =SUM(I11:I17) -> 1 | ... L10: =SUM(L11:L17) -> 1
A11: Misure emesse nell'anno, in procedimenti iscritti e definiti nell'anno, con condanna definitiva e senza sosp. condiz. pena | B11: ='ITALIA (2)'!B11/'ITALIA (2)'!B$10 -> 0.16666667 | C11: ='ITALIA (2)'!C11/'ITALIA (2)'!C$10 -> 0.15859583 | D11: ='ITALIA (2)'!D11/'ITALIA (2)'!D$10 -> 0.10615711 | E11: ='ITALIA (2)'!E11/'ITALIA (2)'!E$10 -> 0.08933162 | F11: ='ITALIA (2)'!F11/'ITALIA (2)'!F$10 -> 0.18875667 | G11: ='ITALIA (2)'!G11/'ITALIA (2)'!G$10 -> 0.15753938 | H11: ='ITALIA (2)'!H11/'ITALIA (2)'!H$10 -> 0.18179795 | I11: ='ITALIA (2)'!I11/'ITALIA (2)'!I$10 -> 0.12602965 | ... L11: ='ITALIA (2)'!L11/'ITALIA (2)'!L$10 -> 0.16610273 | M11: condanna definitiva | N11: =SUM(L11:L14) -> 0.91062338
A12: Misure emesse nell'anno, in procedimenti iscritti e definiti nell'anno, con condanna definitiva e con sosp. condiz. pena | B12: ='ITALIA (2)'!B12/'ITALIA (2)'!B$10 -> 0 | C12: ='ITALIA (2)'!C12/'ITALIA (2)'!C$10 -> 0.075223319 | D12: ='ITALIA (2)'!D12/'ITALIA (2)'!D$10 -> 0.11889597 | E12: ='ITALIA (2)'!E12/'ITALIA (2)'!E$10 -> 0.088688946 | F12: ='ITALIA (2)'!F12/'ITALIA (2)'!F$10 -> 0.065244153 | G12: ='ITALIA (2)'!G12/'ITALIA (2)'!G$10 -> 0.085896474 | H12: ='ITALIA (2)'!H12/'ITALIA (2)'!H$10 -> 0.056297285 | I12: ='ITALIA (2)'!I12/'ITALIA (2)'!I$10 -> 0.032948929 | ... L12: ='ITALIA (2)'!L12/'ITALIA (2)'!L$10 -> 0.060021338
A13: Misure emesse nell'anno, in procedimenti iscritti e definiti nell'anno, con condanna non definitiva e senza sospens. condiz. della pena | B13: ='ITALIA (2)'!B13/'ITALIA (2)'!B$10 -> 0.58333333 | C13: ='ITALIA (2)'!C13/'ITALIA (2)'!C$10 -> 0.55947344 | D13: ='ITALIA (2)'!D13/'ITALIA (2)'!D$10 -> 0.36518047 | E13: ='ITALIA (2)'!E13/'ITALIA (2)'!E$10 -> 0.46401028 | F13: ='ITALIA (2)'!F13/'ITALIA (2)'!F$10 -> 0.57242511 | G13: ='ITALIA (2)'!G13/'ITALIA (2)'!G$10 -> 0.55851463 | H13: ='ITALIA (2)'!H13/'ITALIA (2)'!H$10 -> 0.61515354 | I13: ='ITALIA (2)'!I13/'ITALIA (2)'!I$10 -> 0.72158155 | ... L13: ='ITALIA (2)'!L13/'ITALIA (2)'!L$10 -> 0.60033531 | M13: condanna non definitiva
A14: Misure emesse nell'anno, in procedimenti iscritti e definiti nell'anno, con condanna non definitiva e con sospens. condiz. della pena | B14: ='ITALIA (2)'!B14/'ITALIA (2)'!B$10 -> 0.083333333 | C14: ='ITALIA (2)'!C14/'ITALIA (2)'!C$10 -> 0.13117066 | D14: ='ITALIA (2)'!D14/'ITALIA (2)'!D$10 -> 0.1910828 | E14: ='ITALIA (2)'!E14/'ITALIA (2)'!E$10 -> 0.1214653 | F14: ='ITALIA (2)'!F14/'ITALIA (2)'!F$10 -> 0.12392286 | G14: ='ITALIA (2)'!G14/'ITALIA (2)'!G$10 -> 0.11627907 | H14: ='ITALIA (2)'!H14/'ITALIA (2)'!H$10 -> 0.065086782 | I14: ='ITALIA (2)'!I14/'ITALIA (2)'!I$10 -> 0.037067545 | ... L14: ='ITALIA (2)'!L14/'ITALIA (2)'!L$10 -> 0.084163999
A15: Misure emesse nell'anno, in procedimenti iscritti e definiti nell'anno, con assoluzione definitiva | B15: ='ITALIA (2)'!B15/'ITALIA (2)'!B$10 -> 0 | C15: ='ITALIA (2)'!C15/'ITALIA (2)'!C$10 -> 0.012067074 | D15: ='ITALIA (2)'!D15/'ITALIA (2)'!D$10 -> 0.040339703 | E15: ='ITALIA (2)'!E15/'ITALIA (2)'!E$10 -> 0.026992288 | F15: ='ITALIA (2)'!F15/'ITALIA (2)'!F$10 -> 0.013130899 | G15: ='ITALIA (2)'!G15/'ITALIA (2)'!G$10 -> 0.012003001 | H15: ='ITALIA (2)'!H15/'ITALIA (2)'!H$10 -> 0.014241211 | I15: ='ITALIA (2)'!I15/'ITALIA (2)'!I$10 -> 0.0065897858 | ... L15: ='ITALIA (2)'!L15/'ITALIA (2)'!L$10 -> 0.015089163 | M15: assoluzione | N15: =SUM(L15:L16) -> 0.069196769
A16: Misure emesse nell'anno, in procedimenti iscritti e definiti nell'anno, con assoluzione non definitiva | B16: ='ITALIA (2)'!B16/'ITALIA (2)'!B$10 -> 0.083333333 | C16: ='ITALIA (2)'!C16/'ITALIA (2)'!C$10 -> 0.049678734 | D16: ='ITALIA (2)'!D16/'ITALIA (2)'!D$10 -> 0.099787686 | E16: ='ITALIA (2)'!E16/'ITALIA (2)'!E$10 -> 0.10796915 | F16: ='ITALIA (2)'!F16/'ITALIA (2)'!F$10 -> 0.026261797 | G16: ='ITALIA (2)'!G16/'ITALIA (2)'!G$10 -> 0.057014254 | H16: ='ITALIA (2)'!H16/'ITALIA (2)'!H$10 -> 0.049065421 | I16: ='ITALIA (2)'!I16/'ITALIA (2)'!I$10 -> 0.064250412 | ... L16: ='ITALIA (2)'!L16/'ITALIA (2)'!L$10 -> 0.054107606
A17: Misure emesse nell'anno, in procedimenti iscritti e definiti nell'anno, con altro tipo di sentenza (definitiva o non definitiva) (*) | B17: ='ITALIA (2)'!B17/'ITALIA (2)'!B$10 -> 0.083333333 | C17: ='ITALIA (2)'!C17/'ITALIA (2)'!C$10 -> 0.013790942 | D17: ='ITALIA (2)'!D17/'ITALIA (2)'!D$10 -> 0.078556263 | E17: ='ITALIA (2)'!E17/'ITALIA (2)'!E$10 -> 0.10154242 | F17: ='ITALIA (2)'!F17/'ITALIA (2)'!F$10 -> 0.010258515 | G17: ='ITALIA (2)'!G17/'ITALIA (2)'!G$10 -> 0.012753188 | H17: ='ITALIA (2)'!H17/'ITALIA (2)'!H$10 -> 0.01835781 | I17: ='ITALIA (2)'!I17/'ITALIA (2)'!I$10 -> 0.011532125 | ... L17: ='ITALIA (2)'!L17/'ITALIA (2)'!L$10 -> 0.020179851 | M17: altro | N17: =L17 -> 0.020179851
A18: AVVERTENZA: tutte le righe riportano il numero delle misure cautelari emesse nell'anno, a prescindere dal numero dei procedimenti o provvedimenti che le contengono
A19: (*) le due categorie "con altro tipo di sentenza" ricomprendono le misure emesse nei procedimenti definiti ex artt. 129 - 425 - 469 - 529 - 531 c.p.p. (restano quindi esclusi i procedimenti definiti per incompetenza)

Sheet -----

Sheet ITALIA GIP
A1: MINISTERO DELLA GIUSTIZIA
A2: DIPARTIMENTO PER GLI AFFARI DI GIUSTIZIA
A3: Direzione Generale degli Affari Interni
A5: MISURE CAUTELARI PERSONALI (L. 47/2015) - emesse nell'anno 2021 - ITALIA: UFFICI GIP
A7: MISURE CAUTELARI PERSONALI (Libro IV del Codice di Procedura Penale) | B7: art. 281: Divieto espatrio | C7: art. 282: Obbligo presentazione Polizia Giudiz. | D7: art. 282 bis comma 1: Allontanamento dalla casa familiare | E7: art. 282 ter: Divieto di avvicinamento (anche come prescrizione accessoria della m.c. di cui all'art. 282 bis c.1, ai sensi dell'art. 282 bis c.2) | F7: art. 283 comma 1: Divieto di dimora | G7: art. 283 comma 2: Obbligo di dimora | H7: art. 284 Arresti domiciliari: senza braccialetto | I7: art. 284 +275 bis Arresti domiciliari: con braccialetto | J7: art. 285 Custodia cautelare in carcere | K7: art. 286 Custodia in luogo di cura | L7: TOTALE
A8: Totale misure cautelari emesse nell'anno | B8: 42 | C8: 6088 | D8: 2954 | E8: 7502 | F8: 2015 | G8: 4233 | H8: 13425 | I8: 2321 | J8: 20256 | K8: 568 | L8: 59404
A9: MISURE EMESSE NELL'ANNO, IN PROCEDIMENTI ISCRITTI NELL'ANNO E DEFINITI NELL'ANNO
A10: Totale misure emesse nell'anno, in procedimenti iscritti e definiti nell'anno | B10: 3 | C10: 980 | D10: 381 | E10: 865 | F10: 310 | G10: 745 | H10: 3467 | I10: 477 | J10: 4798 | K10: 48 | L10: 12074
A11: Misure emesse nell'anno, in procedimenti iscritti e definiti nell'anno, con condanna definitiva e senza sosp. condiz. pena | B11: 1 | C11: 157 | D11: 41 | E11: 75 | F11: 44 | G11: 130 | H11: 571 | I11: 59 | J11: 687 | K11: 8 | L11: 1773 | M11: condanna definitiva
A12: Misure emesse nell'anno, in procedimenti iscritti e definiti nell'anno, con condanna definitiva e con sosp. condiz. pena | B12: 0 | C12: 138 | D12: 49 | E12: 99 | F12: 36 | G12: 107 | H12: 268 | I12: 29 | J12: 209 | K12: 0 | L12: 935
A13: Misure emesse nell'anno, in procedimenti iscritti e definiti nell'anno, con condanna non definitiva e senza sospens. condiz. della pena | B13: 1 | C13: 452 | D13: 135 | E13: 371 | F13: 147 | G13: 341 | H13: 2015 | I13: 326 | J13: 3228 | K13: 10 | L13: 7026 | M13: condanna non definitiva
A14: Misure emesse nell'anno, in procedimenti iscritti e definiti nell'anno, con condanna non definitiva e con sospens. condiz. della pena | B14: 0 | C14: 156 | D14: 76 | E14: 137 | F14: 66 | G14: 126 | H14: 324 | I14: 36 | J14: 260 | K14: 3 | L14: 1184
A15: Misure emesse nell'anno, in procedimenti iscritti e definiti nell'anno, con assoluzione definitiva | B15: 0 | C15: 4 | D15: 8 | E15: 16 | F15: 6 | G15: 4 | H15: 45 | I15: 3 | J15: 52 | K15: 9 | L15: 147 | M15: assoluzione
A16: Misure emesse nell'anno, in procedimenti iscritti e definiti nell'anno, con assoluzione non definitiva | B16: 1 | C16: 49 | D16: 39 | E16: 64 | F16: 4 | G16: 27 | H16: 167 | I16: 21 | J16: 276 | K16: 14 | L16: 662
A17: Misure emesse nell'anno, in procedimenti iscritti e definiti nell'anno, con altro tipo di sentenza (definitiva o non definitiva) (*) | B17: 0 | C17: 24 | D17: 33 | E17: 103 | F17: 7 | G17: 10 | H17: 77 | I17: 3 | J17: 86 | K17: 4 | L17: 347 | M17: altro
A18: MISURE EMESSE NELL'ANNO, IN PROCEDIMENTI ISCRITTI IN ANNI PRECEDENTI E DEFINITI NELL'ANNO
A19: Totale misure emesse nell'anno, in procedimenti iscritti in anni precedenti e definiti nell'anno | B19: 4 | C19: 654 | D19: 29 | E19: 277 | F19: 155 | G19: 495 | H19: 1619 | I19: 358 | J19: 733 | K19: 43 | L19: 4367
A20: Misure emesse nell'anno, in procedimenti iscritti in anni precedenti e definiti nell'anno, con condanna definitiva e senza sosp. condiz. pena | B20: 1 | C20: 110 | D20: 6 | E20: 37 | F20: 25 | G20: 84 | H20: 296 | I20: 46 | J20: 94 | K20: 4 | L20: 703 | M20: condanna definitiva
A21: Misure emesse nell'anno, in procedimenti iscritti in anni precedenti e definiti nell'anno, con condanna definitiva e con sosp. condiz. pena | B21: 0 | C21: 22 | D21: 3 | E21: 26 | F21: 3 | G21: 19 | H21: 34 | I21: 3 | J21: 18 | K21: 0 | L21: 128
A22: Misure emesse nell'anno, in procedimenti iscritti in anni precedenti e definiti nell'anno, con condanna non definitiva e senza sospens. condiz. della pena | B22: 2 | C22: 420 | D22: 13 | E22: 137 | F22: 103 | G22: 325 | H22: 1074 | I22: 269 | J22: 514 | K22: 7 | L22: 2864 | M22: condanna non definitiva
A23: Misure emesse nell'anno, in procedimenti iscritti in anni precedenti e definiti nell'anno, con condanna non definitiva e con sospens. condiz. della pena | B23: 1 | C23: 33 | D23: 4 | E23: 23 | F23: 7 | G23: 21 | H23: 42 | I23: 3 | J23: 20 | K23: 1 | L23: 155
A24: Misure emesse nell'anno, in procedimenti iscritti in anni precedenti e definiti nell'anno, con assoluzione definitiva | B24: 0 | C24: 11 | D24: 3 | E24: 9 | F24: 1 | G24: 2 | H24: 15 | I24: 3 | J24: 11 | K24: 13 | L24: 68 | M24: assoluzione
A25: Misure emesse nell'anno, in procedimenti iscritti in anni precedenti e definiti nell'anno, con assoluzione non definitiva | B25: 0 | C25: 51 | D25: 0 | E25: 21 | F25: 12 | G25: 40 | H25: 118 | I25: 27 | J25: 65 | K25: 12 | L25: 346
A26: Misure emesse nell'anno, in procedimenti iscritti in anni precedenti e definiti nell'anno, con altro tipo di sentenza (definitiva o non definitiva) (*) | B26: 0 | C26: 7 | D26: 0 | E26: 24 | F26: 4 | G26: 4 | H26: 40 | I26: 7 | J26: 11 | K26: 6 | L26: 103 | M26: altro
A27: AVVERTENZA: tutte le righe riportano il numero delle misure cautelari emesse nell'anno, a prescindere dal numero dei procedimenti o provvedimenti che le contengono
A28: (*) la categoria "con altro tipo di sentenza" ricomprende le misure emesse nei procedimenti definiti ex artt. 129 - 425 - 469 - 529 - 531 c.p.p. (restano quindi esclusi i procedimenti definiti per incompetenza)

Sheet ITALIA GIP % TIPO MISURA
A1: MINISTERO DELLA GIUSTIZIA
A2: DIPARTIMENTO PER GLI AFFARI DI GIUSTIZIA
A3: Direzione Generale degli Affari Interni
A4: .
A5: MISURE CAUTELARI PERSONALI (L. 47/2015) - emesse nell'anno 2021 - ITALIA: UFFICI GIP: % PER TIPOLOGIA DI MISURA
A6: .
A7: MISURE CAUTELARI PERSONALI (Libro IV del Codice di Procedura Penale) | B7: art. 281: Divieto espatrio | C7: art. 282: Obbligo presentazione Polizia Giudiz. | D7: art. 282 bis comma 1: Allontanamento dalla casa familiare | E7: art. 282 ter: Divieto di avvicinamento (anche come prescrizione accessoria della m.c. di cui all'art. 282 bis c.1, ai sensi dell'art. 282 bis c.2) | F7: art. 283 comma 1: Divieto di dimora | G7: art. 283 comma 2: Obbligo di dimora | H7: art. 284 Arresti domiciliari: senza braccialetto | I7: art. 284 +275 bis Arresti domiciliari: con braccialetto | J7: art. 285 Custodia cautelare in carcere | K7: art. 286 Custodia in luogo di cura | L7: TOTALE
A8: Totale misure cautelari emesse nell'anno | B8: ='ITALIA GIP'!B8/'ITALIA GIP'!$L8 -> 0.0007070231 | C8: ='ITALIA GIP'!C8/'ITALIA GIP'!$L8 -> 0.10248468 | D8: ='ITALIA GIP'!D8/'ITALIA GIP'!$L8 -> 0.049727291 | E8: ='ITALIA GIP'!E8/'ITALIA GIP'!$L8 -> 0.12628779 | F8: ='ITALIA GIP'!F8/'ITALIA GIP'!$L8 -> 0.033920275 | G8: ='ITALIA GIP'!G8/'ITALIA GIP'!$L8 -> 0.071257828 | H8: ='ITALIA GIP'!H8/'ITALIA GIP'!$L8 -> 0.22599488 | I8: ='ITALIA GIP'!I8/'ITALIA GIP'!$L8 -> 0.039071443 | ... K8: ='ITALIA GIP'!K8/'ITALIA GIP'!$L8 -> 0.0095616457 | L8: =SUM(B8:K8) -> 1
A9: MISURE EMESSE NELL'ANNO, IN PROCEDIMENTI ISCRITTI NELL'ANNO E DEFINITI NELL'ANNO
A10: Totale misure emesse nell'anno, in procedimenti iscritti e definiti nell'anno | B10: ='ITALIA GIP'!B10/'ITALIA GIP'!$L10 -> 0.00024846778 | C10: ='ITALIA GIP'!C10/'ITALIA GIP'!$L10 -> 0.081166142 | D10: ='ITALIA GIP'!D10/'ITALIA GIP'!$L10 -> 0.031555408 | E10: ='ITALIA GIP'!E10/'ITALIA GIP'!$L10 -> 0.071641544 | F10: ='ITALIA GIP'!F10/'ITALIA GIP'!$L10 -> 0.025675004 | G10: ='ITALIA GIP'!G10/'ITALIA GIP'!$L10 -> 0.061702833 | H10: ='ITALIA GIP'!H10/'ITALIA GIP'!$L10 -> 0.28714593 | I10: ='ITALIA GIP'!I10/'ITALIA GIP'!$L10 -> 0.039506377 | ... K10: ='ITALIA GIP'!K10/'ITALIA GIP'!$L10 -> 0.0039754845 | L10: =SUM(B10:K10) -> 1
A11: Misure emesse nell'anno, in procedimenti iscritti e definiti nell'anno, con condanna definitiva e senza sosp. condiz. pena | B11: ='ITALIA GIP'!B11/'ITALIA GIP'!$L11 -> 0.00056401579 | C11: ='ITALIA GIP'!C11/'ITALIA GIP'!$L11 -> 0.088550479 | D11: ='ITALIA GIP'!D11/'ITALIA GIP'!$L11 -> 0.023124647 | E11: ='ITALIA GIP'!E11/'ITALIA GIP'!$L11 -> 0.042301184 | F11: ='ITALIA GIP'!F11/'ITALIA GIP'!$L11 -> 0.024816695 | G11: ='ITALIA GIP'!G11/'ITALIA GIP'!$L11 -> 0.073322053 | H11: ='ITALIA GIP'!H11/'ITALIA GIP'!$L11 -> 0.32205302 | I11: ='ITALIA GIP'!I11/'ITALIA GIP'!$L11 -> 0.033276932 | ... K11: ='ITALIA GIP'!K11/'ITALIA GIP'!$L11 -> 0.0045121263 | L11: =SUM(B11:K11) -> 1 | M11: condanna definitiva
A12: Misure emesse nell'anno, in procedimenti iscritti e definiti nell'anno, con condanna definitiva e con sosp. condiz. pena | B12: ='ITALIA GIP'!B12/'ITALIA GIP'!$L12 -> 0 | C12: ='ITALIA GIP'!C12/'ITALIA GIP'!$L12 -> 0.14759358 | D12: ='ITALIA GIP'!D12/'ITALIA GIP'!$L12 -> 0.052406417 | E12: ='ITALIA GIP'!E12/'ITALIA GIP'!$L12 -> 0.10588235 | F12: ='ITALIA GIP'!F12/'ITALIA GIP'!$L12 -> 0.038502674 | G12: ='ITALIA GIP'!G12/'ITALIA GIP'!$L12 -> 0.1144385 | H12: ='ITALIA GIP'!H12/'ITALIA GIP'!$L12 -> 0.28663102 | I12: ='ITALIA GIP'!I12/'ITALIA GIP'!$L12 -> 0.031016043 | ... K12: ='ITALIA GIP'!K12/'ITALIA GIP'!$L12 -> 0 | L12: =SUM(B12:K12) -> 1
A13: Misure emesse nell'anno, in procedimenti iscritti e definiti nell'anno, con condanna non definitiva e senza sospens. condiz. della pena | B13: ='ITALIA GIP'!B13/'ITALIA GIP'!$L13 -> 0.00014232849 | C13: ='ITALIA GIP'!C13/'ITALIA GIP'!$L13 -> 0.064332479 | D13: ='ITALIA GIP'!D13/'ITALIA GIP'!$L13 -> 0.019214347 | E13: ='ITALIA GIP'!E13/'ITALIA GIP'!$L13 -> 0.052803871 | F13: ='ITALIA GIP'!F13/'ITALIA GIP'!$L13 -> 0.020922289 | G13: ='ITALIA GIP'!G13/'ITALIA GIP'!$L13 -> 0.048534017 | H13: ='ITALIA GIP'!H13/'ITALIA GIP'!$L13 -> 0.28679192 | I13: ='ITALIA GIP'!I13/'ITALIA GIP'!$L13 -> 0.046399089 | ... K13: ='ITALIA GIP'!K13/'ITALIA GIP'!$L13 -> 0.0014232849 | L13: =SUM(B13:K13) -> 1 | M13: condanna non definitiva
A14: Misure emesse nell'anno, in procedimenti iscritti e definiti nell'anno, con condanna non definitiva e con sospens. condiz. della pena | B14: ='ITALIA GIP'!B14/'ITALIA GIP'!$L14 -> 0 | C14: ='ITALIA GIP'!C14/'ITALIA GIP'!$L14 -> 0.13175676 | D14: ='ITALIA GIP'!D14/'ITALIA GIP'!$L14 -> 0.064189189 | E14: ='ITALIA GIP'!E14/'ITALIA GIP'!$L14 -> 0.11570946 | F14: ='ITALIA GIP'!F14/'ITALIA GIP'!$L14 -> 0.055743243 | G14: ='ITALIA GIP'!G14/'ITALIA GIP'!$L14 -> 0.10641892 | H14: ='ITALIA GIP'!H14/'ITALIA GIP'!$L14 -> 0.27364865 | I14: ='ITALIA GIP'!I14/'ITALIA GIP'!$L14 -> 0.030405405 | ... K14: ='ITALIA GIP'!K14/'ITALIA GIP'!$L14 -> 0.0025337838 | L14: =SUM(B14:K14) -> 1
A15: Misure emesse nell'anno, in procedimenti iscritti e definiti nell'anno, con assoluzione definitiva | B15: ='ITALIA GIP'!B15/'ITALIA GIP'!$L15 -> 0 | C15: ='ITALIA GIP'!C15/'ITALIA GIP'!$L15 -> 0.027210884 | D15: ='ITALIA GIP'!D15/'ITALIA GIP'!$L15 -> 0.054421769 | E15: ='ITALIA GIP'!E15/'ITALIA GIP'!$L15 -> 0.10884354 | F15: ='ITALIA GIP'!F15/'ITALIA GIP'!$L15 -> 0.040816327 | G15: ='ITALIA GIP'!G15/'ITALIA GIP'!$L15 -> 0.027210884 | H15: ='ITALIA GIP'!H15/'ITALIA GIP'!$L15 -> 0.30612245 | I15: ='ITALIA GIP'!I15/'ITALIA GIP'!$L15 -> 0.020408163 | ... K15: ='ITALIA GIP'!K15/'ITALIA GIP'!$L15 -> 0.06122449 | L15: =SUM(B15:K15) -> 1 | M15: assoluzione
A16: Misure emesse nell'anno, in procedimenti iscritti e definiti nell'anno, con assoluzione non definitiva | B16: ='ITALIA GIP'!B16/'ITALIA GIP'!$L16 -> 0.001510574 | C16: ='ITALIA GIP'!C16/'ITALIA GIP'!$L16 -> 0.074018127 | D16: ='ITALIA GIP'!D16/'ITALIA GIP'!$L16 -> 0.058912387 | E16: ='ITALIA GIP'!E16/'ITALIA GIP'!$L16 -> 0.096676737 | F16: ='ITALIA GIP'!F16/'ITALIA GIP'!$L16 -> 0.0060422961 | G16: ='ITALIA GIP'!G16/'ITALIA GIP'!$L16 -> 0.040785498 | H16: ='ITALIA GIP'!H16/'ITALIA GIP'!$L16 -> 0.25226586 | I16: ='ITALIA GIP'!I16/'ITALIA GIP'!$L16 -> 0.031722054 | ... K16: ='ITALIA GIP'!K16/'ITALIA GIP'!$L16 -> 0.021148036 | L16: =SUM(B16:K16) -> 1
A17: Misure emesse nell'anno, in procedimenti iscritti e definiti nell'anno, con altro tipo di sentenza (definitiva o non definitiva) (*) | B17: ='ITALIA GIP'!B17/'ITALIA GIP'!$L17 -> 0 | C17: ='ITALIA GIP'!C17/'ITALIA GIP'!$L17 -> 0.069164265 | D17: ='ITALIA GIP'!D17/'ITALIA GIP'!$L17 -> 0.095100865 | E17: ='ITALIA GIP'!E17/'ITALIA GIP'!$L17 -> 0.29682997 | F17: ='ITALIA GIP'!F17/'ITALIA GIP'!$L17 -> 0.020172911 | G17: ='ITALIA GIP'!G17/'ITALIA GIP'!$L17 -> 0.028818444 | H17: ='ITALIA GIP'!H17/'ITALIA GIP'!$L17 -> 0.22190202 | I17: ='ITALIA GIP'!I17/'ITALIA GIP'!$L17 -> 0.0086455331 | ... K17: ='ITALIA GIP'!K17/'ITALIA GIP'!$L17 -> 0.011527378 | L17: =SUM(B17:K17) -> 1 | M17: altro
A18: MISURE EMESSE NELL'ANNO, IN PROCEDIMENTI ISCRITTI IN ANNI PRECEDENTI E DEFINITI NELL'ANNO
A19: Totale misure emesse nell'anno, in procedimenti iscritti in anni precedenti e definiti nell'anno | B19: ='ITALIA GIP'!B19/'ITALIA GIP'!$L19 -> 0.00091596061 | C19: ='ITALIA GIP'!C19/'ITALIA GIP'!$L19 -> 0.14975956 | D19: ='ITALIA GIP'!D19/'ITALIA GIP'!$L19 -> 0.0066407144 | E19: ='ITALIA GIP'!E19/'ITALIA GIP'!$L19 -> 0.063430272 | F19: ='ITALIA GIP'!F19/'ITALIA GIP'!$L19 -> 0.035493474 | G19: ='ITALIA GIP'!G19/'ITALIA GIP'!$L19 -> 0.11335013 | H19: ='ITALIA GIP'!H19/'ITALIA GIP'!$L19 -> 0.37073506 | I19: ='ITALIA GIP'!I19/'ITALIA GIP'!$L19 -> 0.081978475 | ... K19: ='ITALIA GIP'!K19/'ITALIA GIP'!$L19 -> 0.0098465766 | L19: =SUM(B19:K19) -> 1
A20: Misure emesse nell'anno, in procedimenti iscritti in anni precedenti e definiti nell'anno, con condanna definitiva e senza sosp. condiz. pena | B20: ='ITALIA GIP'!B20/'ITALIA GIP'!$L20 -> 0.0014224751 | C20: ='ITALIA GIP'!C20/'ITALIA GIP'!$L20 -> 0.15647226 | D20: ='ITALIA GIP'!D20/'ITALIA GIP'!$L20 -> 0.0085348506 | E20: ='ITALIA GIP'!E20/'ITALIA GIP'!$L20 -> 0.052631579 | F20: ='ITALIA GIP'!F20/'ITALIA GIP'!$L20 -> 0.035561878 | G20: ='ITALIA GIP'!G20/'ITALIA GIP'!$L20 -> 0.11948791 | H20: ='ITALIA GIP'!H20/'ITALIA GIP'!$L20 -> 0.42105263 | I20: ='ITALIA GIP'!I20/'ITALIA GIP'!$L20 -> 0.065433855 | ... K20: ='ITALIA GIP'!K20/'ITALIA GIP'!$L20 -> 0.0056899004 | L20: =SUM(B20:K20) -> 1 | M20: condanna definitiva
A21: Misure emesse nell'anno, in procedimenti iscritti in anni precedenti e definiti nell'anno, con condanna definitiva e con sosp. condiz. pena | B21: ='ITALIA GIP'!B21/'ITALIA GIP'!$L21 -> 0 | C21: ='ITALIA GIP'!C21/'ITALIA GIP'!$L21 -> 0.171875 | D21: ='ITALIA GIP'!D21/'ITALIA GIP'!$L21 -> 0.0234375 | E21: ='ITALIA GIP'!E21/'ITALIA GIP'!$L21 -> 0.203125 | F21: ='ITALIA GIP'!F21/'ITALIA GIP'!$L21 -> 0.0234375 | G21: ='ITALIA GIP'!G21/'ITALIA GIP'!$L21 -> 0.1484375 | H21: ='ITALIA GIP'!H21/'ITALIA GIP'!$L21 -> 0.265625 | I21: ='ITALIA GIP'!I21/'ITALIA GIP'!$L21 -> 0.0234375 | ... K21: ='ITALIA GIP'!K21/'ITALIA GIP'!$L21 -> 0 | L21: =SUM(B21:K21) -> 1
A22: Misure emesse nell'anno, in procedimenti iscritti in anni precedenti e definiti nell'anno, con condanna non definitiva e senza sospens. condiz. della pena | B22: ='ITALIA GIP'!B22/'ITALIA GIP'!$L22 -> 0.00069832402 | C22: ='ITALIA GIP'!C22/'ITALIA GIP'!$L22 -> 0.14664804 | D22: ='ITALIA GIP'!D22/'ITALIA GIP'!$L22 -> 0.0045391061 | E22: ='ITALIA GIP'!E22/'ITALIA GIP'!$L22 -> 0.047835196 | F22: ='ITALIA GIP'!F22/'ITALIA GIP'!$L22 -> 0.035963687 | G22: ='ITALIA GIP'!G22/'ITALIA GIP'!$L22 -> 0.11347765 | H22: ='ITALIA GIP'!H22/'ITALIA GIP'!$L22 -> 0.375 | I22: ='ITALIA GIP'!I22/'ITALIA GIP'!$L22 -> 0.093924581 | ... K22: ='ITALIA GIP'!K22/'ITALIA GIP'!$L22 -> 0.0024441341 | L22: =SUM(B22:K22) -> 1 | M22: condanna non definitiva
A23: Misure emesse nell'anno, in procedimenti iscritti in anni precedenti e definiti nell'anno, con condanna non definitiva e con sospens. condiz. della pena | B23: ='ITALIA GIP'!B23/'ITALIA GIP'!$L23 -> 0.0064516129 | C23: ='ITALIA GIP'!C23/'ITALIA GIP'!$L23 -> 0.21290323 | D23: ='ITALIA GIP'!D23/'ITALIA GIP'!$L23 -> 0.025806452 | E23: ='ITALIA GIP'!E23/'ITALIA GIP'!$L23 -> 0.1483871 | F23: ='ITALIA GIP'!F23/'ITALIA GIP'!$L23 -> 0.04516129 | G23: ='ITALIA GIP'!G23/'ITALIA GIP'!$L23 -> 0.13548387 | H23: ='ITALIA GIP'!H23/'ITALIA GIP'!$L23 -> 0.27096774 | I23: ='ITALIA GIP'!I23/'ITALIA GIP'!$L23 -> 0.019354839 | ... K23: ='ITALIA GIP'!K23/'ITALIA GIP'!$L23 -> 0.0064516129 | L23: =SUM(B23:K23) -> 1
A24: Misure emesse nell'anno, in procedimenti iscritti in anni precedenti e definiti nell'anno, con assoluzione definitiva | B24: ='ITALIA GIP'!B24/'ITALIA GIP'!$L24 -> 0 | C24: ='ITALIA GIP'!C24/'ITALIA GIP'!$L24 -> 0.16176471 | D24: ='ITALIA GIP'!D24/'ITALIA GIP'!$L24 -> 0.044117647 | E24: ='ITALIA GIP'!E24/'ITALIA GIP'!$L24 -> 0.13235294 | F24: ='ITALIA GIP'!F24/'ITALIA GIP'!$L24 -> 0.014705882 | G24: ='ITALIA GIP'!G24/'ITALIA GIP'!$L24 -> 0.029411765 | H24: ='ITALIA GIP'!H24/'ITALIA GIP'!$L24 -> 0.22058824 | I24: ='ITALIA GIP'!I24/'ITALIA GIP'!$L24 -> 0.044117647 | ... K24: ='ITALIA GIP'!K24/'ITALIA GIP'!$L24 -> 0.19117647 | L24: =SUM(B24:K24) -> 1 | M24: assoluzione
A25: Misure emesse nell'anno, in procedimenti iscritti in anni precedenti e definiti nell'anno, con assoluzione non definitiva | B25: ='ITALIA GIP'!B25/'ITALIA GIP'!$L25 -> 0 | C25: ='ITALIA GIP'!C25/'ITALIA GIP'!$L25 -> 0.14739884 | D25: ='ITALIA GIP'!D25/'ITALIA GIP'!$L25 -> 0 | E25: ='ITALIA GIP'!E25/'ITALIA GIP'!$L25 -> 0.060693642 | F25: ='ITALIA GIP'!F25/'ITALIA GIP'!$L25 -> 0.034682081 | G25: ='ITALIA GIP'!G25/'ITALIA GIP'!$L25 -> 0.11560694 | H25: ='ITALIA GIP'!H25/'ITALIA GIP'!$L25 -> 0.34104046 | I25: ='ITALIA GIP'!I25/'ITALIA GIP'!$L25 -> 0.078034682 | ... K25: ='ITALIA GIP'!K25/'ITALIA GIP'!$L25 -> 0.034682081 | L25: =SUM(B25:K25) -> 1
A26: Misure emesse nell'anno, in procedimenti iscritti in anni precedenti e definiti nell'anno, con altro tipo di sentenza (definitiva o non definitiva) (*) | B26: ='ITALIA GIP'!B26/'ITALIA GIP'!$L26 -> 0 | C26: ='ITALIA GIP'!C26/'ITALIA GIP'!$L26 -> 0.067961165 | D26: ='ITALIA GIP'!D26/'ITALIA GIP'!$L26 -> 0 | E26: ='ITALIA GIP'!E26/'ITALIA GIP'!$L26 -> 0.23300971 | F26: ='ITALIA GIP'!F26/'ITALIA GIP'!$L26 -> 0.038834951 | G26: ='ITALIA GIP'!G26/'ITALIA GIP'!$L26 -> 0.038834951 | H26: ='ITALIA GIP'!H26/'ITALIA GIP'!$L26 -> 0.38834951 | I26: ='ITALIA GIP'!I26/'ITALIA GIP'!$L26 -> 0.067961165 | ... K26: ='ITALIA GIP'!K26/'ITALIA GIP'!$L26 -> 0.058252427 | L26: =SUM(B26:K26) -> 1 | M26: altro
A27: AVVERTENZA: tutte le righe riportano il numero delle misure cautelari emesse nell'anno, a prescindere dal numero dei procedimenti o provvedimenti che le contengono
A28: (*) le due categorie "con altro tipo di sentenza" ricomprendono le misure emesse nei procedimenti definiti ex artt. 129 - 425 - 469 - 529 - 531 c.p.p. (restano quindi esclusi i procedimenti definiti per incompetenza)

Sheet --

Sheet ITALIA DIB
A1: MINISTERO DELLA GIUSTIZIA
A2: DIPARTIMENTO PER GLI AFFARI DI GIUSTIZIA
A3: Direzione Generale degli Affari Interni
A5: MISURE CAUTELARI PERSONALI (L. 47/2015) - emesse nell'anno 2021 - ITALIA: UFFICI DEL DIBATTIMENTO
A7: MISURE CAUTELARI PERSONALI (Libro IV del Codice di Procedura Penale) | B7: art. 281: Divieto espatrio | C7: art. 282: Obbligo presentazione Polizia Giudiz. | D7: art. 282 bis comma 1: Allontanamento dalla casa familiare | E7: art. 282 ter: Divieto di avvicinamento (anche come prescrizione accessoria della m.c. di cui all'art. 282 bis c.1, ai sensi dell'art. 282 bis c.2) | F7: art. 283 comma 1: Divieto di dimora | G7: art. 283 comma 2: Obbligo di dimora | H7: art. 284 Arresti domiciliari: senza braccialetto | I7: art. 284 +275 bis Arresti domiciliari: con braccialetto | J7: art. 285 Custodia cautelare in carcere | K7: art. 286 Custodia in luogo di cura | L7: TOTALE
A8: Totale misure cautelari emesse nell'anno | B8: 12 | C8: 6728 | D8: 227 | E8: 942 | F8: 2517 | G8: 2234 | H8: 4611 | I8: 487 | J8: 3870 | K8: 70 | L8: 21698
A9: MISURE EMESSE NELL'ANNO, IN PROCEDIMENTI ISCRITTI NELL'ANNO E DEFINITI NELL'ANNO
A10: Totale misure emesse nell'anno, in procedimenti iscritti e definiti nell'anno | B10: 3 | C10: 4415 | D10: 49 | E10: 227 | F10: 1877 | G10: 1252 | H10: 3544 | I10: 309 | J10: 3153 | K10: 38 | L10: 14867
A11: Misure emesse nell'anno, in procedimenti iscritti e definiti nell'anno, con condanna definitiva e senza sosp. condiz. pena | B11: 0 | C11: 705 | D11: 3 | E11: 16 | F11: 371 | G11: 180 | H11: 706 | I11: 44 | J11: 731 | K11: 4 | L11: 2760 | M11: condanna definitiva
A12: Misure emesse nell'anno, in procedimenti iscritti e definiti nell'anno, con condanna definitiva e con sosp. condiz. pena | B12: 0 | C12: 309 | D12: 3 | E12: 12 | F12: 118 | G12: 101 | H12: 200 | I12: 8 | J12: 123 | K12: 1 | L12: 875
A13: Misure emesse nell'anno, in procedimenti iscritti e definiti nell'anno, con condanna non definitiva e senza sospens. condiz. della pena | B13: 2 | C13: 2489 | D13: 19 | E13: 108 | F13: 1094 | G13: 716 | H13: 2211 | I13: 228 | J13: 2008 | K13: 6 | L13: 8881 | M13: condanna non definitiva
A14: Misure emesse nell'anno, in procedimenti iscritti e definiti nell'anno, con condanna non definitiva e con sospens. condiz. della pena | B14: 0 | C14: 633 | D14: 9 | E14: 21 | F14: 221 | G14: 159 | H14: 208 | I14: 6 | J14: 114 | K14: 1 | L14: 1372
A15: Misure emesse nell'anno, in procedimenti iscritti e definiti nell'anno, con assoluzione definitiva | B15: 0 | C15: 55 | D15: 6 | E15: 10 | F15: 21 | G15: 17 | H15: 59 | I15: 2 | J15: 46 | K15: 15 | L15: 231 | M15: assoluzione
A16: Misure emesse nell'anno, in procedimenti iscritti e definiti nell'anno, con assoluzione non definitiva | B16: 0 | C16: 176 | D16: 5 | E16: 39 | F16: 44 | G16: 63 | H16: 122 | I16: 19 | J16: 106 | K16: 11 | L16: 585
A17: Misure emesse nell'anno, in procedimenti iscritti e definiti nell'anno, con altro tipo di sentenza (definitiva o non definitiva) (*) | B17: 1 | C17: 48 | D17: 4 | E17: 21 | F17: 8 | G17: 16 | H17: 38 | I17: 2 | J17: 25 | K17: 0 | L17: 163 | M17: altro
A18: MISURE EMESSE NELL'ANNO, IN PROCEDIMENTI ISCRITTI IN ANNI PRECEDENTI E DEFINITI NELL'ANNO
A19: Totale misure emesse nell'anno, in procedimenti iscritti in anni precedenti e definiti nell'anno | B19: 2 | C19: 332 | D19: 12 | E19: 187 | F19: 95 | G19: 174 | H19: 358 | I19: 70 | J19: 256 | K19: 11 | L19: 1497
A20: Misure emesse nell'anno, in procedimenti iscritti in anni precedenti e definiti nell'anno, con condanna definitiva e senza sosp. condiz. pena | B20: 0 | C20: 40 | D20: 0 | E20: 11 | F20: 20 | G20: 26 | H20: 61 | I20: 4 | J20: 49 | K20: 2 | L20: 213 | M20: condanna definitiva
A21: Misure emesse nell'anno, in procedimenti iscritti in anni precedenti e definiti nell'anno, con condanna definitiva e con sosp. condiz. pena | B21: 0 | C21: 11 | D21: 1 | E21: 1 | F21: 2 | G21: 2 | H21: 4 | I21: 0 | J21: 10 | K21: 0 | L21: 31
A22: Misure emesse nell'anno, in procedimenti iscritti in anni precedenti e definiti nell'anno, con condanna non definitiva e senza sospens. condiz. della pena | B22: 2 | C22: 209 | D22: 5 | E22: 106 | F22: 51 | G22: 107 | H22: 229 | I22: 53 | J22: 159 | K22: 2 | L22: 923 | M22: condanna non definitiva
A23: Misure emesse nell'anno, in procedimenti iscritti in anni precedenti e definiti nell'anno, con condanna non definitiva e con sospens. condiz. della pena | B23: 0 | C23: 15 | D23: 1 | E23: 8 | F23: 8 | G23: 4 | H23: 11 | I23: 0 | J23: 3 | K23: 0 | L23: 50
A24: Misure emesse nell'anno, in procedimenti iscritti in anni precedenti e definiti nell'anno, con assoluzione definitiva | B24: 0 | C24: 7 | D24: 2 | E24: 7 | F24: 4 | G24: 9 | H24: 9 | I24: 0 | J24: 5 | K24: 6 | L24: 49 | M24: assoluzione
A25: Misure emesse nell'anno, in procedimenti iscritti in anni precedenti e definiti nell'anno, con assoluzione non definitiva | B25: 0 | C25: 41 | D25: 3 | E25: 44 | F25: 4 | G25: 22 | H25: 34 | I25: 11 | J25: 22 | K25: 1 | L25: 182
A26: Misure emesse nell'anno, in procedimenti iscritti in anni precedenti e definiti nell'anno, con altro tipo di sentenza (definitiva o non definitiva) (*) | B26: 0 | C26: 9 | D26: 0 | E26: 10 | F26: 6 | G26: 4 | H26: 10 | I26: 2 | J26: 8 | K26: 0 | L26: 49 | M26: altro
A27: AVVERTENZA: tutte le righe riportano il numero delle misure cautelari emesse nell'anno, a prescindere dal numero dei procedimenti o provvedimenti che le contengono
A28: (*) la categoria "con altro tipo di sentenza" ricomprende le misure emesse nei procedimenti definiti ex artt. 129 - 425 - 469 - 529 - 531 c.p.p. (restano quindi esclusi i procedimenti definiti per incompetenza)

Sheet ITALIA DIB % TIPO MISURA
A1: MINISTERO DELLA GIUSTIZIA
A2: DIPARTIMENTO PER GLI AFFARI DI GIUSTIZIA
A3: Direzione Generale degli Affari Interni
A4: .
A5: MISURE CAUTELARI PERSONALI (L. 47/2015) - emesse nell'anno 2021 - ITALIA: UFFICI DEL DIBATTIMENTO: % PER TIPOLOGIA DI MISURA
A6: .
A7: MISURE CAUTELARI PERSONALI (Libro IV del Codice di Procedura Penale) | B7: art. 281: Divieto espatrio | C7: art. 282: Obbligo presentazione Polizia Giudiz. | D7: art. 282 bis comma 1: Allontanamento dalla casa familiare | E7: art. 282 ter: Divieto di avvicinamento (anche come prescrizione accessoria della m.c. di cui all'art. 282 bis c.1, ai sensi dell'art. 282 bis c.2) | F7: art. 283 comma 1: Divieto di dimora | G7: art. 283 comma 2: Obbligo di dimora | H7: art. 284 Arresti domiciliari: senza braccialetto | I7: art. 284 +275 bis Arresti domiciliari: con braccialetto | J7: art. 285 Custodia cautelare in carcere | K7: art. 286 Custodia in luogo di cura | L7: TOTALE
A8: Totale misure cautelari emesse nell'anno | B8: ='ITALIA DIB'!B8/'ITALIA DIB'!$L8 -> 0.00055304636 | C8: ='ITALIA DIB'!C8/'ITALIA DIB'!$L8 -> 0.31007466 | D8: ='ITALIA DIB'!D8/'ITALIA DIB'!$L8 -> 0.010461794 | E8: ='ITALIA DIB'!E8/'ITALIA DIB'!$L8 -> 0.04341414 | F8: ='ITALIA DIB'!F8/'ITALIA DIB'!$L8 -> 0.11600147 | G8: ='ITALIA DIB'!G8/'ITALIA DIB'!$L8 -> 0.1029588 | H8: ='ITALIA DIB'!H8/'ITALIA DIB'!$L8 -> 0.21250807 | I8: ='ITALIA DIB'!I8/'ITALIA DIB'!$L8 -> 0.022444465 | ... K8: ='ITALIA DIB'!K8/'ITALIA DIB'!$L8 -> 0.0032261038 | L8: =SUM(B8:K8) -> 1
A9: MISURE EMESSE NELL'ANNO, IN PROCEDIMENTI ISCRITTI NELL'ANNO E DEFINITI NELL'ANNO
A10: Totale misure emesse nell'anno, in procedimenti iscritti e definiti nell'anno | B10: ='ITALIA DIB'!B10/'ITALIA DIB'!$L10 -> 0.0002017892 | C10: ='ITALIA DIB'!C10/'ITALIA DIB'!$L10 -> 0.29696644 | D10: ='ITALIA DIB'!D10/'ITALIA DIB'!$L10 -> 0.0032958902 | E10: ='ITALIA DIB'!E10/'ITALIA DIB'!$L10 -> 0.015268716 | F10: ='ITALIA DIB'!F10/'ITALIA DIB'!$L10 -> 0.12625277 | G10: ='ITALIA DIB'!G10/'ITALIA DIB'!$L10 -> 0.084213358 | H10: ='ITALIA DIB'!H10/'ITALIA DIB'!$L10 -> 0.23838031 | I10: ='ITALIA DIB'!I10/'ITALIA DIB'!$L10 -> 0.020784287 | ... K10: ='ITALIA DIB'!K10/'ITALIA DIB'!$L10 -> 0.0025559965 | L10: =SUM(B10:K10) -> 1
A11: Misure emesse nell'anno, in procedimenti iscritti e definiti nell'anno, con condanna definitiva e senza sosp. condiz. pena | B11: ='ITALIA DIB'!B11/'ITALIA DIB'!$L11 -> 0 | C11: ='ITALIA DIB'!C11/'ITALIA DIB'!$L11 -> 0.25543478 | D11: ='ITALIA DIB'!D11/'ITALIA DIB'!$L11 -> 0.0010869565 | E11: ='ITALIA DIB'!E11/'ITALIA DIB'!$L11 -> 0.0057971014 | F11: ='ITALIA DIB'!F11/'ITALIA DIB'!$L11 -> 0.13442029 | G11: ='ITALIA DIB'!G11/'ITALIA DIB'!$L11 -> 0.065217391 | H11: ='ITALIA DIB'!H11/'ITALIA DIB'!$L11 -> 0.2557971 | I11: ='ITALIA DIB'!I11/'ITALIA DIB'!$L11 -> 0.015942029 | ... K11: ='ITALIA DIB'!K11/'ITALIA DIB'!$L11 -> 0.0014492754 | L11: =SUM(B11:K11) -> 1 | M11: condanna definitiva
A12: Misure emesse nell'anno, in procedimenti iscritti e definiti nell'anno, con condanna definitiva e con sosp. condiz. pena | B12: ='ITALIA DIB'!B12/'ITALIA DIB'!$L12 -> 0 | C12: ='ITALIA DIB'!C12/'ITALIA DIB'!$L12 -> 0.35314286 | D12: ='ITALIA DIB'!D12/'ITALIA DIB'!$L12 -> 0.0034285714 | E12: ='ITALIA DIB'!E12/'ITALIA DIB'!$L12 -> 0.013714286 | F12: ='ITALIA DIB'!F12/'ITALIA DIB'!$L12 -> 0.13485714 | G12: ='ITALIA DIB'!G12/'ITALIA DIB'!$L12 -> 0.11542857 | H12: ='ITALIA DIB'!H12/'ITALIA DIB'!$L12 -> 0.22857143 | I12: ='ITALIA DIB'!I12/'ITALIA DIB'!$L12 -> 0.0091428571 | ... K12: ='ITALIA DIB'!K12/'ITALIA DIB'!$L12 -> 0.0011428571 | L12: =SUM(B12:K12) -> 1
A13: Misure emesse nell'anno, in procedimenti iscritti e definiti nell'anno, con condanna non definitiva e senza sospens. condiz. della pena | B13: ='ITALIA DIB'!B13/'ITALIA DIB'!$L13 -> 0.00022519986 | C13: ='ITALIA DIB'!C13/'ITALIA DIB'!$L13 -> 0.28026123 | D13: ='ITALIA DIB'!D13/'ITALIA DIB'!$L13 -> 0.0021393987 | E13: ='ITALIA DIB'!E13/'ITALIA DIB'!$L13 -> 0.012160793 | F13: ='ITALIA DIB'!F13/'ITALIA DIB'!$L13 -> 0.12318433 | G13: ='ITALIA DIB'!G13/'ITALIA DIB'!$L13 -> 0.080621552 | H13: ='ITALIA DIB'!H13/'ITALIA DIB'!$L13 -> 0.24895845 | I13: ='ITALIA DIB'!I13/'ITALIA DIB'!$L13 -> 0.025672785 | ... K13: ='ITALIA DIB'!K13/'ITALIA DIB'!$L13 -> 0.00067559959 | L13: =SUM(B13:K13) -> 1 | M13: condanna non definitiva
A14: Misure emesse nell'anno, in procedimenti iscritti e definiti nell'anno, con condanna non definitiva e con sospens. condiz. della pena | B14: ='ITALIA DIB'!B14/'ITALIA DIB'!$L14 -> 0 | C14: ='ITALIA DIB'!C14/'ITALIA DIB'!$L14 -> 0.46137026 | D14: ='ITALIA DIB'!D14/'ITALIA DIB'!$L14 -> 0.0065597668 | E14: ='ITALIA DIB'!E14/'ITALIA DIB'!$L14 -> 0.015306122 | F14: ='ITALIA DIB'!F14/'ITALIA DIB'!$L14 -> 0.16107872 | G14: ='ITALIA DIB'!G14/'ITALIA DIB'!$L14 -> 0.11588921 | H14: ='ITALIA DIB'!H14/'ITALIA DIB'!$L14 -> 0.1516035 | I14: ='ITALIA DIB'!I14/'ITALIA DIB'!$L14 -> 0.0043731778 | ... K14: ='ITALIA DIB'!K14/'ITALIA DIB'!$L14 -> 0.00072886297 | L14: =SUM(B14:K14) -> 1
A15: Misure emesse nell'anno, in procedimenti iscritti e definiti nell'anno, con assoluzione definitiva | B15: ='ITALIA DIB'!B15/'ITALIA DIB'!$L15 -> 0 | C15: ='ITALIA DIB'!C15/'ITALIA DIB'!$L15 -> 0.23809524 | D15: ='ITALIA DIB'!D15/'ITALIA DIB'!$L15 -> 0.025974026 | E15: ='ITALIA DIB'!E15/'ITALIA DIB'!$L15 -> 0.043290043 | F15: ='ITALIA DIB'!F15/'ITALIA DIB'!$L15 -> 0.090909091 | G15: ='ITALIA DIB'!G15/'ITALIA DIB'!$L15 -> 0.073593074 | H15: ='ITALIA DIB'!H15/'ITALIA DIB'!$L15 -> 0.25541126 | I15: ='ITALIA DIB'!I15/'ITALIA DIB'!$L15 -> 0.0086580087 | ... K15: ='ITALIA DIB'!K15/'ITALIA DIB'!$L15 -> 0.064935065 | L15: =SUM(B15:K15) -> 1 | M15: assoluzione
A16: Misure emesse nell'anno, in procedimenti iscritti e definiti nell'anno, con assoluzione non definitiva | B16: ='ITALIA DIB'!B16/'ITALIA DIB'!$L16 -> 0 | C16: ='ITALIA DIB'!C16/'ITALIA DIB'!$L16 -> 0.3008547 | D16: ='ITALIA DIB'!D16/'ITALIA DIB'!$L16 -> 0.0085470085 | E16: ='ITALIA DIB'!E16/'ITALIA DIB'!$L16 -> 0.066666667 | F16: ='ITALIA DIB'!F16/'ITALIA DIB'!$L16 -> 0.075213675 | G16: ='ITALIA DIB'!G16/'ITALIA DIB'!$L16 -> 0.10769231 | H16: ='ITALIA DIB'!H16/'ITALIA DIB'!$L16 -> 0.20854701 | I16: ='ITALIA DIB'!I16/'ITALIA DIB'!$L16 -> 0.032478632 | ... K16: ='ITALIA DIB'!K16/'ITALIA DIB'!$L16 -> 0.018803419 | L16: =SUM(B16:K16) -> 1
A17: Misure emesse nell'anno, in procedimenti iscritti e definiti nell'anno, con altro tipo di sentenza (definitiva o non definitiva) (*) | B17: ='ITALIA DIB'!B17/'ITALIA DIB'!$L17 -> 0.0061349693 | C17: ='ITALIA DIB'!C17/'ITALIA DIB'!$L17 -> 0.29447853 | D17: ='ITALIA DIB'!D17/'ITALIA DIB'!$L17 -> 0.024539877 | E17: ='ITALIA DIB'!E17/'ITALIA DIB'!$L17 -> 0.12883436 | F17: ='ITALIA DIB'!F17/'ITALIA DIB'!$L17 -> 0.049079755 | G17: ='ITALIA DIB'!G17/'ITALIA DIB'!$L17 -> 0.098159509 | H17: ='ITALIA DIB'!H17/'ITALIA DIB'!$L17 -> 0.23312883 | I17: ='ITALIA DIB'!I17/'ITALIA DIB'!$L17 -> 0.012269939 | ... K17: ='ITALIA DIB'!K17/'ITALIA DIB'!$L17 -> 0 | L17: =SUM(B17:K17) -> 1 | M17: altro
A18: MISURE EMESSE NELL'ANNO, IN PROCEDIMENTI ISCRITTI IN ANNI PRECEDENTI E DEFINITI NELL'ANNO
A19: Totale misure emesse nell'anno, in procedimenti iscritti in anni precedenti e definiti nell'anno | B19: ='ITALIA DIB'!B19/'ITALIA DIB'!$L19 -> 0.0013360053 | C19: ='ITALIA DIB'!C19/'ITALIA DIB'!$L19 -> 0.22177689 | D19: ='ITALIA DIB'!D19/'ITALIA DIB'!$L19 -> 0.0080160321 | E19: ='ITALIA DIB'!E19/'ITALIA DIB'!$L19 -> 0.1249165 | F19: ='ITALIA DIB'!F19/'ITALIA DIB'!$L19 -> 0.063460254 | G19: ='ITALIA DIB'!G19/'ITALIA DIB'!$L19 -> 0.11623246 | H19: ='ITALIA DIB'!H19/'ITALIA DIB'!$L19 -> 0.23914496 | I19: ='ITALIA DIB'!I19/'ITALIA DIB'!$L19 -> 0.046760187 | ... K19: ='ITALIA DIB'!K19/'ITALIA DIB'!$L19 -> 0.0073480294 | L19: =SUM(B19:K19) -> 1
A20: Misure emesse nell'anno, in procedimenti iscritti in anni precedenti e definiti nell'anno, con condanna definitiva e senza sosp. condiz. pena | B20: ='ITALIA DIB'!B20/'ITALIA DIB'!$L20 -> 0 | C20: ='ITALIA DIB'!C20/'ITALIA DIB'!$L20 -> 0.18779343 | D20: ='ITALIA DIB'!D20/'ITALIA DIB'!$L20 -> 0 | E20: ='ITALIA DIB'!E20/'ITALIA DIB'!$L20 -> 0.051643192 | F20: ='ITALIA DIB'!F20/'ITALIA DIB'!$L20 -> 0.093896714 | G20: ='ITALIA DIB'!G20/'ITALIA DIB'!$L20 -> 0.12206573 | H20: ='ITALIA DIB'!H20/'ITALIA DIB'!$L20 -> 0.28638498 | I20: ='ITALIA DIB'!I20/'ITALIA DIB'!$L20 -> 0.018779343 | ... K20: ='ITALIA DIB'!K20/'ITALIA DIB'!$L20 -> 0.0093896714 | L20: =SUM(B20:K20) -> 1 | M20: condanna definitiva
A21: Misure emesse nell'anno, in procedimenti iscritti in anni precedenti e definiti nell'anno, con condanna definitiva e con sosp. condiz. pena | B21: ='ITALIA DIB'!B21/'ITALIA DIB'!$L21 -> 0 | C21: ='ITALIA DIB'!C21/'ITALIA DIB'!$L21 -> 0.35483871 | D21: ='ITALIA DIB'!D21/'ITALIA DIB'!$L21 -> 0.032258065 | E21: ='ITALIA DIB'!E21/'ITALIA DIB'!$L21 -> 0.032258065 | F21: ='ITALIA DIB'!F21/'ITALIA DIB'!$L21 -> 0.064516129 | G21: ='ITALIA DIB'!G21/'ITALIA DIB'!$L21 -> 0.064516129 | H21: ='ITALIA DIB'!H21/'ITALIA DIB'!$L21 -> 0.12903226 | I21: ='ITALIA DIB'!I21/'ITALIA DIB'!$L21 -> 0 | ... K21: ='ITALIA DIB'!K21/'ITALIA DIB'!$L21 -> 0 | L21: =SUM(B21:K21) -> 1
A22: Misure emesse nell'anno, in procedimenti iscritti in anni precedenti e definiti nell'anno, con condanna non definitiva e senza sospens. condiz. della pena | B22: ='ITALIA DIB'!B22/'ITALIA DIB'!$L22 -> 0.0021668472 | C22: ='ITALIA DIB'!C22/'ITALIA DIB'!$L22 -> 0.22643554 | D22: ='ITALIA DIB'!D22/'ITALIA DIB'!$L22 -> 0.0054171181 | E22: ='ITALIA DIB'!E22/'ITALIA DIB'!$L22 -> 0.1148429 | F22: ='ITALIA DIB'!F22/'ITALIA DIB'!$L22 -> 0.055254605 | G22: ='ITALIA DIB'!G22/'ITALIA DIB'!$L22 -> 0.11592633 | H22: ='ITALIA DIB'!H22/'ITALIA DIB'!$L22 -> 0.24810401 | I22: ='ITALIA DIB'!I22/'ITALIA DIB'!$L22 -> 0.057421452 | ... K22: ='ITALIA DIB'!K22/'ITALIA DIB'!$L22 -> 0.0021668472 | L22: =SUM(B22:K22) -> 1 | M22: condanna non definitiva
A23: Misure emesse nell'anno, in procedimenti iscritti in anni precedenti e definiti nell'anno, con condanna non definitiva e con sospens. condiz. della pena | B23: ='ITALIA DIB'!B23/'ITALIA DIB'!$L23 -> 0 | C23: ='ITALIA DIB'!C23/'ITALIA DIB'!$L23 -> 0.3 | D23: ='ITALIA DIB'!D23/'ITALIA DIB'!$L23 -> 0.02 | E23: ='ITALIA DIB'!E23/'ITALIA DIB'!$L23 -> 0.16 | F23: ='ITALIA DIB'!F23/'ITALIA DIB'!$L23 -> 0.16 | G23: ='ITALIA DIB'!G23/'ITALIA DIB'!$L23 -> 0.08 | H23: ='ITALIA DIB'!H23/'ITALIA DIB'!$L23 -> 0.22 | I23: ='ITALIA DIB'!I23/'ITALIA DIB'!$L23 -> 0 | ... K23: ='ITALIA DIB'!K23/'ITALIA DIB'!$L23 -> 0 | L23: =SUM(B23:K23) -> 1
A24: Misure emesse nell'anno, in procedimenti iscritti in anni precedenti e definiti nell'anno, con assoluzione definitiva | B24: ='ITALIA DIB'!B24/'ITALIA DIB'!$L24 -> 0 | C24: ='ITALIA DIB'!C24/'ITALIA DIB'!$L24 -> 0.14285714 | D24: ='ITALIA DIB'!D24/'ITALIA DIB'!$L24 -> 0.040816327 | E24: ='ITALIA DIB'!E24/'ITALIA DIB'!$L24 -> 0.14285714 | F24: ='ITALIA DIB'!F24/'ITALIA DIB'!$L24 -> 0.081632653 | G24: ='ITALIA DIB'!G24/'ITALIA DIB'!$L24 -> 0.18367347 | H24: ='ITALIA DIB'!H24/'ITALIA DIB'!$L24 -> 0.18367347 | I24: ='ITALIA DIB'!I24/'ITALIA DIB'!$L24 -> 0 | ... K24: ='ITALIA DIB'!K24/'ITALIA DIB'!$L24 -> 0.12244898 | L24: =SUM(B24:K24) -> 1 | M24: assoluzione
A25: Misure emesse nell'anno, in procedimenti iscritti in anni precedenti e definiti nell'anno, con assoluzione non definitiva | B25: ='ITALIA DIB'!B25/'ITALIA DIB'!$L25 -> 0 | C25: ='ITALIA DIB'!C25/'ITALIA DIB'!$L25 -> 0.22527473 | D25: ='ITALIA DIB'!D25/'ITALIA DIB'!$L25 -> 0.016483516 | E25: ='ITALIA DIB'!E25/'ITALIA DIB'!$L25 -> 0.24175824 | F25: ='ITALIA DIB'!F25/'ITALIA DIB'!$L25 -> 0.021978022 | G25: ='ITALIA DIB'!G25/'ITALIA DIB'!$L25 -> 0.12087912 | H25: ='ITALIA DIB'!H25/'ITALIA DIB'!$L25 -> 0.18681319 | I25: ='ITALIA DIB'!I25/'ITALIA DIB'!$L25 -> 0.06043956 | ... K25: ='ITALIA DIB'!K25/'ITALIA DIB'!$L25 -> 0.0054945055 | L25: =SUM(B25:K25) -> 1
A26: Misure emesse nell'anno, in procedimenti iscritti in anni precedenti e definiti nell'anno, con altro tipo di sentenza (definitiva o non definitiva) (*) | B26: ='ITALIA DIB'!B26/'ITALIA DIB'!$L26 -> 0 | C26: ='ITALIA DIB'!C26/'ITALIA DIB'!$L26 -> 0.18367347 | D26: ='ITALIA DIB'!D26/'ITALIA DIB'!$L26 -> 0 | E26: ='ITALIA DIB'!E26/'ITALIA DIB'!$L26 -> 0.20408163 | F26: ='ITALIA DIB'!F26/'ITALIA DIB'!$L26 -> 0.12244898 | G26: ='ITALIA DIB'!G26/'ITALIA DIB'!$L26 -> 0.081632653 | H26: ='ITALIA DIB'!H26/'ITALIA DIB'!$L26 -> 0.20408163 | I26: ='ITALIA DIB'!I26/'ITALIA DIB'!$L26 -> 0.040816327 | ... K26: ='ITALIA DIB'!K26/'ITALIA DIB'!$L26 -> 0 | L26: =SUM(B26:K26) -> 1 | M26: altro
A27: AVVERTENZA: tutte le righe riportano il numero delle misure cautelari emesse nell'anno, a prescindere dal numero dei procedimenti o provvedimenti che le contengono
A28: (*) le due categorie "con altro tipo di sentenza" ricomprendono le misure emesse nei procedimenti definiti ex artt. 129 - 425 - 469 - 529 - 531 c.p.p. (restano quindi esclusi i procedimenti definiti per incompetenza)
