Workbook

Sheet Riepilogo Spese
A1: SCHEDA ANALITICA DEI COSTI DI PROGETTO
A2: SOGGETTO PROPONENTE: REGIONE LAZIO
A3: DENOMINAZIONE DEL PROGETTO: Sinergie di rete per il sostegno generalista alle vittime di reato e la promozione di percorsi di giustizia riparativa nel territorio della Regione Lazio
A4: Cat.01 | B4: Spese per il personale | D4: Costo | E4: Costo cofinanziato
D5: =+'Cat 01'!F26 -> 97200 | E5: =+'Cat 01'!G26 -> 0
C6: Totale Categoria 01 | D6: =+D5 -> 97200 | E6: =+E5 -> 0
A8: Cat.02 | B8: Spese per i destinatari degli interventi | D8: Costo | E8: Costo cofinanziato
D9: =+'Cat 02'!F26 -> 11875 | E9: =+'Cat 02'!G26 -> 0
C10: Totale Categoria 02 | D10: =+D9 -> 11875 | E10: =+E9 -> 0
A12: Cat.03 | B12: Spese per il noleggio di beni e servizi | D12: Costo | E12: Costo cofinanziato
B13: A) Beni | D13: =+'Cat 03'!G15 -> 1228.8 | E13: =+'Cat 03'!H15 -> 0
B15: B) Servizi | D15: =+'Cat 03'!G26 -> 7812 | E15: =+'Cat 03'!H26 -> 0
C17: Totale Categoria 03 | D17: =+D13+D15 -> 9040.8 | E17: =+E13+E15 -> 0
A19: Cat.04 | B19: Spese generali | D19: Costo | E19: Costo cofinanziato
D20: =+'Cat 04'!F26 -> 13123.96 | E20: =+'Cat 04'!G26 -> 0
C21: Totale Categoria 04 | D21: =+D20 -> 13123.96 | E21: =+E20 -> 0
A23: TOTALE COSTO FINANZIAMENTO | D23: =+D21+D17+D10+D6 -> 131239.76
A24: TOTALE COSTI COFINANZIATI
A25: TOTALE GENERALE COSTO PROGETTO | E25: =+D23+E24 -> 131239.76

Sheet Cat 01
A1: SCHEDA ANALITICA DEI COSTI DI PROGETTO
A2: SOGGETTO PROPONENTE:REGIONE LAZIO
A3: DENOMINAZIONE DEL PROGETTO: Sinergie di rete per il sostegno generalista alle vittime di reato e la promozione di percorsi di giustizia riparativa nel territorio della Regione Lazio
A4: Cat.01 | B4: Spese per il personale impiegato nel progetto | F4: Costo | G4: Costo cofinanziato
B5: Descrizione | C5: Numero unità | D5: Quantità | E5: Costo unitario | F5: Totale | G5: Totale
A6: 1 | B6: Assistente Sociale | C6: 1 | D6: 864 | E6: 25 | F6: =+E6*D6 -> 21600 | G6: 0
A7: 2 | B7: Mediatore Penale | C7: 1 | D7: 864 | E7: 25 | F7: =+E7*D7 -> 21600 | G7: 0
A8: 3 | B8: Mediatore Penale Esperto | C8: 2 | D8: 1728 | E8: 25 | F8: =+E8*D8 -> 43200 | G8: 0
A9: 4 | B9: Consulente informatico | C9: 1 | D9: 432 | E9: 25 | F9: =+E9*D9 -> 10800 | G9: 0
A10: 5
A11: 6
A12: 7
A13: 8
A14: 9
A15: 10
A16: 11
A17: 12
A18: 13
A19: 14
A20: 15
A21: 16
... A25: 20
D26: Totale Categoria 01 | F26: =SUM(F6:F25) -> 97200 | G26: =SUM(G6:G25) -> 0

Sheet Cat 02
A1: SCHEDA ANALITICA DEI COSTI DI PROGETTO
A2: SOGGETTO PROPONENTE:REGIONE LAZIO
A3: DENOMINAZIONE DEL PROGETTO: Sinergie di rete per il sostegno generalista alle vittime di reato e la promozione di percorsi di giustizia riparativa nel territorio della Regione Lazio
A4: Cat.02 | B4: Spese per i destinatari degli interventi | F4: Costo | G4: Costo cofinanziato
B5: Descrizione | C5: Tipo unità | D5: Quantità | E5: Costo unitario | F5: Totale | G5: Totale
A6: 1 | B6: Formazione consulenza online | D6: 50 | E6: 25 | F6: =+D6*E6 -> 1250 | G6: 0
A7: 2 | B7: Formazione personale penitenziario | D7: 125 | E7: 25 | F7: =+D7*E7 -> 3125 | G7: 0
A8: 3 | B8: Sensibilizzazione | D8: 200 | E8: 25 | F8: =+D8*E8 -> 5000 | G8: 0
A9: 4 | B9: Pubblicizzazione | D9: 100 | E9: 25 | F9: =+D9*E9 -> 2500 | G9: 0
A10: 5
A11: 6
A12: 7
A13: 8
A14: 9
A15: 10
A16: 11
A17: 12
A18: 13
A19: 14
A20: 15
A21: 16
... A25: 20
D26: Totale Categoria 02 | F26: =SUM(F6:F25) -> 11875 | G26: =SUM(G6:G25) -> 0

Sheet Cat 03
A1: SCHEDA ANALITICA DEI COSTI DI PROGETTO
A2: SOGGETTO PROPONENTE: REGIONE LAZIO
A3: DENOMINAZIONE DEL PROGETTO: Sinergie di rete per il sostegno generalista alle vittime di reato e la promozione di percorsi di giustizia riparativa nel territorio della Regione Lazio
A4: Cat.03 | B4: Spese per il noleggio di beni e servizi | G4: Costo | H4: Costo cofinanziato
A5: A) Beni | G5: Totale | H5: Totale
A6: A | B6: Descrizione | D6: Tipo unità | E6: Quantità | F6: Costo unitario
A7: 1 | B7: Smartphone | D7: 2 | E7: 12 | F7: 40 | G7: =+F7*E7*D7 -> 960 | H7: 0
A8: 2 | B8: Sim dedicata | D8: 2 | E8: 12 | F8: 11.2 | G8: =+F8*E8*D8 -> 268.8 | H8: 0
A9: 3
A10: 4
A11: 5
A12: 6
A13: 7
A14: 8
E15: Totale A | G15: =SUM(G7:G14) -> 1228.8 | H15: =SUM(H7:H14) -> 0
A16: B) Servizi | G16: Totale | H16: Totale
A17: B | B17: Descrizione | D17: Tipo unità | E17: Quantità | F17: Costo Unitario
A18: 1 | B18: Creazione applicazione web | D18: 1 | E18: 12 | F18: 651 | G18: =+F18*E18 -> 7812 | H18: 0
A19: 2
A20: 3
A21: 4
A22: 5
A23: 6
A24: 7
A25: 8
E26: Totale B | G26: =SUM(G18:G25) -> 7812 | H26: =SUM(H18:H25) -> 0
E27: Totale Categoria 03 | G27: =+G15+G26 -> 9040.8 | H27: =+H15+H26 -> 0

Sheet Cat 04
A1: SCHEDA ANALITICA DEI COSTI DI PROGETTO
A2: SOGGETTO PROPONENTE:REGIONE LAZIO
A3: DENOMINAZIONE DEL PROGETTO: Sinergie di rete per il sostegno generalista alle vittime di reato e la promozione di percorsi di giustizia riparativa nel territorio della Regione Lazio
A4: Cat.04 | B4: Spese generali | F4: Costo | G4: Costo cofinanziato
B5: Descrizione | C5: Tipo unità | D5: Quantità | E5: Costo unitario | F5: Totale | G5: Totale
A6: 1 | B6: Progettazione | F6: 13123.96 | G6: 0
A7: 2
A8: 3
A9: 4
A10: 5
A11: 6
A12: 7
A13: 8
A14: 9
A15: 10
A16: 11
A17: 12
A18: 13
... A25: 20
D26: Totale Categoria 04 | F26: =SUM(F6:F25) -> 13123.96 | G26: =SUM(G6:G25) -> 0
