Workbook
Name Area_stampa1: '[6]TABELLE ORGANICO02'!$C$1:$N$51
Name TIT_ST: #REF!
Name TIT_ST: #REF!
Name Titoli_stampa_MI: [5]STOR_PG!$A$2:$IV$12

Sheet Tabella A DAP
B1: Tabella A
B2: Ripartizione territoriale della dotazione organica prevista dalla tabella E del D.P.C.M. 15 giugno 2015, n. 84.
B3: Struttura | C3: Sede | D3: Tipologia | E3: Funzionario della professionalità giuridico-pedagogica | F3: Funzionario contabile | G3: Funzionario dell'organizzazione e delle relazioni | H3: Funzionario informatico | I3: Funzionario tecnico | J3: Funzionario linguistico | K3: Funzionario della professionalità di mediazione culturale | L3: Operatore | M3: Assistente amministrativo | N3: Assistente linguistico | O3: Contabile | P3: Assistente informatico | Q3: Assistente tecnico | R3: Ausiliario | S3: TOTALI
A4: XX07 | B4: DAP | C4: ROMA | D4: AMMINISTRAZIONE CENTRALE | E4: 43 | F4: 49 | G4: 36 | H4: 28 | I4: 36 | J4: 3 | K4: 1 | L4: 29 | M4: 87 | N4: 2 | O4: 24 | P4: 23 | Q4: 36 | R4: 4 | S4: =SUM(E4:R4) -> 401
B5: TOTALE | E5: =SUBTOTAL(9,E4:E4) -> 43 | F5: =SUBTOTAL(9,F4:F4) -> 49 | G5: =SUBTOTAL(9,G4:G4) -> 36 | H5: =SUBTOTAL(9,H4:H4) -> 28 | I5: =SUBTOTAL(9,I4:I4) -> 36 | J5: =SUBTOTAL(9,J4:J4) -> 3 | K5: =SUBTOTAL(9,K4:K4) -> 1 | L5: =SUBTOTAL(9,L4:L4) -> 29 | ... S5: =SUBTOTAL(9,S4:S4) -> 401

Sheet Tabella B DGFO
B1: Tabella B
B2: Ripartizione territoriale della dotazione organica prevista dalla tabella E del D.P.C.M. 15 giugno 2015, n. 84.
B3: Struttura | C3: Sede | D3: Tipologia | E3: Funzionario della professionalità giuridico-pedagogica | F3: Funzionario contabile | G3: Funzionario dell'organizzazione e delle relazioni | H3: Funzionario informatico | I3: Funzionario tecnico | J3: Funzionario linguistico | K3: Funzionario della professionalità di mediazione culturale | L3: Operatore | M3: Assistente amministrativo | N3: Assistente linguistico | O3: Contabile | P3: Assistente informatico | Q3: Assistente tecnico | R3: Ausiliario | S3: TOTALI
A4: SA04 | B4: DIREZIONE GENERALE FORMAZIONE | C4: CAIRO MONTENOTTE | D4: SCUOLA | E4: 2 | F4: 1 | G4: 1 | H4: 0 | I4: 0 | J4: 0 | K4: 0 | L4: 3 | M4: 1 | N4: 0 | O4: 0 | P4: 1 | Q4: 1 | R4: 0 | S4: =SUM(E4:R4) -> 10
A5: SF08 | B5: DIREZIONE GENERALE FORMAZIONE | C5: CASTIGLIONE DELLE STIVIERE | D5: ISTITUTO DI ISTRUZIONE | E5: 1 | F5: 1 | G5: 1 | H5: 0 | I5: 0 | J5: 0 | K5: 0 | L5: 2 | M5: 1 | N5: 0 | O5: 1 | P5: 1 | Q5: 1 | R5: 0 | S5: =SUM(E5:R5) -> 9
A6: XX10 | B6: DIREZIONE GENERALE FORMAZIONE | C6: ROMA | D6: SCUOLA SUPERIORE ESECUZIONE PENALE | E6: 2 | F6: 2 | G6: 1 | H6: 1 | I6: 0 | J6: 1 | K6: 0 | L6: 4 | M6: 1 | N6: 0 | O6: 0 | P6: 2 | Q6: 1 | R6: 1 | S6: =SUM(E6:R6) -> 16
A7: SA01 | B7: DIREZIONE GENERALE FORMAZIONE | C7: PARMA | D7: ISTITUTO DI ISTRUZIONE | E7: 1 | F7: 1 | G7: 1 | H7: 0 | I7: 0 | J7: 0 | K7: 0 | L7: 2 | M7: 1 | N7: 0 | O7: 1 | P7: 1 | Q7: 1 | R7: 0 | S7: =SUM(E7:R7) -> 9
A8: SA02 | B8: DIREZIONE GENERALE FORMAZIONE | C8: PORTICI | D8: SCUOLA | E8: 2 | F8: 2 | G8: 1 | H8: 0 | I8: 0 | J8: 0 | K8: 0 | L8: 1 | M8: 1 | N8: 0 | O8: 0 | P8: 1 | Q8: 1 | R8: 0 | S8: =SUM(E8:R8) -> 9
A9: SF01 | B9: DIREZIONE GENERALE FORMAZIONE | C9: ROMA | D9: SCUOLA | E9: 2 | F9: 2 | G9: 1 | H9: 1 | I9: 0 | J9: 0 | K9: 0 | L9: 4 | M9: 1 | N9: 0 | O9: 2 | P9: 2 | Q9: 2 | R9: 1 | S9: =SUM(E9:R9) -> 18
A10: SA08 | B10: DIREZIONE GENERALE FORMAZIONE | C10: S. PIETRO IN CLARENZA | D10: SCUOLA | E10: 2 | F10: 2 | G10: 1 | H10: 0 | I10: 0 | J10: 0 | K10: 0 | L10: 3 | M10: 1 | N10: 0 | O10: 0 | P10: 1 | Q10: 1 | R10: 0 | S10: =SUM(E10:R10) -> 11
A11: SA06 | B11: DIREZIONE GENERALE FORMAZIONE | C11: SULMONA | D11: ISTITUTO DI ISTRUZIONE | E11: 1 | F11: 1 | G11: 1 | H11: 0 | I11: 0 | J11: 0 | K11: 0 | L11: 2 | M11: 1 | N11: 0 | O11: 1 | P11: 1 | Q11: 1 | R11: 1 | S11: =SUM(E11:R11) -> 10
A12: SA05 | B12: DIREZIONE GENERALE FORMAZIONE | C12: VERBANIA | D12: ISTITUTO DI ISTRUZIONE | E12: 1 | F12: 1 | G12: 1 | H12: 0 | I12: 0 | J12: 0 | K12: 0 | L12: 2 | M12: 1 | N12: 0 | O12: 1 | P12: 1 | Q12: 1 | R12: 0 | S12: =SUM(E12:R12) -> 9
B13: TOTALE | E13: =SUBTOTAL(9,E4:E12) -> 14 | F13: =SUBTOTAL(9,F4:F12) -> 13 | G13: =SUBTOTAL(9,G4:G12) -> 9 | H13: =SUBTOTAL(9,H4:H12) -> 2 | I13: =SUBTOTAL(9,I4:I12) -> 0 | J13: =SUBTOTAL(9,J4:J12) -> 1 | K13: =SUBTOTAL(9,K4:K12) -> 0 | L13: =SUBTOTAL(9,L4:L12) -> 23 | ... S13: =SUBTOTAL(9,S4:S12) -> 101

Sheet Tabella C Calabria
B1: Tabella C
B2: Ripartizione territoriale della dotazione organica prevista dalla tabella E del D.P.C.M. 15 giugno 2015, n. 84.
B3: Struttura | C3: Sede | D3: Tipologia | E3: Funzionario della professionalità giuridico-pedagogica | F3: Funzionario contabile | G3: Funzionario dell'organizzazione e delle relazioni | H3: Funzionario informatico | I3: Funzionario tecnico | J3: Funzionario linguistico | K3: Funzionario della professionalità di mediazione culturale | L3: Operatore | M3: Assistente amministrativo | N3: Assistente linguistico | O3: Contabile | P3: Assistente informatico | Q3: Assistente tecnico | R3: Ausiliario | S3: TOTALI
A4: HH12 | B4: CALABRIA | C4: CASTROVILLARI "R. SISCA" | D4: CC | E4: 2 | F4: 2 | G4: 1 | H4: 0 | I4: 0 | J4: 0 | K4: 0 | L4: 2 | M4: 4 | N4: 0 | O4: 1 | P4: 1 | Q4: 1 | R4: 0 | S4: =SUM(E4:R4) -> 14
A5: PR14 | B5: CALABRIA | C5: CATANZARO | D5: PRAP | E5: 3 | F5: 4 | G5: 2 | H5: 2 | I5: 5 | J5: 0 | K5: 0 | L5: 3 | M5: 6 | N5: 0 | O5: 2 | P5: 2 | Q5: 5 | R5: 1 | S5: =SUM(E5:R5) -> 35
A6: HH11 | B6: CALABRIA | C6: CATANZARO "U. CARIDI" | D6: CC | E6: 10 | F6: 6 | G6: 1 | H6: 0 | I6: 0 | J6: 0 | K6: 1 | L6: 2 | M6: 6 | N6: 0 | O6: 3 | P6: 1 | Q6: 4 | R6: 1 | S6: =SUM(E6:R6) -> 35
A7: HH04 | B7: CALABRIA | C7: COSENZA "S. COSMAI" | D7: CC | E7: 5 | F7: 3 | G7: 1 | H7: 0 | I7: 0 | J7: 0 | K7: 0 | L7: 2 | M7: 4 | N7: 0 | O7: 1 | P7: 1 | Q7: 2 | R7: 0 | S7: =SUM(E7:R7) -> 19
A8: HH39 | B8: CALABRIA | C8: CROTONE | D8: CC | E8: 3 | F8: 3 | G8: 1 | H8: 0 | I8: 0 | J8: 0 | K8: 1 | L8: 2 | M8: 4 | N8: 0 | O8: 1 | P8: 1 | Q8: 1 | R8: 0 | S8: =SUM(E8:R8) -> 17
A9: HH43 | B9: CALABRIA | C9: LAUREANA DI BORRELLO "L. DAGA" | D9: CC | E9: 1 | F9: 2 | G9: 0 | H9: 0 | I9: 0 | J9: 0 | K9: 0 | L9: 2 | M9: 3 | N9: 0 | O9: 1 | P9: 1 | Q9: 2 | R9: 0 | S9: =SUM(E9:R9) -> 12
A10: HH06 | B10: CALABRIA | C10: LOCRI | D10: CC | E10: 3 | F10: 2 | G10: 1 | H10: 0 | I10: 0 | J10: 0 | K10: 0 | L10: 2 | M10: 3 | N10: 0 | O10: 1 | P10: 1 | Q10: 1 | R10: 0 | S10: =SUM(E10:R10) -> 14
A11: HH19 | B11: CALABRIA | C11: PALMI "F. SALSONE" | D11: CC | E11: 4 | F11: 3 | G11: 1 | H11: 0 | I11: 0 | J11: 0 | K11: 0 | L11: 2 | M11: 4 | N11: 0 | O11: 1 | P11: 1 | Q11: 1 | R11: 0 | S11: =SUM(E11:R11) -> 17
A12: HH20 | B12: CALABRIA | C12: PAOLA | D12: CC | E12: 4 | F12: 3 | G12: 1 | H12: 0 | I12: 0 | J12: 0 | K12: 1 | L12: 2 | M12: 4 | N12: 0 | O12: 1 | P12: 1 | Q12: 1 | R12: 0 | S12: =SUM(E12:R12) -> 18
A13: HH44 | B13: CALABRIA | C13: REGGIO CALABRIA "ARGHILLA'" E REGGIO CALABRIA "G. PANZERA" | D13: CC | E13: 8 | F13: 7 | G13: 1 | H13: 0 | I13: 0 | J13: 0 | K13: 1 | L13: 2 | M13: 5 | N13: 0 | O13: 2 | P13: 1 | Q13: 2 | R13: 0 | S13: =SUM(E13:R13) -> 29
A14: HH41 | B14: CALABRIA | C14: ROSSANO N.C. | D14: CR | E14: 6 | F14: 4 | G14: 1 | H14: 0 | I14: 0 | J14: 0 | K14: 1 | L14: 2 | M14: 4 | N14: 0 | O14: 0 | P14: 1 | Q14: 2 | R14: 1 | S14: =SUM(E14:R14) -> 22
A15: HH07 | B15: CALABRIA | C15: VIBO VALENTIA N.C. | D15: CC | E15: 6 | F15: 4 | G15: 1 | H15: 0 | I15: 0 | J15: 0 | K15: 1 | L15: 2 | M15: 5 | N15: 0 | O15: 1 | P15: 1 | Q15: 2 | R15: 1 | S15: =SUM(E15:R15) -> 24
B16: TOTALE | E16: =SUBTOTAL(9,E4:E15) -> 55 | F16: =SUBTOTAL(9,F4:F15) -> 43 | G16: =SUBTOTAL(9,G4:G15) -> 12 | H16: =SUBTOTAL(9,H4:H15) -> 2 | I16: =SUBTOTAL(9,I4:I15) -> 5 | J16: =SUBTOTAL(9,J4:J15) -> 0 | K16: =SUBTOTAL(9,K4:K15) -> 6 | L16: =SUBTOTAL(9,L4:L15) -> 25 | ... S16: =SUBTOTAL(9,S4:S15) -> 256

Sheet Tabella D Campania
B1: Tabella D
B2: Ripartizione territoriale della dotazione organica prevista dalla tabella E del D.P.C.M. 15 giugno 2015, n. 84.
B3: Struttura | C3: Sede | D3: Tipologia | E3: Funzionario della professionalità giuridico-pedagogica | F3: Funzionario contabile | G3: Funzionario dell'organizzazione e delle relazioni | H3: Funzionario informatico | I3: Funzionario tecnico | J3: Funzionario linguistico | K3: Funzionario della professionalità di mediazione culturale | L3: Operatore | M3: Assistente amministrativo | N3: Assistente linguistico | O3: Contabile | P3: Assistente informatico | Q3: Assistente tecnico | R3: Ausiliario | S3: TOTALI
A4: FF30 | B4: CAMPANIA | C4: ARIANO IRPINO | D4: CC | E4: 5 | F4: 3 | G4: 1 | H4: 0 | I4: 0 | J4: 0 | K4: 0 | L4: 2 | M4: 5 | N4: 0 | O4: 1 | P4: 1 | Q4: 2 | R4: 0 | S4: =SUM(E4:R4) -> 20
A5: FF18 | B5: CAMPANIA | C5: ARIENZO | D5: CC | E5: 2 | F5: 2 | G5: 1 | H5: 0 | I5: 0 | J5: 0 | K5: 0 | L5: 1 | M5: 4 | N5: 0 | O5: 1 | P5: 0 | Q5: 1 | R5: 0 | S5: =SUM(E5:R5) -> 12
A6: FF32 | B6: CAMPANIA | C6: Avellino "Antimo Graziano" C.C. - Lauro I.C.A.M. sez. dist.ta CC. Avellino | D6: CC | E6: 10 | F6: 5 | G6: 1 | H6: 0 | I6: 0 | J6: 0 | K6: 1 | L6: 3 | M6: 5 | N6: 0 | O6: 2 | P6: 1 | Q6: 3 | R6: 1 | S6: =SUM(E6:R6) -> 32
A7: FF03 | B7: CAMPANIA | C7: AVERSA "FILIPPO SAPORITO" | D7: CR | E7: 7 | F7: 3 | G7: 1 | H7: 0 | I7: 0 | J7: 0 | K7: 0 | L7: 1 | M7: 5 | N7: 0 | O7: 1 | P7: 1 | Q7: 4 | R7: 1 | S7: =SUM(E7:R7) -> 24
A8: FF08 | B8: CAMPANIA | C8: BENEVENTO | D8: CC | E8: 6 | F8: 3 | G8: 1 | H8: 0 | I8: 0 | J8: 0 | K8: 0 | L8: 2 | M8: 5 | N8: 0 | O8: 1 | P8: 1 | Q8: 2 | R8: 0 | S8: =SUM(E8:R8) -> 21
A9: FF29 | B9: CAMPANIA | C9: CARINOLA "G.B. NOVELLI" | D9: CR | E9: 7 | F9: 4 | G9: 1 | H9: 0 | I9: 0 | J9: 0 | K9: 0 | L9: 2 | M9: 5 | N9: 0 | O9: 2 | P9: 1 | Q9: 3 | R9: 1 | S9: =SUM(E9:R9) -> 26
A10: FF64 | B10: CAMPANIA | C10: EBOLI | D10: CR | E10: 3 | F10: 3 | G10: 1 | H10: 0 | I10: 0 | J10: 0 | K10: 0 | L10: 1 | M10: 4 | N10: 0 | O10: 1 | P10: 0 | Q10: 0 | R10: 0 | S10: =SUM(E10:R10) -> 13
A11: PR11 | B11: CAMPANIA | C11: NAPOLI | D11: PRAP | E11: 2 | F11: 5 | G11: 2 | H11: 2 | I11: 8 | J11: 0 | K11: 1 | L11: 4 | M11: 7 | N11: 0 | O11: 1 | P11: 2 | Q11: 8 | R11: 1 | S11: =SUM(E11:R11) -> 43
A12: FF01 | B12: CAMPANIA | C12: NAPOLI "G. SALVIA" | D12: CC | E12: 24 | F12: 9 | G12: 1 | H12: 0 | I12: 0 | J12: 0 | K12: 1 | L12: 5 | M12: 6 | N12: 0 | O12: 2 | P12: 2 | Q12: 6 | R12: 2 | S12: =SUM(E12:R12) -> 58
A13: FF58 | B13: CAMPANIA | C13: NAPOLI SECONDIGLIANO | D13: CC | E13: 18 | F13: 8 | G13: 1 | H13: 0 | I13: 0 | J13: 0 | K13: 1 | L13: 4 | M13: 6 | N13: 0 | O13: 3 | P13: 2 | Q13: 7 | R13: 2 | S13: =SUM(E13:R13) -> 52
A14: FF56 | B14: CAMPANIA | C14: POZZUOLI | D14: CCF | E14: 4 | F14: 3 | G14: 1 | H14: 0 | I14: 0 | J14: 0 | K14: 0 | L14: 2 | M14: 5 | N14: 0 | O14: 1 | P14: 1 | Q14: 2 | R14: 1 | S14: =SUM(E14:R14) -> 20
A15: FF11 | B15: CAMPANIA | C15: SALERNO "A. CAPUTO" | D15: CC | E15: 9 | F15: 3 | G15: 1 | H15: 0 | I15: 0 | J15: 0 | K15: 1 | L15: 3 | M15: 4 | N15: 0 | O15: 2 | P15: 1 | Q15: 3 | R15: 2 | S15: =SUM(E15:R15) -> 29
... A18: FF24 | B18: CAMPANIA | C18: VALLO DELLA LUCANIA | D18: CC | E18: 2 | F18: 2 | G18: 1 | H18: 0 | I18: 0 | J18: 0 | K18: 0 | L18: 1 | M18: 4 | N18: 0 | O18: 1 | P18: 0 | Q18: 1 | R18: 0 | S18: =SUM(E18:R18) -> 12
B19: TOTALE | E19: =SUBTOTAL(9,E4:E18) -> 115 | F19: =SUBTOTAL(9,F4:F18) -> 64 | G19: =SUBTOTAL(9,G4:G18) -> 16 | H19: =SUBTOTAL(9,H4:H18) -> 2 | I19: =SUBTOTAL(9,I4:I18) -> 8 | J19: =SUBTOTAL(9,J4:J18) -> 0 | K19: =SUBTOTAL(9,K4:K18) -> 6 | L19: =SUBTOTAL(9,L4:L18) -> 36 | ... S19: =SUBTOTAL(9,S4:S18) -> 418

Sheet Tabella E Emilia Romagna
B1: Tabella E
B2: Ripartizione territoriale della dotazione organica prevista dalla tabella E del D.P.C.M. 15 giugno 2015, n. 84.
B3: Struttura | C3: Sede | D3: Tipologia | E3: Funzionario della professionalità giuridico-pedagogica | F3: Funzionario contabile | G3: Funzionario dell'organizzazione e delle relazioni | H3: Funzionario informatico | I3: Funzionario tecnico | J3: Funzionario linguistico | K3: Funzionario della professionalità di mediazione culturale | L3: Operatore | M3: Assistente amministrativo | N3: Assistente linguistico | O3: Contabile | P3: Assistente informatico | Q3: Assistente tecnico | R3: Ausiliario | S3: TOTALI
A4: PD08 | B4: EMILIA ROMAGNA E MARCHE | C4: ANCONA | D4: DISTACCAMENTO | E4: 1 | F4: 1 | G4: 1 | H4: 0 | I4: 0 | J4: 0 | K4: 0 | L4: 1 | M4: 2 | N4: 0 | O4: 1 | P4: 0 | Q4: 1 | R4: 0 | S4: =SUM(E4:R4) -> 8
A5: EE04 | B5: EMILIA ROMAGNA E MARCHE | C5: ANCONA MONTACUTO E ANCONA BARCAGLIONE | D5: CC e CR | E5: 8 | F5: 7 | G5: 1 | H5: 0 | I5: 0 | J5: 0 | K5: 1 | L5: 2 | M5: 5 | N5: 0 | O5: 2 | P5: 1 | Q5: 2 | R5: 0 | S5: =SUM(E5:R5) -> 29
A6: EE27 | B6: EMILIA ROMAGNA E MARCHE | C6: ASCOLI PICENO | D6: CC | E6: 3 | F6: 3 | G6: 1 | H6: 0 | I6: 0 | J6: 0 | K6: 0 | L6: 1 | M6: 4 | N6: 0 | O6: 1 | P6: 1 | Q6: 1 | R6: 0 | S6: =SUM(E6:R6) -> 15
A7: PR21 | B7: EMILIA ROMAGNA E MARCHE | C7: BOLOGNA | D7: PRAP | E7: 1 | F7: 3 | G7: 1 | H7: 2 | I7: 7 | J7: 0 | K7: 1 | L7: 3 | M7: 5 | N7: 0 | O7: 1 | P7: 2 | Q7: 7 | R7: 1 | S7: =SUM(E7:R7) -> 34
A8: BB03 | B8: EMILIA ROMAGNA E MARCHE | C8: BOLOGNA "DOZZA" | D8: CC | E8: 10 | F8: 5 | G8: 1 | H8: 0 | I8: 0 | J8: 0 | K8: 1 | L8: 4 | M8: 4 | N8: 0 | O8: 1 | P8: 2 | Q8: 3 | R8: 1 | S8: =SUM(E8:R8) -> 32
A9: BB07 | B9: EMILIA ROMAGNA E MARCHE | C9: CASTELFRANCO EMILIA | D9: CR | E9: 3 | F9: 3 | G9: 0 | H9: 0 | I9: 0 | J9: 0 | K9: 0 | L9: 1 | M9: 4 | N9: 0 | O9: 1 | P9: 1 | Q9: 2 | R9: 0 | S9: =SUM(E9:R9) -> 15
A10: EE16 | B10: EMILIA ROMAGNA E MARCHE | C10: FERMO | D10: CR | E10: 3 | F10: 3 | G10: 1 | H10: 0 | I10: 0 | J10: 0 | K10: 0 | L10: 1 | M10: 4 | N10: 0 | O10: 0 | P10: 1 | Q10: 1 | R10: 0 | S10: =SUM(E10:R10) -> 14
A11: BB08 | B11: EMILIA ROMAGNA E MARCHE | C11: FERRARA | D11: CC | E11: 5 | F11: 3 | G11: 1 | H11: 0 | I11: 0 | J11: 0 | K11: 0 | L11: 2 | M11: 4 | N11: 0 | O11: 0 | P11: 1 | Q11: 1 | R11: 1 | S11: =SUM(E11:R11) -> 18
A12: BB09 | B12: EMILIA ROMAGNA E MARCHE | C12: FORLI' | D12: CC | E12: 4 | F12: 3 | G12: 1 | H12: 0 | I12: 0 | J12: 0 | K12: 0 | L12: 2 | M12: 4 | N12: 0 | O12: 1 | P12: 1 | Q12: 1 | R12: 0 | S12: =SUM(E12:R12) -> 17
A13: EE14 | B13: EMILIA ROMAGNA E MARCHE | C13: FOSSOMBRONE | D13: CR | E13: 6 | F13: 4 | G13: 1 | H13: 0 | I13: 0 | J13: 0 | K13: 0 | L13: 1 | M13: 4 | N13: 0 | O13: 0 | P13: 1 | Q13: 1 | R13: 0 | S13: =SUM(E13:R13) -> 18
A14: BB10 | B14: EMILIA ROMAGNA E MARCHE | C14: MODENA | D14: CC | E14: 6 | F14: 3 | G14: 1 | H14: 0 | I14: 0 | J14: 0 | K14: 1 | L14: 2 | M14: 6 | N14: 0 | O14: 2 | P14: 1 | Q14: 2 | R14: 1 | S14: =SUM(E14:R14) -> 25
A15: BB11 | B15: EMILIA ROMAGNA E MARCHE | C15: PARMA | D15: CC e CR | E15: 12 | F15: 6 | G15: 1 | H15: 0 | I15: 0 | J15: 0 | K15: 1 | L15: 3 | M15: 6 | N15: 0 | O15: 2 | P15: 1 | Q15: 3 | R15: 1 | S15: =SUM(E15:R15) -> 36
... A20: BB15 | B20: EMILIA ROMAGNA E MARCHE | C20: RIMINI | D20: CC | E20: 3 | F20: 3 | G20: 1 | H20: 0 | I20: 0 | J20: 0 | K20: 0 | L20: 1 | M20: 5 | N20: 0 | O20: 1 | P20: 1 | Q20: 1 | R20: 0 | S20: =SUM(E20:R20) -> 16
B21: TOTALE | E21: =SUBTOTAL(9,E4:E20) -> 83 | F21: =SUBTOTAL(9,F4:F20) -> 59 | G21: =SUBTOTAL(9,G4:G20) -> 16 | H21: =SUBTOTAL(9,H4:H20) -> 2 | I21: =SUBTOTAL(9,I4:I20) -> 7 | J21: =SUBTOTAL(9,J4:J20) -> 0 | K21: =SUBTOTAL(9,K4:K20) -> 6 | L21: =SUBTOTAL(9,L4:L20) -> 32 | ... S21: =SUBTOTAL(9,S4:S20) -> 351

Sheet Tabella F Lazio
B1: Tabella F
B2: Ripartizione territoriale della dotazione organica prevista dalla tabella E del D.P.C.M. 15 giugno 2015, n. 84.
B3: Struttura | C3: Sede | D3: Tipologia | E3: Funzionario della professionalità giuridico-pedagogica | F3: Funzionario contabile | G3: Funzionario dell'organizzazione e delle relazioni | H3: Funzionario informatico | I3: Funzionario tecnico | J3: Funzionario linguistico | K3: Funzionario della professionalità di mediazione culturale | L3: Operatore | M3: Assistente amministrativo | N3: Assistente linguistico | O3: Contabile | P3: Assistente informatico | Q3: Assistente tecnico | R3: Ausiliario | S3: TOTALI
A4: EE10 | B4: LAZIO, ABRUZZO E MOLISE | C4: AVEZZANO | D4: CC | E4: 2 | F4: 2 | G4: 1 | H4: 0 | I4: 0 | J4: 0 | K4: 0 | L4: 1 | M4: 3 | N4: 0 | O4: 1 | P4: 0 | Q4: 1 | R4: 0 | S4: =SUM(E4:R4) -> 11
A5: FF12 | B5: LAZIO, ABRUZZO E MOLISE | C5: CAMPOBASSO | D5: CC | E5: 3 | F5: 3 | G5: 1 | H5: 0 | I5: 0 | J5: 0 | K5: 0 | L5: 1 | M5: 2 | N5: 0 | O5: 1 | P5: 1 | Q5: 1 | R5: 0 | S5: =SUM(E5:R5) -> 13
A6: EE06 | B6: LAZIO, ABRUZZO E MOLISE | C6: CASSINO | D6: CC | E6: 3 | F6: 3 | G6: 1 | H6: 0 | I6: 0 | J6: 0 | K6: 0 | L6: 2 | M6: 4 | N6: 0 | O6: 2 | P6: 1 | Q6: 1 | R6: 0 | S6: =SUM(E6:R6) -> 17
A7: EE17 | B7: LAZIO, ABRUZZO E MOLISE | C7: CHIETI | D7: CC | E7: 3 | F7: 2 | G7: 1 | H7: 0 | I7: 0 | J7: 0 | K7: 0 | L7: 2 | M7: 4 | N7: 0 | O7: 1 | P7: 0 | Q7: 1 | R7: 0 | S7: =SUM(E7:R7) -> 14
A8: EE32 | B8: LAZIO, ABRUZZO E MOLISE | C8: CIVITAVECCHIA E CIVITAVECCHIA "G. PASSERINI" | D8: CC e CR | E8: 8 | F8: 8 | G8: 1 | H8: 0 | I8: 0 | J8: 0 | K8: 1 | L8: 3 | M8: 5 | N8: 0 | O8: 2 | P8: 1 | Q8: 2 | R8: 1 | S8: =SUM(E8:R8) -> 32
A9: EE07 | B9: LAZIO, ABRUZZO E MOLISE | C9: FROSINONE "G. PAGLIEI" | D9: CC | E9: 8 | F9: 4 | G9: 1 | H9: 0 | I9: 0 | J9: 0 | K9: 0 | L9: 3 | M9: 5 | N9: 0 | O9: 3 | P9: 1 | Q9: 2 | R9: 0 | S9: =SUM(E9:R9) -> 27
A10: FF19 | B10: LAZIO, ABRUZZO E MOLISE | C10: ISERNIA | D10: CC | E10: 2 | F10: 1 | G10: 0 | H10: 0 | I10: 0 | J10: 0 | K10: 0 | L10: 1 | M10: 3 | N10: 0 | O10: 1 | P10: 0 | Q10: 1 | R10: 0 | S10: =SUM(E10:R10) -> 9
A11: EE18 | B11: LAZIO, ABRUZZO E MOLISE | C11: LANCIANO | D11: CC | E11: 4 | F11: 3 | G11: 1 | H11: 0 | I11: 0 | J11: 0 | K11: 0 | L11: 2 | M11: 4 | N11: 0 | O11: 1 | P11: 1 | Q11: 1 | R11: 0 | S11: =SUM(E11:R11) -> 17
A12: EE11 | B12: LAZIO, ABRUZZO E MOLISE | C12: L'AQUILA | D12: CC | E12: 3 | F12: 3 | G12: 1 | H12: 0 | I12: 0 | J12: 0 | K12: 0 | L12: 2 | M12: 4 | N12: 0 | O12: 1 | P12: 1 | Q12: 2 | R12: 1 | S12: =SUM(E12:R12) -> 18
A13: FF25 | B13: LAZIO, ABRUZZO E MOLISE | C13: LARINO | D13: CC | E13: 3 | F13: 3 | G13: 1 | H13: 0 | I13: 0 | J13: 0 | K13: 0 | L13: 1 | M13: 4 | N13: 0 | O13: 1 | P13: 1 | Q13: 1 | R13: 0 | S13: =SUM(E13:R13) -> 15
A14: EE23 | B14: LAZIO, ABRUZZO E MOLISE | C14: LATINA | D14: CC | E14: 4 | F14: 3 | G14: 1 | H14: 0 | I14: 0 | J14: 0 | K14: 0 | L14: 2 | M14: 3 | N14: 0 | O14: 1 | P14: 1 | Q14: 1 | R14: 0 | S14: =SUM(E14:R14) -> 16
A15: EE22 | B15: LAZIO, ABRUZZO E MOLISE | C15: PALIANO | D15: CR | E15: 2 | F15: 2 | G15: 1 | H15: 0 | I15: 0 | J15: 0 | K15: 0 | L15: 1 | M15: 3 | N15: 0 | O15: 1 | P15: 1 | Q15: 2 | R15: 0 | S15: =SUM(E15:R15) -> 13
... A29: EE09 | B29: LAZIO, ABRUZZO E MOLISE | C29: VITERBO N.C. | D29: CC | E29: 8 | F29: 4 | G29: 1 | H29: 0 | I29: 0 | J29: 0 | K29: 1 | L29: 3 | M29: 7 | N29: 0 | O29: 2 | P29: 1 | Q29: 3 | R29: 1 | S29: =SUM(E29:R29) -> 31
B30: TOTALE | E30: =SUBTOTAL(9,E4:E29) -> 140 | F30: =SUBTOTAL(9,F4:F29) -> 91 | G30: =SUBTOTAL(9,G4:G29) -> 26 | H30: =SUBTOTAL(9,H4:H29) -> 2 | I30: =SUBTOTAL(9,I4:I29) -> 9 | J30: =SUBTOTAL(9,J4:J29) -> 0 | K30: =SUBTOTAL(9,K4:K29) -> 6 | L30: =SUBTOTAL(9,L4:L29) -> 55 | ... S30: =SUBTOTAL(9,S4:S29) -> 583

Sheet Tabella G Lombardia
B1: Tabella G
B2: Ripartizione territoriale della dotazione organica prevista dalla tabella E del D.P.C.M. 15 giugno 2015, n. 84.
B3: Struttura | C3: Sede | D3: Tipologia | E3: Funzionario della professionalità giuridico-pedagogica | F3: Funzionario contabile | G3: Funzionario dell'organizzazione e delle relazioni | H3: Funzionario informatico | I3: Funzionario tecnico | J3: Funzionario linguistico | K3: Funzionario della professionalità di mediazione culturale | L3: Operatore | M3: Assistente amministrativo | N3: Assistente linguistico | O3: Contabile | P3: Assistente informatico | Q3: Assistente tecnico | R3: Ausiliario | S3: TOTALI
A4: BB06 | B4: LOMBARDIA | C4: BERGAMO | D4: CC | E4: 6 | F4: 3 | G4: 1 | H4: 0 | I4: 0 | J4: 0 | K4: 0 | L4: 2 | M4: 5 | N4: 0 | O4: 1 | P4: 1 | Q4: 2 | R4: 0 | S4: =SUM(E4:R4) -> 21
A5: BB02 | B5: LOMBARDIA | C5: BRESCIA CANTON MONBELLO E BRESCIA VERZIANO | D5: CC e CR | E5: 8 | F5: 7 | G5: 1 | H5: 0 | I5: 0 | J5: 0 | K5: 1 | L5: 2 | M5: 4 | N5: 0 | O5: 2 | P5: 1 | Q5: 2 | R5: 0 | S5: =SUM(E5:R5) -> 28
A6: BB16 | B6: LOMBARDIA | C6: BUSTO ARSIZIO | D6: CC | E6: 5 | F6: 3 | G6: 1 | H6: 0 | I6: 0 | J6: 0 | K6: 0 | L6: 3 | M6: 4 | N6: 0 | O6: 0 | P6: 1 | Q6: 2 | R6: 0 | S6: =SUM(E6:R6) -> 19
A7: BB17 | B7: LOMBARDIA | C7: COMO | D7: CC | E7: 6 | F7: 3 | G7: 1 | H7: 0 | I7: 0 | J7: 0 | K7: 1 | L7: 2 | M7: 5 | N7: 0 | O7: 1 | P7: 1 | Q7: 2 | R7: 0 | S7: =SUM(E7:R7) -> 22
A8: BB18 | B8: LOMBARDIA | C8: CREMONA | D8: CC | E8: 6 | F8: 3 | G8: 1 | H8: 0 | I8: 0 | J8: 0 | K8: 1 | L8: 3 | M8: 4 | N8: 0 | O8: 1 | P8: 1 | Q8: 2 | R8: 0 | S8: =SUM(E8:R8) -> 22
A9: BB19 | B9: LOMBARDIA | C9: LECCO | D9: CC | E9: 2 | F9: 1 | G9: 1 | H9: 0 | I9: 0 | J9: 0 | K9: 0 | L9: 2 | M9: 4 | N9: 0 | O9: 1 | P9: 1 | Q9: 1 | R9: 0 | S9: =SUM(E9:R9) -> 13
A10: BB20 | B10: LOMBARDIA | C10: LODI | D10: CC | E10: 2 | F10: 1 | G10: 1 | H10: 0 | I10: 0 | J10: 0 | K10: 0 | L10: 2 | M10: 4 | N10: 0 | O10: 1 | P10: 0 | Q10: 1 | R10: 0 | S10: =SUM(E10:R10) -> 12
A11: BB21 | B11: LOMBARDIA | C11: MANTOVA | D11: CC | E11: 3 | F11: 3 | G11: 1 | H11: 0 | I11: 0 | J11: 0 | K11: 0 | L11: 2 | M11: 5 | N11: 0 | O11: 1 | P11: 1 | Q11: 1 | R11: 0 | S11: =SUM(E11:R11) -> 17
A12: PR03 | B12: LOMBARDIA | C12: MILANO | D12: PRAP | E12: 3 | F12: 5 | G12: 2 | H12: 2 | I12: 8 | J12: 0 | K12: 0 | L12: 4 | M12: 7 | N12: 0 | O12: 1 | P12: 2 | Q12: 8 | R12: 1 | S12: =SUM(E12:R12) -> 43
A13: BB39 | B13: LOMBARDIA | C13: MILANO "OPERA" | D13: CR | E13: 22 | F13: 8 | G13: 1 | H13: 0 | I13: 0 | J13: 0 | K13: 0 | L13: 4 | M13: 6 | N13: 0 | O13: 1 | P13: 2 | Q13: 4 | R13: 1 | S13: =SUM(E13:R13) -> 49
A14: BB01 | B14: LOMBARDIA | C14: MILANO "SAN VITTORE" | D14: CC | E14: 14 | F14: 8 | G14: 1 | H14: 0 | I14: 0 | J14: 0 | K14: 1 | L14: 4 | M14: 5 | N14: 0 | O14: 2 | P14: 2 | Q14: 4 | R14: 1 | S14: =SUM(E14:R14) -> 42
A15: BB50 | B15: LOMBARDIA | C15: MILANO BOLLATE | D15: CR | E15: 22 | F15: 8 | G15: 1 | H15: 0 | I15: 0 | J15: 0 | K15: 0 | L15: 5 | M15: 6 | N15: 0 | O15: 2 | P15: 2 | Q15: 5 | R15: 1 | S15: =SUM(E15:R15) -> 52
... A21: BB37 | B21: LOMBARDIA | C21: VOGHERA N.C. | D21: CC | E21: 5 | F21: 2 | G21: 1 | H21: 0 | I21: 0 | J21: 0 | K21: 0 | L21: 3 | M21: 5 | N21: 0 | O21: 1 | P21: 1 | Q21: 2 | R21: 0 | S21: =SUM(E21:R21) -> 20
B22: TOTALE | E22: =SUBTOTAL(9,E4:E21) -> 130 | F22: =SUBTOTAL(9,F4:F21) -> 71 | G22: =SUBTOTAL(9,G4:G21) -> 19 | H22: =SUBTOTAL(9,H4:H21) -> 2 | I22: =SUBTOTAL(9,I4:I21) -> 8 | J22: =SUBTOTAL(9,J4:J21) -> 0 | K22: =SUBTOTAL(9,K4:K21) -> 6 | L22: =SUBTOTAL(9,L4:L21) -> 47 | ... S22: =SUBTOTAL(9,S4:S21) -> 454

Sheet Tabella H Piemonte
B1: Tabella H
B2: Ripartizione territoriale della dotazione organica prevista dalla tabella E del D.P.C.M. 15 giugno 2015, n. 84.
B3: Struttura | C3: Sede | D3: Tipologia | E3: Funzionario della professionalità giuridico-pedagogica | F3: Funzionario contabile | G3: Funzionario dell'organizzazione e delle relazioni | H3: Funzionario informatico | I3: Funzionario tecnico | J3: Funzionario linguistico | K3: Funzionario della professionalità di mediazione culturale | L3: Operatore | M3: Assistente amministrativo | N3: Assistente linguistico | O3: Contabile | P3: Assistente informatico | Q3: Assistente tecnico | R3: Ausiliario | S3: TOTALI
A4: AA26 | B4: PIEMONTE, VALLE D'AOSTA E LIGURIA | C4: ALBA "G. MONTALTO" | D4: CR | E4: 3 | F4: 3 | G4: 0 | H4: 0 | I4: 0 | J4: 0 | K4: 0 | L4: 1 | M4: 4 | N4: 0 | O4: 0 | P4: 1 | Q4: 1 | R4: 0 | S4: =SUM(E4:R4) -> 13
A5: AA48 | B5: PIEMONTE, VALLE D'AOSTA E LIGURIA | C5: ALESSANDRIA "CANTIELLO E GAETA" E ALESSANDRIA SAN MICHELE | D5: CC e CR | E5: 10 | F5: 7 | G5: 1 | H5: 0 | I5: 0 | J5: 0 | K5: 1 | L5: 3 | M5: 5 | N5: 0 | O5: 1 | P5: 1 | Q5: 2 | R5: 0 | S5: =SUM(E5:R5) -> 31
A6: AA11 | B6: PIEMONTE, VALLE D'AOSTA E LIGURIA | C6: AOSTA BRISSOGNE | D6: CC | E6: 3 | F6: 2 | G6: 1 | H6: 0 | I6: 0 | J6: 0 | K6: 0 | L6: 1 | M6: 4 | N6: 0 | O6: 1 | P6: 1 | Q6: 1 | R6: 0 | S6: =SUM(E6:R6) -> 14
A7: AA10 | B7: PIEMONTE, VALLE D'AOSTA E LIGURIA | C7: ASTI | D7: CR | E7: 7 | F7: 3 | G7: 1 | H7: 0 | I7: 0 | J7: 0 | K7: 0 | L7: 2 | M7: 5 | N7: 0 | O7: 1 | P7: 1 | Q7: 1 | R7: 0 | S7: =SUM(E7:R7) -> 21
A8: AA12 | B8: PIEMONTE, VALLE D'AOSTA E LIGURIA | C8: BIELLA | D8: CC | E8: 8 | F8: 3 | G8: 1 | H8: 0 | I8: 0 | J8: 0 | K8: 1 | L8: 3 | M8: 4 | N8: 0 | O8: 2 | P8: 1 | Q8: 1 | R8: 1 | S8: =SUM(E8:R8) -> 25
A9: AA21 | B9: PIEMONTE, VALLE D'AOSTA E LIGURIA | C9: CHIAVARI | D9: CR | E9: 2 | F9: 2 | G9: 0 | H9: 0 | I9: 0 | J9: 0 | K9: 0 | L9: 1 | M9: 4 | N9: 0 | O9: 1 | P9: 1 | Q9: 1 | R9: 0 | S9: =SUM(E9:R9) -> 12
A10: AA20 | B10: PIEMONTE, VALLE D'AOSTA E LIGURIA | C10: CUNEO | D10: CC | E10: 5 | F10: 4 | G10: 1 | H10: 0 | I10: 0 | J10: 0 | K10: 0 | L10: 2 | M10: 4 | N10: 0 | O10: 1 | P10: 1 | Q10: 2 | R10: 0 | S10: =SUM(E10:R10) -> 20
A11: AA05 | B11: PIEMONTE, VALLE D'AOSTA E LIGURIA | C11: FOSSANO | D11: CR | E11: 3 | F11: 3 | G11: 1 | H11: 0 | I11: 0 | J11: 0 | K11: 0 | L11: 1 | M11: 4 | N11: 0 | O11: 1 | P11: 1 | Q11: 1 | R11: 0 | S11: =SUM(E11:R11) -> 15
A12: PD02 | B12: PIEMONTE, VALLE D'AOSTA E LIGURIA | C12: GENOVA | D12: DISTACCAMENTO | E12: 1 | F12: 1 | G12: 1 | H12: 0 | I12: 0 | J12: 0 | K12: 0 | L12: 0 | M12: 2 | N12: 0 | O12: 1 | P12: 0 | Q12: 1 | R12: 0 | S12: =SUM(E12:R12) -> 7
A13: AA02 | B13: PIEMONTE, VALLE D'AOSTA E LIGURIA | C13: GENOVA MARASSI | D13: CC | E13: 10 | F13: 5 | G13: 1 | H13: 0 | I13: 0 | J13: 0 | K13: 1 | L13: 3 | M13: 5 | N13: 0 | O13: 2 | P13: 2 | Q13: 3 | R13: 1 | S13: =SUM(E13:R13) -> 33
A14: AA45 | B14: PIEMONTE, VALLE D'AOSTA E LIGURIA | C14: GENOVA PONTEDECIMO | D14: CC | E14: 3 | F14: 3 | G14: 1 | H14: 0 | I14: 0 | J14: 0 | K14: 0 | L14: 1 | M14: 4 | N14: 0 | O14: 1 | P14: 1 | Q14: 1 | R14: 0 | S14: =SUM(E14:R14) -> 15
A15: AA06 | B15: PIEMONTE, VALLE D'AOSTA E LIGURIA | C15: IMPERIA | D15: CC | E15: 2 | F15: 2 | G15: 0 | H15: 0 | I15: 0 | J15: 0 | K15: 0 | L15: 2 | M15: 4 | N15: 0 | O15: 0 | P15: 1 | Q15: 1 | R15: 0 | S15: =SUM(E15:R15) -> 12
... A24: AA13 | B24: PIEMONTE, VALLE D'AOSTA E LIGURIA | C24: VERCELLI | D24: CC | E24: 4 | F24: 3 | G24: 1 | H24: 0 | I24: 0 | J24: 0 | K24: 0 | L24: 2 | M24: 4 | N24: 0 | O24: 1 | P24: 1 | Q24: 1 | R24: 0 | S24: =SUM(E24:R24) -> 17
B25: TOTALE | E25: =SUBTOTAL(9,E4:E24) -> 105 | F25: =SUBTOTAL(9,F4:F24) -> 70 | G25: =SUBTOTAL(9,G4:G24) -> 18 | H25: =SUBTOTAL(9,H4:H24) -> 2 | I25: =SUBTOTAL(9,I4:I24) -> 8 | J25: =SUBTOTAL(9,J4:J24) -> 0 | K25: =SUBTOTAL(9,K4:K24) -> 6 | L25: =SUBTOTAL(9,L4:L24) -> 40 | ... S25: =SUBTOTAL(9,S4:S24) -> 429

Sheet Tabella I Puglia
B1: Tabella I
B2: Ripartizione territoriale della dotazione organica prevista dalla tabella E del D.P.C.M. 15 giugno 2015, n. 84.
B3: Struttura | C3: Sede | D3: Tipologia | E3: Funzionario della professionalità giuridico-pedagogica | F3: Funzionario contabile | G3: Funzionario dell'organizzazione e delle relazioni | H3: Funzionario informatico | I3: Funzionario tecnico | J3: Funzionario linguistico | K3: Funzionario della professionalità di mediazione culturale | L3: Operatore | M3: Assistente amministrativo | N3: Assistente linguistico | O3: Contabile | P3: Assistente informatico | Q3: Assistente tecnico | R3: Ausiliario | S3: TOTALI
A4: PR22 | B4: PUGLIA E BASILICATA | C4: BARI | D4: PRAP | E4: 2 | F4: 4 | G4: 1 | H4: 2 | I4: 6 | J4: 0 | K4: 1 | L4: 3 | M4: 5 | N4: 0 | O4: 1 | P4: 2 | Q4: 6 | R4: 1 | S4: =SUM(E4:R4) -> 34
A5: FF05 | B5: PUGLIA E BASILICATA | C5: BARI "FRANCESCO RUCCI" | D5: CC | E5: 5 | F5: 3 | G5: 1 | H5: 0 | I5: 0 | J5: 0 | K5: 1 | L5: 3 | M5: 5 | N5: 0 | O5: 1 | P5: 1 | Q5: 3 | R5: 1 | S5: =SUM(E5:R5) -> 24
A6: FF06 | B6: PUGLIA E BASILICATA | C6: BRINDISI | D6: CC | E6: 5 | F6: 2 | G6: 1 | H6: 0 | I6: 0 | J6: 0 | K6: 0 | L6: 2 | M6: 4 | N6: 0 | O6: 1 | P6: 1 | Q6: 1 | R6: 0 | S6: =SUM(E6:R6) -> 17
A7: FF13 | B7: PUGLIA E BASILICATA | C7: FOGGIA | D7: CC | E7: 7 | F7: 4 | G7: 1 | H7: 0 | I7: 0 | J7: 0 | K7: 1 | L7: 3 | M7: 5 | N7: 0 | O7: 2 | P7: 1 | Q7: 2 | R7: 1 | S7: =SUM(E7:R7) -> 27
A8: FF34 | B8: PUGLIA E BASILICATA | C8: LECCE N.C. | D8: CC | E8: 13 | F8: 6 | G8: 1 | H8: 0 | I8: 0 | J8: 0 | K8: 1 | L8: 4 | M8: 8 | N8: 0 | O8: 1 | P8: 1 | Q8: 4 | R8: 2 | S8: =SUM(E8:R8) -> 41
A9: FF14 | B9: PUGLIA E BASILICATA | C9: LUCERA | D9: CC | E9: 3 | F9: 3 | G9: 1 | H9: 0 | I9: 0 | J9: 0 | K9: 0 | L9: 2 | M9: 4 | N9: 0 | O9: 1 | P9: 1 | Q9: 1 | R9: 0 | S9: =SUM(E9:R9) -> 16
A10: HH14 | B10: PUGLIA E BASILICATA | C10: MATERA | D10: CC | E10: 3 | F10: 2 | G10: 1 | H10: 0 | I10: 0 | J10: 0 | K10: 0 | L10: 1 | M10: 4 | N10: 0 | O10: 1 | P10: 1 | Q10: 1 | R10: 0 | S10: =SUM(E10:R10) -> 14
A11: FM04 | B11: PUGLIA E BASILICATA | C11: ALTAMURA sezione distaccata di MATERA | D11: CR | E11: 2 | F11: 1 | G11: 0 | H11: 0 | I11: 0 | J11: 0 | K11: 0 | L11: 1 | M11: 2 | N11: 0 | O11: 0 | P11: 0 | Q11: 1 | R11: 0 | S11: =SUM(E11:R11) -> 7
A12: HH15 | B12: PUGLIA E BASILICATA | C12: MELFI | D12: CC | E12: 3 | F12: 3 | G12: 1 | H12: 0 | I12: 0 | J12: 0 | K12: 0 | L12: 1 | M12: 3 | N12: 0 | O12: 2 | P12: 1 | Q12: 1 | R12: 0 | S12: =SUM(E12:R12) -> 15
A13: PD13 | B13: PUGLIA E BASILICATA | C13: POTENZA | D13: DISTACCAMENTO | E13: 0 | F13: 0 | G13: 1 | H13: 0 | I13: 0 | J13: 0 | K13: 0 | L13: 0 | M13: 2 | N13: 0 | O13: 1 | P13: 0 | Q13: 1 | R13: 1 | S13: =SUM(E13:R13) -> 6
A14: HH02 | B14: PUGLIA E BASILICATA | C14: POTENZA "A. SANTORO" | D14: CC | E14: 3 | F14: 3 | G14: 1 | H14: 0 | I14: 0 | J14: 0 | K14: 0 | L14: 2 | M14: 4 | N14: 0 | O14: 1 | P14: 1 | Q14: 1 | R14: 0 | S14: =SUM(E14:R14) -> 16
A15: FF23 | B15: PUGLIA E BASILICATA | C15: SAN SEVERO | D15: CC | E15: 2 | F15: 2 | G15: 0 | H15: 0 | I15: 0 | J15: 0 | K15: 0 | L15: 1 | M15: 2 | N15: 0 | O15: 1 | P15: 0 | Q15: 1 | R15: 0 | S15: =SUM(E15:R15) -> 9
... A18: FF16 | B18: PUGLIA E BASILICATA | C18: TURI | D18: CR | E18: 2 | F18: 2 | G18: 1 | H18: 0 | I18: 0 | J18: 0 | K18: 0 | L18: 1 | M18: 4 | N18: 0 | O18: 1 | P18: 1 | Q18: 1 | R18: 0 | S18: =SUM(E18:R18) -> 13
B19: TOTALE | E19: =SUBTOTAL(9,E4:E18) -> 64 | F19: =SUBTOTAL(9,F4:F18) -> 44 | G19: =SUBTOTAL(9,G4:G18) -> 13 | H19: =SUBTOTAL(9,H4:H18) -> 2 | I19: =SUBTOTAL(9,I4:I18) -> 6 | J19: =SUBTOTAL(9,J4:J18) -> 0 | K19: =SUBTOTAL(9,K4:K18) -> 6 | L19: =SUBTOTAL(9,L4:L18) -> 29 | ... S19: =SUBTOTAL(9,S4:S18) -> 292

Sheet Tabella L Sardegna
B1: Tabella L
B2: Ripartizione territoriale della dotazione organica prevista dalla tabella E del D.P.C.M. 15 giugno 2015, n. 84.
B3: Struttura | C3: Sede | D3: Tipologia | E3: Funzionario della professionalità giuridico-pedagogica | F3: Funzionario contabile | G3: Funzionario dell'organizzazione e delle relazioni | H3: Funzionario informatico | I3: Funzionario tecnico | J3: Funzionario linguistico | K3: Funzionario della professionalità di mediazione culturale | L3: Operatore | M3: Assistente amministrativo | N3: Assistente linguistico | O3: Contabile | P3: Assistente informatico | Q3: Assistente tecnico | R3: Ausiliario | S3: TOTALI
A4: LL02 | B4: SARDEGNA | C4: ALGHERO "G. TOMASIELLO" | D4: CR | E4: 4 | F4: 3 | G4: 1 | H4: 0 | I4: 0 | J4: 0 | K4: 0 | L4: 1 | M4: 3 | N4: 0 | O4: 1 | P4: 1 | Q4: 1 | R4: 0 | S4: =SUM(E4:R4) -> 15
A5: PR17 | B5: SARDEGNA | C5: CAGLIARI | D5: PRAP | E5: 3 | F5: 4 | G5: 2 | H5: 2 | I5: 5 | J5: 0 | K5: 1 | L5: 2 | M5: 6 | N5: 0 | O5: 1 | P5: 2 | Q5: 5 | R5: 1 | S5: =SUM(E5:R5) -> 34
A6: LL01 | B6: SARDEGNA | C6: CAGLIARI "ETTORE SCALAS" | D6: CC | E6: 12 | F6: 5 | G6: 1 | H6: 0 | I6: 0 | J6: 0 | K6: 2 | L6: 3 | M6: 7 | N6: 0 | O6: 2 | P6: 2 | Q6: 3 | R6: 1 | S6: =SUM(E6:R6) -> 38
A7: LL04 | B7: SARDEGNA | C7: IS ARENAS ARBUS | D7: CR | E7: 5 | F7: 4 | G7: 1 | H7: 0 | I7: 1 | J7: 0 | K7: 0 | L7: 1 | M7: 4 | N7: 0 | O7: 0 | P7: 0 | Q7: 3 | R7: 0 | S7: =SUM(E7:R7) -> 19
A8: LL05 | B8: SARDEGNA | C8: ISILI | D8: CR | E8: 4 | F8: 4 | G8: 1 | H8: 0 | I8: 1 | J8: 0 | K8: 0 | L8: 1 | M8: 4 | N8: 0 | O8: 1 | P8: 0 | Q8: 3 | R8: 0 | S8: =SUM(E8:R8) -> 19
A9: LL06 | B9: SARDEGNA | C9: LANUSEI "S. DANIELE" | D9: CC | E9: 2 | F9: 1 | G9: 0 | H9: 0 | I9: 0 | J9: 0 | K9: 0 | L9: 1 | M9: 2 | N9: 0 | O9: 1 | P9: 0 | Q9: 1 | R9: 0 | S9: =SUM(E9:R9) -> 8
A10: LL07 | B10: SARDEGNA | C10: MAMONE-LODE' | D10: CR | E10: 6 | F10: 4 | G10: 1 | H10: 0 | I10: 1 | J10: 0 | K10: 1 | L10: 1 | M10: 3 | N10: 0 | O10: 2 | P10: 1 | Q10: 2 | R10: 1 | S10: =SUM(E10:R10) -> 23
A11: LL08 | B11: SARDEGNA | C11: NUORO | D11: CC | E11: 5 | F11: 4 | G11: 1 | H11: 0 | I11: 0 | J11: 0 | K11: 0 | L11: 1 | M11: 4 | N11: 0 | O11: 2 | P11: 1 | Q11: 2 | R11: 1 | S11: =SUM(E11:R11) -> 21
A12: LL09 | B12: SARDEGNA | C12: ORISTANO "S. SORO" | D12: CR | E12: 6 | F12: 3 | G12: 1 | H12: 0 | I12: 0 | J12: 0 | K12: 0 | L12: 2 | M12: 5 | N12: 0 | O12: 1 | P12: 1 | Q12: 2 | R12: 1 | S12: =SUM(E12:R12) -> 22
A13: LL10 | B13: SARDEGNA | C13: SASSARI | D13: CC | E13: 9 | F13: 4 | G13: 1 | H13: 0 | I13: 0 | J13: 0 | K13: 2 | L13: 3 | M13: 6 | N13: 0 | O13: 1 | P13: 1 | Q13: 3 | R13: 1 | S13: =SUM(E13:R13) -> 31
A14: LL11 | B14: SARDEGNA | C14: TEMPIO PAUSANIA "P. PITTALIS" | D14: CR | E14: 5 | F14: 3 | G14: 1 | H14: 0 | I14: 0 | J14: 0 | K14: 0 | L14: 1 | M14: 4 | N14: 0 | O14: 1 | P14: 1 | Q14: 1 | R14: 1 | S14: =SUM(E14:R14) -> 18
B15: TOTALE | E15: =SUBTOTAL(9,E4:E14) -> 61 | F15: =SUBTOTAL(9,F4:F14) -> 39 | G15: =SUBTOTAL(9,G4:G14) -> 11 | H15: =SUBTOTAL(9,H4:H14) -> 2 | I15: =SUBTOTAL(9,I4:I14) -> 8 | J15: =SUBTOTAL(9,J4:J14) -> 0 | K15: =SUBTOTAL(9,K4:K14) -> 6 | L15: =SUBTOTAL(9,L4:L14) -> 17 | ... S15: =SUBTOTAL(9,S4:S14) -> 248

Sheet Tabella M Sicilia
B1: Tabella M
B2: Ripartizione territoriale della dotazione organica prevista dalla tabella E del D.P.C.M. 15 giugno 2015, n. 84.
B3: Struttura | C3: Sede | D3: Tipologia | E3: Funzionario della professionalità giuridico-pedagogica | F3: Funzionario contabile | G3: Funzionario dell'organizzazione e delle relazioni | H3: Funzionario informatico | I3: Funzionario tecnico | J3: Funzionario linguistico | K3: Funzionario della professionalità di mediazione culturale | L3: Operatore | M3: Assistente amministrativo | N3: Assistente linguistico | O3: Contabile | P3: Assistente informatico | Q3: Assistente tecnico | R3: Ausiliario | S3: TOTALI
A4: KK19 | B4: SICILIA | C4: AGRIGENTO | D4: CC | E4: 5 | F4: 3 | G4: 1 | H4: 0 | I4: 0 | J4: 0 | K4: 1 | L4: 2 | M4: 5 | N4: 0 | O4: 1 | P4: 1 | Q4: 2 | R4: 1 | S4: =SUM(E4:R4) -> 22
A5: KK05 | B5: SICILIA | C5: AUGUSTA | D5: CR | E5: 9 | F5: 4 | G5: 1 | H5: 0 | I5: 0 | J5: 0 | K5: 0 | L5: 3 | M5: 5 | N5: 0 | O5: 1 | P5: 1 | Q5: 2 | R5: 1 | S5: =SUM(E5:R5) -> 27
A6: HH08 | B6: SICILIA | C6: BARCELLONA POZZO DI GOTTO | D6: CC | E6: 7 | F6: 4 | G6: 1 | H6: 0 | I6: 0 | J6: 0 | K6: 0 | L6: 3 | M6: 5 | N6: 0 | O6: 1 | P6: 1 | Q6: 2 | R6: 1 | S6: =SUM(E6:R6) -> 25
A7: KK14 | B7: SICILIA | C7: CALTAGIRONE | D7: CC | E7: 6 | F7: 3 | G7: 1 | H7: 0 | I7: 0 | J7: 0 | K7: 0 | L7: 3 | M7: 4 | N7: 0 | O7: 1 | P7: 1 | Q7: 2 | R7: 1 | S7: =SUM(E7:R7) -> 22
A8: KK09 | B8: SICILIA | C8: CALTANISSETTA | D8: CC | E8: 4 | F8: 3 | G8: 1 | H8: 0 | I8: 0 | J8: 0 | K8: 0 | L8: 2 | M8: 5 | N8: 0 | O8: 1 | P8: 1 | Q8: 1 | R8: 1 | S8: =SUM(E8:R8) -> 19
A9: KK29 | B9: SICILIA | C9: CASTELVETRANO | D9: CC | E9: 2 | F9: 2 | G9: 1 | H9: 0 | I9: 0 | J9: 0 | K9: 0 | L9: 1 | M9: 3 | N9: 0 | O9: 1 | P9: 0 | Q9: 1 | R9: 0 | S9: =SUM(E9:R9) -> 11
A10: KK24 | B10: SICILIA | C10: CATANIA BICOCCA | D10: CC | E10: 3 | F10: 3 | G10: 1 | H10: 0 | I10: 0 | J10: 0 | K10: 0 | L10: 2 | M10: 5 | N10: 0 | O10: 1 | P10: 1 | Q10: 1 | R10: 1 | S10: =SUM(E10:R10) -> 18
A11: KK02 | B11: SICILIA | C11: CATANIA PIAZZA LANZA | D11: CC | E11: 5 | F11: 3 | G11: 2 | H11: 0 | I11: 0 | J11: 0 | K11: 1 | L11: 2 | M11: 5 | N11: 0 | O11: 1 | P11: 1 | Q11: 2 | R11: 1 | S11: =SUM(E11:R11) -> 23
A12: KK10 | B12: SICILIA | C12: ENNA | D12: CC | E12: 3 | F12: 3 | G12: 1 | H12: 0 | I12: 0 | J12: 0 | K12: 0 | L12: 2 | M12: 4 | N12: 0 | O12: 1 | P12: 1 | Q12: 1 | R12: 1 | S12: =SUM(E12:R12) -> 17
A13: KK12 | B13: SICILIA | C13: FAVIGNANA "G. BARRACO" | D13: CR | E13: 3 | F13: 3 | G13: 1 | H13: 0 | I13: 0 | J13: 0 | K13: 0 | L13: 1 | M13: 3 | N13: 0 | O13: 1 | P13: 0 | Q13: 1 | R13: 0 | S13: =SUM(E13:R13) -> 13
A14: KK33 | B14: SICILIA | C14: GELA | D14: CC | E14: 2 | F14: 2 | G14: 1 | H14: 0 | I14: 0 | J14: 0 | K14: 0 | L14: 1 | M14: 3 | N14: 0 | O14: 0 | P14: 0 | Q14: 1 | R14: 0 | S14: =SUM(E14:R14) -> 10
A15: KK26 | B15: SICILIA | C15: GIARRE | D15: CC | E15: 2 | F15: 2 | G15: 1 | H15: 0 | I15: 0 | J15: 0 | K15: 0 | L15: 1 | M15: 3 | N15: 0 | O15: 1 | P15: 0 | Q15: 1 | R15: 0 | S15: =SUM(E15:R15) -> 11
... A27: KK03 | B27: SICILIA | C27: TRAPANI | D27: CC | E27: 7 | F27: 3 | G27: 1 | H27: 0 | I27: 0 | J27: 0 | K27: 0 | L27: 3 | M27: 4 | N27: 0 | O27: 1 | P27: 1 | Q27: 3 | R27: 1 | S27: =SUM(E27:R27) -> 24
B28: TOTALE | E28: =SUBTOTAL(9,E4:E27) -> 116 | F28: =SUBTOTAL(9,F4:F27) -> 78 | G28: =SUBTOTAL(9,G4:G27) -> 27 | H28: =SUBTOTAL(9,H4:H27) -> 2 | I28: =SUBTOTAL(9,I4:I27) -> 8 | J28: =SUBTOTAL(9,J4:J27) -> 0 | K28: =SUBTOTAL(9,K4:K27) -> 6 | L28: =SUBTOTAL(9,L4:L27) -> 49 | ... S28: =SUBTOTAL(9,S4:S27) -> 502

Sheet Tabella N Toscana
B1: Tabella N
B2: Ripartizione territoriale della dotazione organica prevista dalla tabella E del D.P.C.M. 15 giugno 2015, n. 84.
B3: Struttura | C3: Sede | D3: Tipologia | E3: Funzionario della professionalità giuridico-pedagogica | F3: Funzionario contabile | G3: Funzionario dell'organizzazione e delle relazioni | H3: Funzionario informatico | I3: Funzionario tecnico | J3: Funzionario linguistico | K3: Funzionario della professionalità di mediazione culturale | L3: Operatore | M3: Assistente amministrativo | N3: Assistente linguistico | O3: Contabile | P3: Assistente informatico | Q3: Assistente tecnico | R3: Ausiliario | S3: TOTALI
A4: DD05 | B4: TOSCANA E UMBRIA | C4: AREZZO | D4: CC | E4: 3 | F4: 3 | G4: 1 | H4: 0 | I4: 0 | J4: 0 | K4: 0 | L4: 1 | M4: 3 | N4: 0 | O4: 1 | P4: 1 | Q4: 1 | R4: 0 | S4: =SUM(E4:R4) -> 14
A5: PR19 | B5: TOSCANA E UMBRIA | C5: FIRENZE | D5: PRAP | E5: 1 | F5: 4 | G5: 1 | H5: 2 | I5: 7 | J5: 0 | K5: 1 | L5: 3 | M5: 6 | N5: 0 | O5: 0 | P5: 2 | Q5: 8 | R5: 1 | S5: =SUM(E5:R5) -> 36
A6: DD49 | B6: TOSCANA E UMBRIA | C6: FIRENZE "MARIO GOZZINI" | D6: CC | E6: 3 | F6: 2 | G6: 1 | H6: 0 | I6: 0 | J6: 0 | K6: 0 | L6: 1 | M6: 5 | N6: 0 | O6: 1 | P6: 1 | Q6: 1 | R6: 0 | S6: =SUM(E6:R6) -> 15
A7: DD27 | B7: TOSCANA E UMBRIA | C7: FIRENZE SOLLICCIANO | D7: CC | E7: 11 | F7: 4 | G7: 1 | H7: 0 | I7: 0 | J7: 0 | K7: 1 | L7: 3 | M7: 5 | N7: 0 | O7: 1 | P7: 2 | Q7: 2 | R7: 1 | S7: =SUM(E7:R7) -> 31
A8: DD20 | B8: TOSCANA E UMBRIA | C8: GROSSETO | D8: CC | E8: 1 | F8: 2 | G8: 1 | H8: 0 | I8: 0 | J8: 0 | K8: 0 | L8: 1 | M8: 4 | N8: 0 | O8: 1 | P8: 0 | Q8: 1 | R8: 0 | S8: =SUM(E8:R8) -> 11
A9: DD08 | B9: TOSCANA E UMBRIA | C9: LIVORNO C.C. - GORGONA C.R. Sede Dist.ta Custodia Attenuata C.C. Livorno | D9: CC | E9: 9 | F9: 5 | G9: 2 | H9: 0 | I9: 0 | J9: 0 | K9: 0 | L9: 3 | M9: 6 | N9: 0 | O9: 2 | P9: 1 | Q9: 5 | R9: 0 | S9: =SUM(E9:R9) -> 33
A10: DD09 | B10: TOSCANA E UMBRIA | C10: LUCCA | D10: CC | E10: 2 | F10: 2 | G10: 1 | H10: 0 | I10: 0 | J10: 0 | K10: 0 | L10: 1 | M10: 4 | N10: 0 | O10: 1 | P10: 1 | Q10: 1 | R10: 0 | S10: =SUM(E10:R10) -> 13
A11: AA08 | B11: TOSCANA E UMBRIA | C11: MASSA | D11: CR | E11: 5 | F11: 4 | G11: 1 | H11: 0 | I11: 0 | J11: 0 | K11: 0 | L11: 1 | M11: 4 | N11: 0 | O11: 1 | P11: 1 | Q11: 6 | R11: 0 | S11: =SUM(E11:R11) -> 23
A12: DD22 | B12: TOSCANA E UMBRIA | C12: MASSA MARITTIMA | D12: CC | E12: 2 | F12: 2 | G12: 1 | H12: 0 | I12: 0 | J12: 0 | K12: 0 | L12: 1 | M12: 4 | N12: 0 | O12: 1 | P12: 1 | Q12: 1 | R12: 0 | S12: =SUM(E12:R12) -> 13
A13: DD14 | B13: TOSCANA E UMBRIA | C13: ORVIETO | D13: CR | E13: 5 | F13: 3 | G13: 1 | H13: 0 | I13: 0 | J13: 0 | K13: 0 | L13: 1 | M13: 4 | N13: 0 | O13: 2 | P13: 1 | Q13: 3 | R13: 0 | S13: =SUM(E13:R13) -> 20
A14: DD55 | B14: TOSCANA E UMBRIA | C14: PERUGIA CAPANNE | D14: CC | E14: 6 | F14: 4 | G14: 1 | H14: 0 | I14: 0 | J14: 0 | K14: 1 | L14: 2 | M14: 6 | N14: 0 | O14: 1 | P14: 1 | Q14: 2 | R14: 1 | S14: =SUM(E14:R14) -> 25
A15: DD02 | B15: TOSCANA E UMBRIA | C15: PISA | D15: CC | E15: 4 | F15: 3 | G15: 1 | H15: 0 | I15: 0 | J15: 0 | K15: 1 | L15: 2 | M15: 5 | N15: 0 | O15: 1 | P15: 1 | Q15: 1 | R15: 0 | S15: =SUM(E15:R15) -> 19
... A23: DD13 | B23: TOSCANA E UMBRIA | C23: VOLTERRA | D23: CR | E23: 5 | F23: 3 | G23: 1 | H23: 0 | I23: 0 | J23: 0 | K23: 0 | L23: 2 | M23: 4 | N23: 0 | O23: 1 | P23: 1 | Q23: 1 | R23: 0 | S23: =SUM(E23:R23) -> 18
B24: TOTALE | E24: =SUBTOTAL(9,E4:E23) -> 101 | F24: =SUBTOTAL(9,F4:F23) -> 68 | G24: =SUBTOTAL(9,G4:G23) -> 21 | H24: =SUBTOTAL(9,H4:H23) -> 2 | I24: =SUBTOTAL(9,I4:I23) -> 7 | J24: =SUBTOTAL(9,J4:J23) -> 0 | K24: =SUBTOTAL(9,K4:K23) -> 6 | L24: =SUBTOTAL(9,L4:L23) -> 36 | ... S24: =SUBTOTAL(9,S4:S23) -> 426

Sheet Tabella O Triveneto
B1: Tabella O
B2: Ripartizione territoriale della dotazione organica prevista dalla tabella E del D.P.C.M. 15 giugno 2015, n. 84.
B3: Struttura | C3: Sede | D3: Tipologia | E3: Funzionario della professionalità giuridico-pedagogica | F3: Funzionario contabile | G3: Funzionario dell'organizzazione e delle relazioni | H3: Funzionario informatico | I3: Funzionario tecnico | J3: Funzionario linguistico | K3: Funzionario della professionalità di mediazione culturale | L3: Operatore | M3: Assistente amministrativo | N3: Assistente linguistico | O3: Contabile | P3: Assistente informatico | Q3: Assistente tecnico | R3: Ausiliario | S3: TOTALI
A4: CC05 | B4: VENETO, FRIULI VENEZIA GIULIA E TRENTINO ALTO ADIGE | C4: BELLUNO | D4: CC | E4: 2 | F4: 2 | G4: 1 | H4: 0 | I4: 0 | J4: 0 | K4: 0 | L4: 1 | M4: 3 | N4: 0 | O4: 2 | P4: 1 | Q4: 1 | R4: 0 | S4: =SUM(E4:R4) -> 13
A5: CC03 | B5: VENETO, FRIULI VENEZIA GIULIA E TRENTINO ALTO ADIGE | C5: BOLZANO | D5: CC | E5: 4 | F5: 2 | G5: 1 | H5: 0 | I5: 0 | J5: 1 | K5: 1 | L5: 1 | M5: 4 | N5: 1 | O5: 2 | P5: 1 | Q5: 1 | R5: 0 | S5: =SUM(E5:R5) -> 19
A6: CC14 | B6: VENETO, FRIULI VENEZIA GIULIA E TRENTINO ALTO ADIGE | C6: GORIZIA | D6: CC | E6: 2 | F6: 2 | G6: 1 | H6: 0 | I6: 0 | J6: 0 | K6: 0 | L6: 1 | M6: 3 | N6: 0 | O6: 0 | P6: 1 | Q6: 1 | R6: 0 | S6: =SUM(E6:R6) -> 11
A7: PR05 | B7: VENETO, FRIULI VENEZIA GIULIA E TRENTINO ALTO ADIGE | C7: PADOVA | D7: PRAP | E7: 2 | F7: 4 | G7: 1 | H7: 2 | I7: 6 | J7: 0 | K7: 1 | L7: 3 | M7: 6 | N7: 0 | O7: 1 | P7: 2 | Q7: 6 | R7: 1 | S7: =SUM(E7:R7) -> 35
A8: CC18 | B8: VENETO, FRIULI VENEZIA GIULIA E TRENTINO ALTO ADIGE | C8: PADOVA | D8: CC | E8: 3 | F8: 3 | G8: 1 | H8: 0 | I8: 0 | J8: 0 | K8: 1 | L8: 2 | M8: 5 | N8: 0 | O8: 1 | P8: 1 | Q8: 1 | R8: 0 | S8: =SUM(E8:R8) -> 18
A9: CC25 | B9: VENETO, FRIULI VENEZIA GIULIA E TRENTINO ALTO ADIGE | C9: PADOVA | D9: CR | E9: 11 | F9: 5 | G9: 1 | H9: 0 | I9: 0 | J9: 0 | K9: 0 | L9: 3 | M9: 4 | N9: 0 | O9: 0 | P9: 1 | Q9: 2 | R9: 1 | S9: =SUM(E9:R9) -> 28
A10: CC13 | B10: VENETO, FRIULI VENEZIA GIULIA E TRENTINO ALTO ADIGE | C10: PORDENONE | D10: CC | E10: 2 | F10: 2 | G10: 1 | H10: 0 | I10: 0 | J10: 0 | K10: 0 | L10: 1 | M10: 4 | N10: 0 | O10: 1 | P10: 0 | Q10: 1 | R10: 0 | S10: =SUM(E10:R10) -> 12
A11: CC31 | B11: VENETO, FRIULI VENEZIA GIULIA E TRENTINO ALTO ADIGE | C11: ROVIGO | D11: CC | E11: 4 | F11: 3 | G11: 1 | H11: 0 | I11: 0 | J11: 0 | K11: 0 | L11: 3 | M11: 4 | N11: 0 | O11: 1 | P11: 1 | Q11: 1 | R11: 0 | S11: =SUM(E11:R11) -> 18
A12: CC26 | B12: VENETO, FRIULI VENEZIA GIULIA E TRENTINO ALTO ADIGE | C12: TOLMEZZO | D12: CC | E12: 5 | F12: 2 | G12: 1 | H12: 0 | I12: 0 | J12: 0 | K12: 0 | L12: 2 | M12: 4 | N12: 0 | O12: 2 | P12: 1 | Q12: 1 | R12: 0 | S12: =SUM(E12:R12) -> 18
A13: CC30 | B13: VENETO, FRIULI VENEZIA GIULIA E TRENTINO ALTO ADIGE | C13: TRENTO "SPINI DI GARDOLO" | D13: CC | E13: 8 | F13: 4 | G13: 1 | H13: 0 | I13: 0 | J13: 0 | K13: 0 | L13: 3 | M13: 5 | N13: 0 | O13: 1 | P13: 1 | Q13: 2 | R13: 1 | S13: =SUM(E13:R13) -> 26
A14: CC07 | B14: VENETO, FRIULI VENEZIA GIULIA E TRENTINO ALTO ADIGE | C14: TREVISO | D14: CC | E14: 3 | F14: 3 | G14: 1 | H14: 0 | I14: 0 | J14: 0 | K14: 0 | L14: 2 | M14: 4 | N14: 0 | O14: 1 | P14: 1 | Q14: 1 | R14: 0 | S14: =SUM(E14:R14) -> 16
A15: CC02 | B15: VENETO, FRIULI VENEZIA GIULIA E TRENTINO ALTO ADIGE | C15: TRIESTE | D15: CC | E15: 5 | F15: 3 | G15: 1 | H15: 0 | I15: 0 | J15: 0 | K15: 1 | L15: 2 | M15: 4 | N15: 0 | O15: 1 | P15: 1 | Q15: 1 | R15: 0 | S15: =SUM(E15:R15) -> 19
... A20: CC09 | B20: VENETO, FRIULI VENEZIA GIULIA E TRENTINO ALTO ADIGE | C20: VICENZA | D20: CC | E20: 3 | F20: 3 | G20: 1 | H20: 0 | I20: 0 | J20: 0 | K20: 0 | L20: 3 | M20: 4 | N20: 0 | O20: 1 | P20: 1 | Q20: 2 | R20: 1 | S20: =SUM(E20:R20) -> 19
B21: TOTALE | E21: =SUBTOTAL(9,E4:E20) -> 72 | F21: =SUBTOTAL(9,F4:F20) -> 50 | G21: =SUBTOTAL(9,G4:G20) -> 17 | H21: =SUBTOTAL(9,H4:H20) -> 2 | I21: =SUBTOTAL(9,I4:I20) -> 6 | J21: =SUBTOTAL(9,J4:J20) -> 1 | K21: =SUBTOTAL(9,K4:K20) -> 6 | L21: =SUBTOTAL(9,L4:L20) -> 35 | ... S21: =SUBTOTAL(9,S4:S20) -> 328

Sheet Tabella P Riepilogo complessivo
A1: Tabella P
A2: Ripartizione territoriale della dotazione organica prevista dalla tabella E del D.P.C.M. 15 giugno 2015, n. 84.
A3: Struttura | B3: Funzionario della professionalità giuridico-pedagogica | C3: Funzionario contabile | D3: Funzionario dell'organizzazione e delle relazioni | E3: Funzionario informatico | F3: Funzionario tecnico | G3: Funzionario linguistico | H3: Funzionario della professionalità di mediazione culturale | I3: Operatore | J3: Assistente amministrativo | K3: Assistente linguistico | L3: Contabile | M3: Assistente informatico | N3: Assistente tecnico | O3: Ausiliario | P3: TOTALI
B4: organico 2022 | C4: organico 2022 | D4: organico 2022 | E4: organico 2022 | F4: organico 2022 | G4: organico 2022 | H4: organico 2022 | I4: organico 2022 | J4: organico 2022 | K4: organico 2022 | L4: organico 2022 | M4: organico 2022 | N4: organico 2022 | O4: organico 2022 | P4: organico 2022
A5: AMMINISTRAZIONE CENTRALE | B5: ='Tabella A DAP'!E5 -> 43 | C5: ='Tabella A DAP'!F5 -> 49 | D5: ='Tabella A DAP'!G5 -> 36 | E5: ='Tabella A DAP'!H5 -> 28 | F5: ='Tabella A DAP'!I5 -> 36 | G5: ='Tabella A DAP'!J5 -> 3 | H5: ='Tabella A DAP'!K5 -> 1 | I5: ='Tabella A DAP'!L5 -> 29 | ... O5: ='Tabella A DAP'!R5 -> 4 | P5: =SUM(B5:O5) -> 401
A6: DIREZIONE GENERALE FORMAZIONE E SFAP | B6: ='Tabella B DGFO'!E13 -> 14 | C6: ='Tabella B DGFO'!F13 -> 13 | D6: ='Tabella B DGFO'!G13 -> 9 | E6: ='Tabella B DGFO'!H13 -> 2 | F6: ='Tabella B DGFO'!I13 -> 0 | G6: ='Tabella B DGFO'!J13 -> 1 | H6: ='Tabella B DGFO'!K13 -> 0 | I6: ='Tabella B DGFO'!L13 -> 23 | ... O6: ='Tabella B DGFO'!R13 -> 3 | P6: =SUM(B6:O6) -> 101
A7: PRAP CALABRIA | B7: ='Tabella C Calabria'!E16 -> 55 | C7: ='Tabella C Calabria'!F16 -> 43 | D7: ='Tabella C Calabria'!G16 -> 12 | E7: ='Tabella C Calabria'!H16 -> 2 | F7: ='Tabella C Calabria'!I16 -> 5 | G7: ='Tabella C Calabria'!J16 -> 0 | H7: ='Tabella C Calabria'!K16 -> 6 | I7: ='Tabella C Calabria'!L16 -> 25 | ... O7: ='Tabella C Calabria'!R16 -> 4 | P7: =SUM(B7:O7) -> 256
A8: PRAP CAMPANIA | B8: ='Tabella D Campania'!E19 -> 115 | C8: ='Tabella D Campania'!F19 -> 64 | D8: ='Tabella D Campania'!G19 -> 16 | E8: ='Tabella D Campania'!H19 -> 2 | F8: ='Tabella D Campania'!I19 -> 8 | G8: ='Tabella D Campania'!J19 -> 0 | H8: ='Tabella D Campania'!K19 -> 6 | I8: ='Tabella D Campania'!L19 -> 36 | ... O8: ='Tabella D Campania'!R19 -> 12 | P8: =SUM(B8:O8) -> 418
A9: PRAP EMILIA ROMAGNA E MARCHE | B9: ='Tabella E Emilia Romagna'!E21 -> 83 | C9: ='Tabella E Emilia Romagna'!F21 -> 59 | D9: ='Tabella E Emilia Romagna'!G21 -> 16 | E9: ='Tabella E Emilia Romagna'!H21 -> 2 | F9: ='Tabella E Emilia Romagna'!I21 -> 7 | G9: ='Tabella E Emilia Romagna'!J21 -> 0 | H9: ='Tabella E Emilia Romagna'!K21 -> 6 | I9: ='Tabella E Emilia Romagna'!L21 -> 32 | ... O9: ='Tabella E Emilia Romagna'!R21 -> 6 | P9: =SUM(B9:O9) -> 351
A10: PRAP LAZIO, ABRUZZO E MOLISE | B10: ='Tabella F Lazio'!E30 -> 140 | C10: ='Tabella F Lazio'!F30 -> 91 | D10: ='Tabella F Lazio'!G30 -> 26 | E10: ='Tabella F Lazio'!H30 -> 2 | F10: ='Tabella F Lazio'!I30 -> 9 | G10: ='Tabella F Lazio'!J30 -> 0 | H10: ='Tabella F Lazio'!K30 -> 6 | I10: ='Tabella F Lazio'!L30 -> 55 | ... O10: ='Tabella F Lazio'!R30 -> 11 | P10: =SUM(B10:O10) -> 583
A11: PRAP LOMBARDIA | B11: ='Tabella G Lombardia'!E22 -> 130 | C11: ='Tabella G Lombardia'!F22 -> 71 | D11: ='Tabella G Lombardia'!G22 -> 19 | E11: ='Tabella G Lombardia'!H22 -> 2 | F11: ='Tabella G Lombardia'!I22 -> 8 | G11: ='Tabella G Lombardia'!J22 -> 0 | H11: ='Tabella G Lombardia'!K22 -> 6 | I11: ='Tabella G Lombardia'!L22 -> 47 | ... O11: ='Tabella G Lombardia'!R22 -> 5 | P11: =SUM(B11:O11) -> 454
A12: PRAP PIEMONTE, LIGURIA E VALLE D'AOSTA | B12: ='Tabella H Piemonte'!E25 -> 105 | C12: ='Tabella H Piemonte'!F25 -> 70 | D12: ='Tabella H Piemonte'!G25 -> 18 | E12: ='Tabella H Piemonte'!H25 -> 2 | F12: ='Tabella H Piemonte'!I25 -> 8 | G12: ='Tabella H Piemonte'!J25 -> 0 | H12: ='Tabella H Piemonte'!K25 -> 6 | I12: ='Tabella H Piemonte'!L25 -> 40 | ... O12: ='Tabella H Piemonte'!R25 -> 5 | P12: =SUM(B12:O12) -> 429
A13: PRAP PUGLIA E BASILICATA | B13: ='Tabella I Puglia'!E19 -> 64 | C13: ='Tabella I Puglia'!F19 -> 44 | D13: ='Tabella I Puglia'!G19 -> 13 | E13: ='Tabella I Puglia'!H19 -> 2 | F13: ='Tabella I Puglia'!I19 -> 6 | G13: ='Tabella I Puglia'!J19 -> 0 | H13: ='Tabella I Puglia'!K19 -> 6 | I13: ='Tabella I Puglia'!L19 -> 29 | ... O13: ='Tabella I Puglia'!R19 -> 8 | P13: =SUM(B13:O13) -> 292
A14: PRAP SARDEGNA | B14: ='Tabella L Sardegna'!E15 -> 61 | C14: ='Tabella L Sardegna'!F15 -> 39 | D14: ='Tabella L Sardegna'!G15 -> 11 | E14: ='Tabella L Sardegna'!H15 -> 2 | F14: ='Tabella L Sardegna'!I15 -> 8 | G14: ='Tabella L Sardegna'!J15 -> 0 | H14: ='Tabella L Sardegna'!K15 -> 6 | I14: ='Tabella L Sardegna'!L15 -> 17 | ... O14: ='Tabella L Sardegna'!R15 -> 7 | P14: =SUM(B14:O14) -> 248
A15: PRAP SICILIA | B15: ='Tabella M Sicilia'!E28 -> 116 | C15: ='Tabella M Sicilia'!F28 -> 78 | D15: ='Tabella M Sicilia'!G28 -> 27 | E15: ='Tabella M Sicilia'!H28 -> 2 | F15: ='Tabella M Sicilia'!I28 -> 8 | G15: ='Tabella M Sicilia'!J28 -> 0 | H15: ='Tabella M Sicilia'!K28 -> 6 | I15: ='Tabella M Sicilia'!L28 -> 49 | ... O15: ='Tabella M Sicilia'!R28 -> 16 | P15: =SUM(B15:O15) -> 502
A16: PRAP TOSCANA ED UMBRIA | B16: ='Tabella N Toscana'!E24 -> 101 | C16: ='Tabella N Toscana'!F24 -> 68 | D16: ='Tabella N Toscana'!G24 -> 21 | E16: ='Tabella N Toscana'!H24 -> 2 | F16: ='Tabella N Toscana'!I24 -> 7 | G16: ='Tabella N Toscana'!J24 -> 0 | H16: ='Tabella N Toscana'!K24 -> 6 | I16: ='Tabella N Toscana'!L24 -> 36 | ... O16: ='Tabella N Toscana'!R24 -> 6 | P16: =SUM(B16:O16) -> 426
A17: PRAP VENETO, FRIULI V.G. E TRENTINO A.A. | B17: ='Tabella O Triveneto'!E21 -> 72 | C17: ='Tabella O Triveneto'!F21 -> 50 | D17: ='Tabella O Triveneto'!G21 -> 17 | E17: ='Tabella O Triveneto'!H21 -> 2 | F17: ='Tabella O Triveneto'!I21 -> 6 | G17: ='Tabella O Triveneto'!J21 -> 1 | H17: ='Tabella O Triveneto'!K21 -> 6 | I17: ='Tabella O Triveneto'!L21 -> 35 | ... O17: ='Tabella O Triveneto'!R21 -> 6 | P17: =SUM(B17:O17) -> 328
A18: TOTALI | B18: =SUM(B5:B17) -> 1099 | C18: =SUM(C5:C17) -> 739 | D18: =SUM(D5:D17) -> 241 | E18: =SUM(E5:E17) -> 52 | F18: =SUM(F5:F17) -> 116 | G18: =SUM(G5:G17) -> 5 | H18: =SUM(H5:H17) -> 67 | I18: =SUM(I5:I17) -> 453 | ... P18: =SUM(P5:P17) -> 4789

Sheet Ripart. complessiva
A1: Struttura | B1: Sede | C1: Tipologia | D1: Capienza regolamentare detenuti al 30.09.2016 | E1: Funzionario della professionalità giuridico-pedagogica | F1: Funzionario della professionalità giuridico-pedagogica - proposta PRAP | G1: Funzionario della professionalità giuridico-pedagogica - Presenti | H1: Funzionario della professionalità giuridico-pedagogica dotazione definitiva | I1: Funzionario contabile | J1: Funzionario contabile - proposta PRAP | K1: Funzionario contabile - Presenti | L1: Funzionario contabile dotazione definitiva | M1: Funzionario dell'organizzazione e delle relazioni | N1: Funzionario dell'organizzazione e delle relazioni - proposta PRAP | O1: Funzionario dell'organizzazione e delle relazioni - Presenti | P1: Funzionario dell'organizzazione e delle relazioni dotazione definitiva | Q1: Funzionario informatico | R1: Funzionario informatico - proposta PRAP | S1: Funzionario informatico - Presenti | T1: Funzionario informatico dotazione definitiva | U1: Funzionario tecnico | V1: Funzionario tecnico - proposta PRAP | W1: Funzionario tecnico - Presenti | X1: Funzionario tecnico dotazione definitiva | Y1: Funzionario linguistico | Z1: Funzionario linguistico - proposta PRAP | AA1: Funzionario linguistico - Presenti | AB1: Funzionario linguistico dotazione definitiva | AC1: Funzionario della professionalità di mediazione culturale | AD1: Funzionario della professionalità di mediazione culturale - proposta PRAP | AE1: Funzionario della professionalità di mediazione culturale - Presenti | AF1: Funzionario della professionalità di mediazione culturale dotazione definitiva | AG1: Operatore | AH1: Operatore - proposta PRAP | AI1: Operatore - Presenti | AJ1: Operatore dotazione definitiva | AK1: Assistente amministrativo | AL1: Assistente amministrativo - proposta PRAP | AM1: Assistente amministrativo - Presenti | AN1: Assistente amministrativo dotazione definitiva | AO1: Assistente linguistico | AP1: Assistente linguistico - proposta PRAP | AQ1: Assistente linguistico - Presenti | AR1: Assistente linguistico dotazione definitiva | AS1: Contabile | AT1: Contabile - proposta PRAP | AU1: Contabile - Presenti | AV1: Contabile dotazione definitiva | AW1: Assistente informatico | AX1: Assistente informatico - proposta PRAP | AY1: Assistente informatico - Presenti | AZ1: Assistente informatico dotazione definitiva | BA1: Assistente tecnico | BB1: Assistente tecnico - proposta PRAP | BC1: Assistente tecnico - Presenti | BD1: Assistente tecnico dotazione definitiva | BE1: Ausiliario | BF1: Ausiliario - proposta PRAP | BG1: Ausiliario - Presenti | BH1: Ausiliario dotazione definitiva
A2: CALABRIA | B2: CASTROVILLARI "R. SISCA" | C2: CC | D2: 122 | E2: 3 | F2: 3 | G2: 3 | H2: 3 | I2: 3 | J2: 3 | K2: 2 | L2: 3 | M2: 1 | N2: 1 | P2: 1 | R2: 0 | T2: 0 | V2: 0 | X2: 0 | Z2: 0 | AB2: 0 | AD2: 0 | AF2: 0 | AG2: 2 | AH2: 2 | AI2: 1 | AJ2: 2 | AK2: 5 | AL2: 4 | AM2: 6 | AN2: 4 | AP2: 0 | AR2: 0 | AS2: 1 | AT2: 1 | AU2: 0 | AV2: 1 | AW2: 1 | AX2: 1 | AZ2: 1 | BA2: 2 | BB2: 2 | BD2: 2 | BF2: 0 | BG2: 0 | BH2: 1
A3: CALABRIA | B3: CATANZARO "U. CARIDI" | C3: CC | D3: 632 | E3: 9 | F3: 9 | G3: 5 | H3: 9 | I3: 7 | J3: 6 | K3: 0 | L3: 6 | M3: 1 | N3: 1 | O3: 0 | P3: 1 | R3: 0 | S3: 1 | T3: 0 | V3: 0 | X3: 0 | Z3: 0 | AB3: 0 | AD3: 1 | AF3: 1 | AG3: 2 | AH3: 2 | AI3: 4 | AJ3: 2 | AK3: 6 | AL3: 7 | AM3: 7 | AN3: 7 | AP3: 0 | AR3: 0 | AS3: 2 | AT3: 2 | AU3: 2 | AV3: 2 | AW3: 1 | AX3: 1 | AY3: 0 | AZ3: 1 | BA3: 2 | BB3: 2 | BC3: 9 | BD3: 8 | BE3: 1 | BF3: 1 | BG3: 1 | BH3: 1
A4: CALABRIA | B4: COSENZA "S. COSMAI" | C4: CC | D4: 218 | E4: 4 | F4: 4 | G4: 5 | H4: 4 | I4: 3 | J4: 3 | K4: 1 | L4: 3 | M4: 1 | N4: 1 | O4: 1 | P4: 1 | R4: 0 | S4: 1 | T4: 0 | V4: 0 | W4: 1 | X4: 0 | Z4: 0 | AB4: 0 | AD4: 0 | AF4: 0 | AG4: 2 | AH4: 2 | AI4: 1 | AJ4: 2 | AK4: 5 | AL4: 5 | AM4: 5 | AN4: 5 | AP4: 0 | AR4: 0 | AS4: 1 | AT4: 1 | AU4: 1 | AV4: 1 | AW4: 1 | AX4: 1 | AY4: 4 | AZ4: 4 | BA4: 2 | BB4: 2 | BC4: 2 | BD4: 2 | BF4: 0 | BG4: 0 | BH4: 0
A5: CALABRIA | B5: CROTONE | C5: CC | D5: 120 | E5: 3 | F5: 3 | G5: 2 | H5: 3 | I5: 3 | J5: 3 | K5: 0 | L5: 3 | M5: 1 | N5: 1 | P5: 1 | R5: 0 | T5: 0 | V5: 0 | X5: 0 | Z5: 0 | AB5: 0 | AD5: 1 | AF5: 1 | AG5: 2 | AH5: 2 | AI5: 1 | AJ5: 2 | AK5: 5 | AL5: 4 | AM5: 5 | AN5: 4 | AP5: 0 | AR5: 0 | AS5: 1 | AT5: 1 | AU5: 0 | AV5: 1 | AW5: 1 | AX5: 1 | BA5: 2 | BB5: 2 | BC5: 1 | BD5: 1 | BF5: 0 | BG5: 0 | BH5: 0
A6: CALABRIA | B6: LAUREANA DI BORRELLO "L. DAGA" | C6: CC | D6: 34 | E6: 2 | F6: 1 | G6: 2 | H6: 1 | I6: 2 | J6: 2 | L6: 2 | M6: 1 | N6: 0 | P6: 0 | R6: 0 | T6: 0 | U6: 0 | W6: 0 | Z6: 0 | AB6: 0 | AD6: 0 | AF6: 0 | AG6: 2 | AH6: 2 | AI6: 1 | AJ6: 2 | AK6: 4 | AL6: 3 | AM6: 2 | AN6: 3 | AP6: 0 | AR6: 0 | AT6: 0 | AU6: 1 | AV6: 0 | AW6: 1 | AX6: 1 | BA6: 2 | BB6: 2 | BC6: 3 | BD6: 3 | BF6: 0 | BH6: 0
A7: CALABRIA | B7: LOCRI | C7: CC | D7: 89 | E7: 2 | F7: 2 | G7: 3 | H7: 2 | I7: 2 | J7: 2 | K7: 2 | L7: 2 | M7: 1 | N7: 1 | O7: 2 | P7: 1 | R7: 0 | T7: 0 | V7: 0 | W7: 0 | X7: 0 | Z7: 0 | AB7: 0 | AD7: 0 | AF7: 0 | AG7: 2 | AH7: 2 | AI7: 1 | AJ7: 2 | AK7: 4 | AL7: 3 | AM7: 3 | AN7: 3 | AP7: 0 | AR7: 0 | AT7: 0 | AU7: 1 | AV7: 0 | AW7: 1 | AX7: 1 | AY7: 0 | BA7: 2 | BB7: 2 | BC7: 1 | BD7: 1 | BF7: 0 | BG7: 0 | BH7: 0
A8: CALABRIA | B8: PALMI "F. SALSONE" | C8: CC | D8: 152 | E8: 3 | F8: 3 | G8: 5 | H8: 3 | I8: 3 | J8: 3 | K8: 4 | L8: 3 | M8: 1 | N8: 1 | P8: 1 | R8: 0 | T8: 0 | V8: 0 | W8: 0 | X8: 0 | Z8: 0 | AB8: 0 | AD8: 0 | AF8: 0 | AG8: 2 | AH8: 2 | AI8: 1 | AJ8: 2 | AK8: 5 | AL8: 4 | AM8: 4 | AN8: 4 | AP8: 0 | AR8: 0 | AS8: 1 | AT8: 1 | AU8: 1 | AV8: 1 | AW8: 1 | AX8: 1 | AZ8: 1 | BA8: 2 | BB8: 2 | BC8: 1 | BD8: 1 | BF8: 0 | BG8: 0 | BH8: 0
A9: CALABRIA | B9: PAOLA | C9: CC | D9: 182 | E9: 3 | F9: 3 | G9: 4 | H9: 3 | I9: 3 | J9: 3 | K9: 2 | L9: 3 | M9: 1 | N9: 1 | P9: 1 | R9: 0 | T9: 0 | V9: 0 | X9: 0 | Z9: 0 | AB9: 0 | AD9: 1 | AF9: 1 | AG9: 2 | AH9: 2 | AI9: 1 | AJ9: 2 | AK9: 5 | AL9: 4 | AM9: 4 | AN9: 4 | AP9: 0 | AR9: 0 | AS9: 1 | AT9: 1 | AU9: 0 | AV9: 1 | AW9: 1 | AX9: 1 | AZ9: 1 | BA9: 2 | BB9: 2 | BC9: 0 | BD9: 1 | BF9: 0 | BG9: 1 | BH9: 0
A10: CALABRIA | B10: PRAP | E10: 2 | F10: 3 | G10: 2 | H10: 3 | I10: 3 | J10: 5 | K10: 2 | L10: 3 | M10: 1 | N10: 2 | O10: 0 | P10: 2 | Q10: 1 | R10: 1 | T10: 1 | U10: 6 | V10: 6 | W10: 2 | X10: 6 | Z10: 0 | AB10: 0 | AC10: 6 | AD10: 0 | AF10: 0 | AG10: 3 | AH10: 3 | AI10: 3 | AJ10: 3 | AK10: 3 | AL10: 7 | AM10: 6 | AN10: 7 | AP10: 0 | AR10: 0 | AS10: 1 | AT10: 2 | AU10: 1 | AV10: 1 | AW10: 1 | AX10: 1 | AZ10: 1 | BA10: 5 | BB10: 5 | BC10: 2 | BD10: 4 | BE10: 1 | BF10: 1 | BG10: 1 | BH10: 1
A11: CALABRIA | B11: REGGIO CALABRIA "ARGHILLA'" E REGGIO CALABRIA "G. PANZERA" | C11: CC | D11: =302+186 -> 488 | E11: 6 | F11: 7 | G11: 6 | H11: 7 | I11: 4 | J11: 4 | K11: 4 | L11: 5 | M11: 1 | N11: 1 | O11: 1 | P11: 1 | R11: 0 | S11: 0 | T11: 0 | V11: 0 | W11: 1 | X11: 0 | Z11: 0 | AB11: 0 | AD11: 1 | AF11: 1 | AG11: 2 | AH11: 2 | AI11: 6 | AJ11: 2 | AK11: 5 | AL11: 6 | AM11: 5 | AN11: 6 | AP11: 0 | AR11: 0 | AS11: 2 | AT11: 1 | AU11: 2 | AV11: 2 | AW11: 1 | AX11: 1 | AY11: 1 | AZ11: 1 | BA11: 2 | BB11: 2 | BC11: 2 | BD11: 1 | BE11: 1 | BF11: 1 | BG11: 0
A12: CALABRIA | B12: ROSSANO N.C. | C12: CR | D12: 215 | E12: 6 | F12: 5 | G12: 3 | H12: 5 | I12: 4 | J12: 3 | K12: 0 | L12: 4 | M12: 1 | N12: 1 | O12: 0 | P12: 1 | R12: 0 | T12: 0 | V12: 0 | W12: 0 | X12: 0 | Z12: 0 | AB12: 0 | AD12: 1 | AF12: 1 | AG12: 2 | AH12: 2 | AI12: 1 | AJ12: 2 | AK12: 5 | AL12: 5 | AM12: 1 | AN12: 5 | AP12: 0 | AR12: 0 | AS12: 1 | AT12: 1 | AU12: 1 | AV12: 1 | AW12: 1 | AX12: 1 | AY12: 0 | AZ12: 1 | BA12: 2 | BB12: 2 | BD12: 1 | BF12: 0 | BG12: 0 | BH12: 0
A13: CALABRIA | B13: VIBO VALENTIA N.C. | C13: CC | D13: 407 | E13: 6 | F13: 6 | G13: 4 | H13: 6 | I13: 4 | J13: 4 | K13: 3 | L13: 4 | M13: 1 | N13: 1 | O13: 2 | P13: 1 | R13: 0 | T13: 0 | V13: 0 | X13: 0 | Z13: 0 | AB13: 0 | AD13: 1 | AF13: 1 | AG13: 2 | AH13: 2 | AI13: 3 | AJ13: 2 | AK13: 5 | AL13: 5 | AM13: 7 | AN13: 5 | AP13: 0 | AR13: 0 | AS13: =2-1 -> 1 | AT13: 1 | AU13: 0 | AV13: 1 | AW13: 1 | AX13: 1 | AZ13: 1 | BA13: 2 | BB13: 2 | BD13: 1 | BE13: 1 | BF13: 1 | BG13: 1 | BH13: 1
A14: CAMPANIA | B14: ARIANO IRPINO | C14: CC | D14: 253 | E14: 4 | F14: 4 | G14: 2 | H14: 4 | I14: 3 | J14: 3 | K14: 4 | L14: 3 | M14: 1 | N14: 1 | P14: 1 | AG14: 2 | AH14: 2 | AI14: 1 | AJ14: 2 | AK14: 5 | AL14: 5 | AM14: 6 | AN14: 5 | AS14: 1 | AT14: 1 | AU14: 1 | AV14: 1 | AW14: 1 | AX14: 1 | AY14: 1 | AZ14: 1 | BA14: 2 | BB14: 1 | BC14: 2 | BD14: 2 | BG14: 0
A15: CAMPANIA | B15: ARIENZO | C15: CC | D15: 52 | E15: 2 | F15: 2 | G15: 2 | H15: 2 | I15: 2 | J15: 2 | K15: 1 | L15: 2 | M15: 1 | N15: 1 | P15: 1 | AG15: 2 | AH15: 2 | AI15: 2 | AJ15: 2 | AK15: 4 | AL15: 4 | AM15: 5 | AN15: 4 | AT15: 1 | AU15: 0 | AV15: 1 | AW15: 1 | AX15: 1 | BA15: 2 | BB15: 1 | BC15: 0 | BG15: 1 | BH15: 1
A16: CAMPANIA | B16: AVELLINO BELLIZZI | C16: CC | D16: 501 | E16: 7 | F16: 9 | G16: 10 | H16: 8 | I16: 4 | J16: 6 | K16: 7 | L16: 4 | M16: 1 | N16: 1 | O16: 2 | P16: 1 | W16: 1 | AG16: 2 | AH16: 2 | AI16: 4 | AJ16: 2 | AK16: 5 | AL16: 5 | AM16: 12 | AN16: 3 | AS16: 2 | AT16: 1 | AU16: 2 | AV16: 1 | AW16: 1 | AX16: 1 | AY16: 2 | AZ16: 2 | BA16: 2 | BB16: 3 | BC16: 6 | BD16: 6 | BE16: 1 | BF16: 1 | BG16: 0
A17: CAMPANIA | B17: AVERSA "FILIPPO SAPORITO" | C17: CR | D17: 272 | E17: 7 | F17: 6 | G17: 4 | H17: 6 | I17: 4 | J17: 3 | K17: 2 | L17: 3 | M17: 1 | N17: 1 | O17: 0 | P17: 1 | S17: 1 | AG17: 2 | AH17: 2 | AI17: 2 | AJ17: 2 | AK17: 5 | AL17: 5 | AM17: 12 | AN17: 5 | AS17: 1 | AT17: 1 | AU17: 3 | AV17: 1 | AW17: 1 | AX17: 1 | AY17: 1 | AZ17: 1 | BA17: 2 | BB17: 1 | BC17: 4 | BD17: 5 | BG17: 1 | BH17: 1
A18: CAMPANIA | B18: BENEVENTO | C18: CC | D18: 254 | E18: 4 | F18: 6 | G18: 6 | H18: 6 | I18: 3 | J18: 4 | K18: 4 | L18: 3 | M18: 1 | N18: 1 | O18: 2 | P18: 1 | AG18: 2 | AH18: 2 | AI18: 2 | AJ18: 2 | AK18: 5 | AL18: 5 | AM18: 16 | AN18: 5 | AS18: 1 | AT18: 1 | AU18: 1 | AV18: 1 | AW18: 1 | AX18: 1 | AZ18: 1 | BA18: 2 | BB18: 2 | BC18: 3 | BD18: 3 | BG18: 0
A19: CAMPANIA | B19: CARINOLA "G.B. NOVELLI" | C19: CR | D19: 581 | E19: 13 | F19: 5 | G19: 6 | H19: 6 | I19: 5 | J19: 5 | K19: 3 | L19: 5 | M19: 1 | N19: 1 | O19: 3 | P19: 1 | W19: 0 | AG19: 2 | AH19: 2 | AI19: 2 | AJ19: 2 | AK19: 5 | AL19: 5 | AM19: 7 | AN19: 5 | AS19: 2 | AT19: 1 | AU19: 2 | AV19: 1 | AW19: 1 | AX19: 1 | AZ19: 1 | BA19: 2 | BB19: 2 | BC19: 3 | BD19: 3 | BE19: 1 | BF19: 1 | BG19: 2 | BH19: 2
A20: CAMPANIA | B20: EBOLI | C20: CR | D20: 54 | E20: 3 | F20: 3 | G20: 2 | H20: 3 | I20: 3 | J20: 2 | K20: 0 | L20: 3 | M20: 1 | N20: 1 | O20: 1 | P20: 1 | AG20: 2 | AH20: 2 | AI20: 2 | AJ20: 2 | AK20: 4 | AL20: 4 | AM20: 5 | AN20: 4 | AT20: 1 | AU20: 1 | AV20: 1 | AW20: 1 | AX20: 1 | BA20: 2 | BB20: 1 | BC20: 0 | BG20: 0
A21: CAMPANIA | B21: LAURO | C21: ICAM | D21: 38 | H21: 1 | L21: 1 | AN21: 2
A22: CAMPANIA | B22: NAPOLI "G. SALVIA" | C22: CC | D22: 1611 | E22: 20 | F22: 20 | G22: 18 | H22: 20 | I22: 10 | J22: 9 | K22: 8 | L22: 10 | M22: 1 | N22: 1 | O22: 4 | P22: 1 | S22: 0 | W22: 1 | AG22: =2+3 -> 5 | AH22: 5 | AI22: 7 | AJ22: 5 | AK22: 6 | AL22: 6 | AM22: 18 | AN22: 6 | AS22: 2 | AT22: 2 | AU22: 3 | AV22: 2 | AW22: 1 | AX22: 1 | AY22: 3 | AZ22: 3 | BA22: 2 | BB22: 5 | BC22: 10 | BD22: 10 | BE22: 1 | BF22: 1 | BG22: 4 | BH22: 4
A23: CAMPANIA | B23: NAPOLI SECONDIGLIANO | C23: CC | D23: 1021 | E23: 13 | F23: 15 | G23: 14 | H23: 15 | I23: 8 | J23: 7 | K23: 7 | L23: 8 | M23: 1 | N23: 1 | O23: 4 | P23: 1 | W23: 1 | AG23: 5 | AH23: 5 | AI23: 10 | AJ23: 4 | AK23: 6 | AL23: 6 | AM23: 18 | AN23: 6 | AS23: 2 | AT23: 2 | AU23: 4 | AV23: 2 | AW23: 1 | AX23: 1 | AZ23: 1 | BA23: 2 | BB23: 5 | BC23: 11 | BD23: 11 | BE23: 1 | BF23: 1 | BG23: 2 | BH23: 2
A24: CAMPANIA | B24: POZZUOLI | C24: CCF | D24: 105 | E24: 3 | F24: 5 | G24: 2 | H24: 4 | I24: 3 | J24: 3 | K24: 3 | L24: 3 | M24: 1 | N24: 1 | O24: 2 | P24: 1 | AG24: 2 | AH24: 2 | AI24: 5 | AJ24: 2 | AK24: 5 | AL24: 5 | AM24: 8 | AN24: 5 | AS24: 1 | AT24: 1 | AU24: 1 | AV24: 1 | AW24: 1 | AX24: 1 | AY24: 1 | AZ24: 1 | BA24: 2 | BB24: 1 | BC24: 3 | BD24: 3 | BG24: 1 | BH24: 1
A25: CAMPANIA | B25: PRAP | E25: 2 | F25: 2 | G25: 4 | H25: 2 | I25: 3 | J25: 5 | K25: 7 | L25: 3 | M25: 1 | N25: 1 | O25: 4 | P25: 2 | Q25: 1 | R25: 1 | S25: 0 | T25: 1 | U25: 6 | V25: 6 | W25: 3 | X25: 6 | Z25: 0 | AB25: 0 | AC25: 6 | AD25: 6 | AF25: 6 | AG25: 3 | AH25: 3 | AI25: 2 | AJ25: 4 | AK25: 3 | AL25: 3 | AM25: 8 | AN25: 3 | AP25: 0 | AR25: 0 | AS25: 1 | AT25: 1 | AU25: 0 | AV25: 1 | AW25: 1 | AX25: 1 | AY25: 0 | AZ25: 1 | BA25: 5 | BB25: 4 | BC25: 3 | BD25: 3 | BE25: 1 | BF25: 1 | BG25: 0 | BH25: 1
A26: CAMPANIA | B26: SALERNO "A. CAPUTO" | C26: CC | D26: 367 | E26: 5 | F26: 8 | G26: =4+1 -> 5 | H26: 8 | I26: 3 | J26: 5 | K26: 3 | L26: 3 | M26: 1 | N26: 1 | O26: 2 | P26: 1 | AG26: 2 | AH26: 3 | AI26: 3 | AJ26: 3 | AK26: 5 | AL26: 5 | AM26: =10+2 -> 12 | AN26: 5 | AS26: 1 | AT26: 1 | AU26: 1 | AV26: 1 | AW26: 1 | AX26: 1 | AZ26: 1 | BA26: 2 | BB26: 1 | BC26: 1 | BD26: 1 | BE26: 1 | BF26: 1 | BG26: 2 | BH26: 2
A27: CAMPANIA | B27: SANTA MARIA CAPUA VETERE | C27: CC | D27: 833 | E27: 11 | F27: 10 | G27: 8 | H27: 10 | I27: 7 | J27: 5 | K27: 4 | L27: 7 | M27: 1 | N27: 1 | O27: 4 | P27: 1 | S27: 1 | W27: 0 | AG27: 2 | AH27: 2 | AI27: 2 | AJ27: 2 | AK27: 6 | AL27: 6 | AM27: 11 | AN27: 6 | AS27: 2 | AT27: 1 | AU27: 2 | AV27: 1 | AW27: 1 | AX27: 1 | AY27: 2 | AZ27: 2 | BA27: 2 | BB27: 2 | BC27: 5 | BD27: 6 | BE27: 1 | BF27: 1 | BG27: 1 | BH27: 1
A28: CAMPANIA | B28: SANT'ANGELO DEI LOMBARDI | C28: CR | D28: 122 | E28: 4 | F28: 3 | G28: 1 | H28: 3 | I28: 4 | J28: 3 | K28: 2 | L28: 4 | M28: 1 | N28: 1 | O28: 0 | P28: 1 | AG28: 2 | AH28: 2 | AI28: 1 | AJ28: 2 | AK28: 5 | AL28: 5 | AM28: 3 | AN28: 5 | AS28: 1 | AT28: 1 | AU28: 0 | AV28: 1 | AW28: 1 | AX28: 1 | BA28: 2 | BB28: 2
A29: CAMPANIA | B29: VALLO DELLA LUCANIA | C29: CC | D29: 40 | E29: 2 | F29: 2 | G29: 1 | H29: 2 | I29: 2 | J29: 2 | K29: 0 | L29: 2 | M29: 1 | N29: 1 | P29: 1 | AG29: 2 | AH29: 1 | AI29: 0 | AJ29: 1 | AK29: 4 | AL29: 4 | AM29: 1 | AN29: 4 | AT29: 1 | AU29: 1 | AV29: 1 | AW29: 1 | AX29: 1 | BA29: 2 | BB29: 1 | BC29: 1 | BD29: 1
A30: DAP | B30: ROMA | C30: AMMINISTRAZIONE CENTRALE | E30: 57 | F30: 57 | G30: 57 | H30: 55 | I30: 47 | J30: 47 | K30: 51 | L30: 48 | M30: 37 | N30: 37 | O30: 37 | P30: 35 | Q30: 41 | R30: 41 | S30: 32 | T30: 40 | U30: 47 | V30: 47 | W30: 32 | X30: 46 | Y30: 4 | Z30: 4 | AA30: 4 | AB30: 3 | AC30: 1 | AD30: 1 | AF30: 1 | AG30: 29 | AH30: 29 | AI30: 14 | AJ30: 30 | AK30: 84 | AL30: 84 | AM30: 86 | AN30: 85 | AO30: 1 | AP30: 1 | AQ30: 1 | AR30: 1 | AS30: 20 | AT30: 20 | AU30: 20 | AV30: 19 | AW30: 26 | AX30: 26 | AY30: 27 | AZ30: 24 | BA30: 48 | BB30: 48 | BC30: 19 | BD30: 21 | BE30: 10 | BF30: 10 | BG30: 5 | BH30: 6
A31: DIREZIONE GENERALE FORMAZIONE | B31: CAIRO MONTENOTTE | C31: SCUOLA | E31: 2 | F31: 2 | G31: 0 | H31: 2 | I31: 2 | J31: 2 | K31: 0 | L31: 1 | M31: 1 | N31: 1 | O31: 1 | P31: 1 | R31: 1 | W31: 1 | Z31: 1 | AG31: 2 | AH31: 2 | AI31: 1 | AJ31: 1 | AK31: 1 | AL31: 1 | AM31: 2 | AN31: 1 | AS31: 0 | AT31: 1 | AU31: 1 | AW31: 1 | AX31: 1 | AZ31: 1 | BC31: 0 | BE31: 1 | BF31: 1
A32: DIREZIONE GENERALE FORMAZIONE | B32: ROMA | C32: SCUOLA SUPERIORE ESECUZIONE PENALE | F32: 2 | H32: 2 | J32: 2 | L32: 2 | N32: 1 | R32: 1 | T32: 1 | V32: 1 | Z32: 1 | AB32: 1 | AD32: 0 | AF32: 0 | AH32: 2 | AJ32: 1 | AL32: 1 | AN32: 1 | AP32: 0 | AR32: 0 | AT32: 1 | AV32: 1 | AX32: 1 | AZ32: 1 | BB32: 1 | BD32: 1 | BF32: 1 | BH32: 1
A33: DIREZIONE GENERALE FORMAZIONE | B33: PARMA | C33: ISTITUTO DI ISTRUZIONE | E33: 1 | F33: 1 | G33: 1 | H33: 1 | I33: 1 | J33: 1 | K33: 1 | L33: 1 | M33: 1 | N33: 1 | O33: 3 | P33: 1 | R33: 1 | Z33: 1 | AH33: 1 | AI33: 2 | AJ33: 1 | AK33: 1 | AL33: 1 | AM33: 5 | AN33: 1 | AS33: 1 | AT33: 1 | AU33: 0 | AV33: 1 | AW33: 1 | AX33: 1 | AZ33: 1 | BC33: 0 | BE33: 1 | BF33: 1 | BG33: 0
A34: DIREZIONE GENERALE FORMAZIONE | B34: PORTICI | C34: SCUOLA | E34: 2 | F34: 2 | G34: =1+1 -> 2 | H34: 2 | I34: 2 | J34: 2 | K34: =1+1 -> 2 | L34: 2 | M34: 1 | N34: 1 | O34: =3+2 -> 5 | P34: 1 | R34: 1 | Z34: 1 | AG34: 2 | AH34: 2 | AI34: =2+3 -> 5 | AJ34: 1 | AK34: 1 | AL34: 1 | AM34: =4+7 -> 11 | AN34: 1 | AS34: 0 | AT34: 1 | AU34: =0+1 -> 1 | AW34: 1 | AX34: 1 | AY34: 2 | AZ34: 2 | BC34: 1 | BD34: 1 | BE34: 1 | BF34: 1 | BG34: 0
A35: DIREZIONE GENERALE FORMAZIONE | B35: ROMA | C35: SCUOLA | E35: 2 | F35: 3 | G35: 4 | H35: 2 | I35: 2 | J35: 2 | K35: 3 | L35: 2 | M35: 1 | N35: 1 | O35: 1 | P35: 1 | R35: 1 | T35: 1 | V35: 1 | W35: 1 | Z35: 1 | AG35: 2 | AH35: 2 | AI35: 3 | AJ35: 1 | AK35: 1 | AL35: 1 | AM35: 5 | AN35: 1 | AQ35: 0 | AS35: 0 | AT35: 1 | AU35: 2 | AW35: 1 | AX35: 1 | AY35: 0 | AZ35: 1 | BC35: 3 | BD35: 2 | BE35: 1 | BF35: 1 | BG35: 1 | BH35: 1
A36: DIREZIONE GENERALE FORMAZIONE | B36: S. PIETRO IN CLARENZA | C36: SCUOLA | E36: 2 | F36: 2 | G36: 0 | H36: 2 | I36: 2 | J36: 2 | K36: 1 | L36: 2 | M36: 1 | N36: 1 | O36: 0 | P36: 1 | R36: 1 | Z36: 1 | AG36: 2 | AH36: 2 | AI36: 5 | AJ36: 1 | AK36: 1 | AL36: 1 | AM36: 2 | AN36: 1 | AS36: 0 | AT36: 1 | AU36: 2 | AW36: 1 | AX36: 1 | AY36: 1 | AZ36: 1 | BC36: 1 | BD36: 1 | BE36: 1 | BF36: 1
A37: DIREZIONE GENERALE FORMAZIONE | B37: SULMONA | C37: ISTITUTO DI ISTRUZIONE | E37: 1 | F37: 1 | G37: 1 | H37: 1 | I37: 1 | J37: 1 | K37: 2 | L37: 1 | M37: 1 | N37: 1 | O37: 1 | P37: 1 | R37: 1 | Z37: 1 | AH37: 1 | AI37: 1 | AJ37: 1 | AK37: 1 | AL37: 1 | AM37: 3 | AN37: 1 | AS37: 1 | AT37: 1 | AU37: 0 | AV37: 1 | AW37: 1 | AX37: 1 | AY37: 0 | AZ37: 1 | BC37: 0 | BE37: 1 | BF37: 1 | BG37: 1 | BH37: 1
A38: DIREZIONE GENERALE FORMAZIONE | B38: VERBANIA | C38: ISTITUTO DI ISTRUZIONE | E38: 1 | F38: 1 | G38: 0 | H38: 1 | I38: 1 | J38: 1 | K38: 1 | L38: 1 | M38: 1 | N38: 1 | O38: 0 | P38: 1 | R38: 1 | Z38: 1 | AH38: 1 | AI38: 0 | AJ38: 1 | AK38: 1 | AL38: 1 | AM38: 1 | AN38: 1 | AS38: 1 | AT38: 1 | AU38: 0 | AV38: 1 | AW38: 1 | AX38: 1 | AZ38: 1 | BC38: 0 | BE38: 1 | BF38: 1
A39: EMILIA ROMAGNA E MARCHE | B39: ANCONA | C39: DISTACCAMENTO | G39: 2 | H39: 1 | K39: 1 | L39: 1 | M39: 1 | O39: 1 | P39: 1 | W39: 2 | AI39: 0 | AJ39: 1 | AK39: 2 | AM39: 1 | AN39: 2 | AU39: 0 | AW39: 1 | AY39: 0 | BA39: 1 | BC39: 2 | BD39: 2 | BE39: 1 | BG39: 0
A40: EMILIA ROMAGNA E MARCHE | B40: ANCONA MONTACUTO E ANCONA BARCAGLIONE | C40: CC e CR | D40: =212+100 -> 312 | E40: =4+3 -> 7 | F40: =4+3 -> 7 | G40: 7 | H40: 7 | I40: =3+3 -> 6 | J40: =3+3 -> 6 | K40: 7 | L40: =3+3 -> 6 | M40: 1 | N40: 1 | O40: 2 | P40: 1 | X40: 1 | AG40: 2 | AH40: 2 | AI40: 0 | AJ40: 2 | AK40: 5 | AL40: 5 | AM40: 4 | AN40: 5 | AS40: 1 | AT40: 1 | AU40: 2 | AV40: 1 | AW40: 1 | AX40: 1 | AZ40: 2 | BA40: 2 | BD40: 2 | BE40: 1 | BF40: 1
A41: EMILIA ROMAGNA E MARCHE | B41: ASCOLI PICENO | C41: CC | D41: 104 | E41: 3 | F41: 3 | G41: 3 | H41: 3 | I41: 3 | J41: 3 | K41: 2 | L41: 3 | M41: 1 | N41: 1 | O41: 1 | P41: 1 | W41: 2 | AG41: 2 | AH41: 2 | AI41: 1 | AJ41: 2 | AK41: 5 | AL41: 5 | AM41: 2 | AN41: 5 | AS41: 1 | AT41: 1 | AU41: 1 | AV41: 1 | AW41: 1 | AX41: 1 | AZ41: 1 | BA41: 2 | BC41: 0 | BD41: 2 | BG41: 0
A42: EMILIA ROMAGNA E MARCHE | B42: BOLOGNA "DOZZA" | C42: CC | D42: 501 | E42: 7 | F42: 7 | G42: 6 | H42: 9 | I42: 4 | J42: 4 | K42: 3 | L42: 5 | M42: 1 | N42: 1 | O42: 2 | P42: 1 | W42: 1 | AG42: 2 | AH42: 2 | AI42: 1 | AJ42: 3 | AK42: 5 | AL42: 5 | AM42: 8 | AN42: 5 | AS42: 2 | AT42: 2 | AU42: 0 | AV42: 2 | AW42: 1 | AX42: 1 | AY42: 2 | AZ42: 2 | BA42: 2 | BC42: 3 | BD42: 3 | BE42: 1 | BF42: 1 | BG42: 1 | BH42: 1
A43: EMILIA ROMAGNA E MARCHE | B43: CAMERINO | C43: CC | D43: 41 | E43: 2 | F43: 2 | G43: 1 | I43: 2 | J43: 2 | K43: 1 | M43: 1 | N43: 1 | AG43: 2 | AH43: 2 | AI43: 1 | AK43: 4 | AL43: 4 | AM43: 2 | AU43: 1 | AW43: 1 | AX43: 1 | BA43: 2 | BB43: 2
A44: EMILIA ROMAGNA E MARCHE | B44: CASTELFRANCO EMILIA | C44: CR | D44: 182 | E44: 5 | F44: 4 | G44: 3 | H44: 4 | I44: 4 | J44: 4 | K44: 1 | L44: 3 | M44: 1 | N44: 1 | P44: 1 | W44: 0 | AG44: 2 | AH44: 2 | AI44: 1 | AJ44: 2 | AK44: 5 | AL44: 5 | AM44: 1 | AN44: 5 | AS44: 1 | AT44: 1 | AU44: 1 | AV44: 1 | AW44: 1 | AX44: 1 | AZ44: 1 | BA44: 2 | BC44: 2 | BD44: 3 | BG44: 1 | BH44: 1
A45: EMILIA ROMAGNA E MARCHE | B45: FERMO | C45: CR | D45: 41 | E45: 2 | F45: 2 | G45: 1 | H45: 2 | I45: 3 | J45: 3 | K45: 1 | L45: 3 | M45: 1 | N45: 1 | P45: 1 | AG45: 2 | AH45: 2 | AI45: 1 | AJ45: 2 | AK45: 4 | AL45: 4 | AM45: 3 | AN45: 4 | AU45: 0 | AW45: 1 | AX45: 1 | AZ45: 1 | BA45: 2 | BB45: 2 | BD45: 2
A46: EMILIA ROMAGNA E MARCHE | B46: FERRARA | C46: CC | D46: 252 | E46: 4 | F46: 4 | G46: 7 | H46: 4 | I46: 3 | J46: 3 | K46: 1 | L46: 3 | M46: 1 | N46: 1 | O46: 2 | P46: 1 | AG46: 2 | AH46: 2 | AI46: 2 | AJ46: 2 | AK46: 5 | AL46: 5 | AM46: 5 | AN46: 5 | AS46: 1 | AT46: 1 | AU46: 0 | AV46: 1 | AW46: 1 | AX46: 1 | AZ46: 1 | BA46: 2 | BD46: 2 | BG46: 1 | BH46: 1
A47: EMILIA ROMAGNA E MARCHE | B47: FORLI' | C47: CC | D47: 144 | E47: 3 | F47: 3 | G47: 3 | H47: 3 | I47: 3 | J47: 3 | K47: 3 | L47: 3 | M47: 1 | N47: 1 | P47: 1 | AG47: 2 | AH47: 2 | AI47: 1 | AJ47: 2 | AK47: 5 | AL47: 5 | AM47: 5 | AN47: 5 | AS47: 1 | AT47: 1 | AU47: 0 | AV47: 1 | AW47: 1 | AX47: 1 | AZ47: 1 | BA47: 2 | BC47: 2 | BD47: 2
A48: EMILIA ROMAGNA E MARCHE | B48: FOSSOMBRONE | C48: CR | D48: 201 | E48: 6 | F48: 6 | G48: 3 | H48: 6 | I48: 4 | J48: 4 | K48: 2 | L48: 4 | M48: 1 | N48: 1 | O48: 1 | P48: 1 | AG48: 2 | AH48: 2 | AI48: 3 | AJ48: 2 | AK48: 5 | AL48: 5 | AM48: 3 | AN48: 5 | AS48: 1 | AT48: 1 | AU48: 1 | AV48: 1 | AW48: 1 | AX48: 1 | AY48: 2 | AZ48: 1 | BA48: 2 | BD48: 2
A49: EMILIA ROMAGNA E MARCHE | B49: MODENA | C49: CC | D49: 372 | E49: 5 | F49: 5 | G49: 5 | H49: 5 | I49: 3 | J49: 3 | K49: 3 | L49: 3 | M49: 1 | N49: 1 | O49: 1 | P49: 1 | AG49: 2 | AH49: 2 | AI49: 1 | AJ49: 2 | AK49: 5 | AL49: 5 | AM49: 6 | AN49: 6 | AS49: 1 | AT49: 1 | AU49: 1 | AV49: 1 | AW49: 1 | AX49: 1 | AY49: 2 | AZ49: 2 | BA49: 2 | BD49: 2 | BE49: 1 | BF49: 1
A50: EMILIA ROMAGNA E MARCHE | B50: PARMA | C50: CC e CR | D50: 468 | E50: =8+3 -> 11 | F50: 10 | G50: 6 | H50: 10 | I50: =3+4 -> 7 | J50: 6 | K50: 5 | L50: =3+4 -> 7 | M50: 1 | N50: 1 | O50: 0 | P50: 1 | AG50: 2 | AH50: 2 | AI50: 1 | AJ50: 2 | AK50: 5 | AL50: 5 | AM50: 9 | AN50: 6 | AS50: 2 | AT50: 2 | AU50: 1 | AV50: 2 | AW50: 1 | AX50: 1 | AY50: 1 | AZ50: 1 | BA50: 2 | BC50: 1 | BD50: 3 | BE50: 1 | BF50: 1 | BG50: 0
A51: EMILIA ROMAGNA E MARCHE | B51: PESARO | C51: CC | D51: 153 | E51: 3 | F51: 3 | G51: 6 | H51: 3 | I51: 3 | J51: 3 | K51: 1 | L51: 3 | M51: 1 | N51: 1 | O51: 1 | P51: 1 | AG51: 2 | AH51: 2 | AI51: 2 | AJ51: 2 | AK51: 5 | AL51: 5 | AM51: 7 | AN51: 5 | AS51: 1 | AT51: 1 | AU51: 0 | AV51: 1 | AW51: 1 | AX51: 1 | AY51: 2 | AZ51: 2 | BA51: 2 | BD51: 2 | BG51: 0
A52: EMILIA ROMAGNA E MARCHE | B52: PIACENZA "S. LAZZARO" | C52: CC | D52: 399 | E52: 5 | F52: 5 | G52: 3 | H52: 5 | I52: 3 | J52: 3 | K52: 3 | L52: 3 | M52: 1 | N52: 1 | P52: 1 | AG52: 2 | AH52: 2 | AI52: 2 | AJ52: 2 | AK52: 5 | AL52: 5 | AM52: 6 | AN52: 6 | AS52: 1 | AT52: 1 | AU52: 0 | AV52: 1 | AW52: 1 | AX52: 1 | AY52: 0 | AZ52: 1 | BA52: 2 | BC52: 1 | BD52: 2 | BE52: 1 | BF52: 1
A53: EMILIA ROMAGNA E MARCHE | B53: PRAP | E53: 2 | G53: 0 | H53: 1 | I53: 3 | K53: 2 | L53: 3 | M53: 1 | O53: 2 | P53: 1 | Q53: 1 | T53: 1 | U53: 6 | W53: 3 | X53: 6 | AC53: 6 | AF53: 6 | AG53: 3 | AI53: 1 | AJ53: 3 | AK53: 3 | AM53: 3 | AN53: 3 | AS53: 1 | AU53: 0 | AV53: 1 | AW53: 1 | BA53: 4 | BC53: 1 | BD53: 2 | BE53: 1 | BG53: 2 | BH53: 2
A54: EMILIA ROMAGNA E MARCHE | B54: RAVENNA | C54: CC | D54: 49 | E54: 2 | F54: 2 | G54: 2 | H54: 2 | I54: 2 | J54: 3 | K54: 3 | L54: 2 | M54: 1 | N54: 1 | O54: 0 | P54: 1 | AG54: 2 | AH54: 2 | AI54: 0 | AJ54: 2 | AK54: 4 | AL54: 4 | AM54: 5 | AN54: 5 | AU54: 0 | AW54: 1 | AX54: 1 | BA54: 2 | BB54: 2 | BD54: 2
A55: EMILIA ROMAGNA E MARCHE | B55: REGGIO EMILIA | C55: CC | D55: =222+82 -> 304 | E55: 3 | F55: 5 | G55: 7 | H55: 5 | I55: 3 | J55: 3 | K55: 3 | L55: 4 | M55: 1 | N55: 1 | O55: 0 | P55: 1 | AG55: 2 | AH55: 2 | AI55: 3 | AJ55: 2 | AK55: 5 | AL55: 5 | AM55: 9 | AN55: 5 | AS55: 1 | AT55: 1 | AU55: 2 | AV55: 1 | AW55: 1 | AX55: 1 | AY55: 1 | AZ55: 1 | BA55: 2 | BD55: 2 | BE55: 1 | BF55: 1
A56: EMILIA ROMAGNA E MARCHE | B56: RIMINI | C56: CC | D56: 126 | E56: 3 | F56: 3 | G56: 6 | H56: 3 | I56: 3 | J56: 3 | K56: 2 | L56: 3 | M56: 1 | N56: 1 | O56: 1 | P56: 1 | AG56: 2 | AH56: 2 | AI56: 0 | AJ56: 2 | AK56: 5 | AL56: 5 | AM56: 0 | AN56: 5 | AS56: 1 | AT56: 1 | AU56: 1 | AV56: 1 | AW56: 1 | AX56: 1 | AZ56: 1 | BA56: 2 | BD56: 2 | BG56: 0
A57: LAZIO, ABRUZZO E MOLISE | B57: AVEZZANO | C57: CC | D57: 53 | E57: 2 | F57: 2 | G57: 2 | H57: 2 | I57: 2 | J57: 2 | K57: 2 | L57: 2 | M57: 1 | N57: 1 | O57: 2 | P57: 1 | AG57: 2 | AH57: 1 | AI57: 2 | AJ57: 1 | AK57: 4 | AL57: 3 | AM57: 5 | AN57: 3 | AU57: 0 | AW57: 1 | AX57: 1 | BA57: 2 | BB57: 1 | BC57: 0 | BD57: 1 | BG57: 0
A58: LAZIO, ABRUZZO E MOLISE | B58: CAMPOBASSO | C58: CC | D58: 106 | E58: 3 | F58: 3 | G58: 4 | H58: 3 | I58: 3 | J58: 2 | K58: 2 | L58: 3 | M58: 1 | N58: 1 | P58: 1 | AG58: 2 | AH58: 1 | AI58: 0 | AJ58: 1 | AK58: 5 | AL58: 3 | AM58: 4 | AN58: 3 | AS58: 1 | AT58: 1 | AU58: 0 | AV58: 0 | AW58: 1 | AX58: 1 | AZ58: 1 | BA58: 2 | BB58: 1 | BC58: 1 | BD58: 1 | BG58: 0
A59: LAZIO, ABRUZZO E MOLISE | B59: CASSINO | C59: CC | D59: 203 | E59: 4 | F59: 4 | G59: 2 | H59: 4 | I59: 3 | J59: 3 | K59: 3 | L59: 3 | M59: 1 | N59: 1 | O59: 4 | P59: 1 | AG59: 2 | AH59: 2 | AI59: 2 | AJ59: 2 | AK59: 5 | AL59: 5 | AM59: 3 | AN59: 5 | AS59: 1 | AT59: 1 | AU59: 0 | AV59: 1 | AW59: 1 | AX59: 1 | AY59: 1 | AZ59: 1 | BA59: 2 | BB59: 2 | BC59: 0 | BD59: 1
A60: LAZIO, ABRUZZO E MOLISE | B60: CHIETI | C60: CC | D60: 72 | E60: 2 | F60: 3 | G60: 3 | H60: 3 | I60: 2 | J60: 2 | K60: 2 | L60: 2 | M60: 1 | N60: 1 | O60: 1 | P60: 1 | AG60: 2 | AH60: 2 | AI60: 3 | AJ60: 2 | AK60: 4 | AL60: 4 | AM60: 7 | AN60: 4 | AU60: 0 | AW60: 1 | AX60: 1 | BA60: 2 | BB60: 1 | BC60: 0 | BD60: 1 | BG60: 0
A61: LAZIO, ABRUZZO E MOLISE | B61: CIVITAVECCHIA E CIVITAVECCHIA "G. PASSERINI" | C61: CC e CR | D61: =345+144 -> 489 | E61: =5+4 -> 9 | F61: 7 | G61: 6 | H61: 7 | I61: =3+4 -> 7 | J61: 5 | K61: 4 | L61: =3+4 -> 7 | M61: 1 | N61: 1 | O61: 0 | P61: 1 | S61: 1 | AD61: 1 | AF61: 1 | AG61: 2 | AH61: 3 | AI61: 4 | AJ61: 3 | AK61: 5 | AL61: 5 | AM61: 13 | AN61: 5 | AS61: 2 | AT61: 2 | AU61: 4 | AV61: 2 | AW61: 1 | AX61: 1 | AZ61: 1 | BA61: 2 | BB61: 3 | BC61: 1 | BD61: 2 | BE61: 1 | BF61: 1 | BG61: 1 | BH61: 1
A62: LAZIO, ABRUZZO E MOLISE | B62: FROSINONE "G. PAGLIEI" | C62: CC | D62: 506 | E62: 7 | F62: 8 | G62: 5 | H62: 8 | I62: 4 | J62: 6 | K62: 3 | L62: 4 | M62: 1 | N62: 1 | O62: 2 | P62: 1 | AG62: 2 | AH62: 3 | AI62: 1 | AJ62: 3 | AK62: 5 | AL62: 6 | AM62: 14 | AN62: 6 | AS62: 2 | AT62: 2 | AU62: 3 | AV62: 2 | AW62: 1 | AX62: 1 | AY62: 0 | AZ62: 1 | BA62: 2 | BB62: 3 | BC62: 1 | BD62: 2 | BE62: 1 | BF62: 1 | BG62: 0
A63: LAZIO, ABRUZZO E MOLISE | B63: ISERNIA | C63: CC | D63: 50 | E63: 2 | F63: 2 | G63: 2 | H63: 2 | I63: 2 | J63: 2 | K63: 2 | L63: 2 | M63: 1 | N63: 1 | P63: 1 | AG63: 2 | AH63: 1 | AI63: 3 | AJ63: 1 | AK63: 4 | AL63: 3 | AM63: 2 | AN63: 3 | AU63: 0 | AW63: 1 | AX63: 1 | AY63: 1 | BA63: 2 | BB63: 1 | BD63: 1 | BG63: 0
A64: LAZIO, ABRUZZO E MOLISE | B64: LANCIANO | C64: CC | D64: 204 | E64: 4 | F64: 3 | G64: 5 | H64: 3 | I64: 3 | J64: 3 | K64: 3 | L64: 3 | M64: 1 | N64: 1 | O64: 2 | P64: 1 | AG64: 2 | AH64: 2 | AI64: 0 | AJ64: 2 | AK64: 5 | AL64: 4 | AM64: 6 | AN64: 4 | AS64: 1 | AT64: 1 | AU64: 0 | AV64: 1 | AW64: 1 | AX64: 1 | AZ64: 1 | BA64: 2 | BB64: 2 | BC64: 1 | BD64: 1
A65: LAZIO, ABRUZZO E MOLISE | B65: L'AQUILA | C65: CC | D65: 232 | E65: 4 | F65: 3 | G65: 2 | H65: 3 | I65: 3 | J65: 3 | K65: 2 | L65: 3 | M65: 1 | N65: 1 | O65: 1 | P65: 1 | AG65: 2 | AH65: 2 | AI65: 4 | AJ65: 2 | AK65: 5 | AL65: 4 | AM65: 9 | AN65: 4 | AS65: 1 | AT65: 1 | AU65: 2 | AV65: 1 | AW65: 1 | AX65: 1 | AY65: 1 | AZ65: 1 | BA65: 2 | BB65: 2 | BC65: 0 | BD65: 1 | BG65: 1 | BH65: 1
A66: LAZIO, ABRUZZO E MOLISE | B66: LARINO | C66: CC | D66: 107 | E66: 3 | F66: 3 | G66: 2 | H66: 3 | I66: 3 | J66: 3 | K66: 1 | L66: 3 | M66: 1 | N66: 1 | P66: 1 | AG66: 2 | AH66: 2 | AI66: 1 | AJ66: 2 | AK66: 5 | AL66: 4 | AM66: 6 | AN66: 4 | AS66: 1 | AT66: 1 | AU66: 2 | AV66: 1 | AW66: 1 | AX66: 1 | AZ66: 1 | BA66: 2 | BB66: 2 | BC66: 0 | BD66: 1
A67: LAZIO, ABRUZZO E MOLISE | B67: LATINA | C67: CC | D67: 76 | E67: 2 | F67: 3 | G67: 5 | H67: 3 | I67: 2 | J67: 2 | K67: 1 | L67: 2 | M67: 1 | N67: 1 | O67: 1 | P67: 1 | AG67: 2 | AH67: 1 | AI67: 1 | AJ67: 1 | AK67: 4 | AL67: 3 | AM67: 6 | AN67: 3 | AT67: 1 | AU67: 1 | AV67: 1 | AW67: 1 | AX67: 1 | AY67: 2 | AZ67: 2 | BA67: 2 | BB67: 1 | BC67: 1 | BD67: 1
A68: LAZIO, ABRUZZO E MOLISE | B68: PALIANO | C68: CR | D68: 143 | E68: 4 | F68: 2 | G68: 1 | H68: 2 | I68: 4 | J68: 2 | K68: 1 | L68: 3 | M68: 1 | N68: 1 | P68: 1 | AG68: 2 | AH68: 2 | AI68: 2 | AJ68: 2 | AK68: 5 | AL68: 3 | AM68: 9 | AN68: 3 | AS68: 1 | AT68: 0 | AU68: 1 | AV68: 1 | AW68: 1 | AX68: 1 | AY68: 1 | AZ68: 1 | BA68: 2 | BB68: 1 | BC68: 2 | BD68: 2 | BG68: 0
A69: LAZIO, ABRUZZO E MOLISE | B69: PESCARA | C69: DISTACCAMENTO | F69: 0 | G69: 2 | H69: 1 | J69: 0 | K69: 1 | M69: 1 | N69: 1 | O69: 1 | P69: 1 | W69: 0 | AH69: 1 | AI69: 2 | AJ69: 1 | AK69: 2 | AL69: 0 | AM69: 5 | AN69: 0 | AP69: 0 | AR69: 0 | AT69: 0 | AU69: 1 | AV69: 1 | AW69: 1 | AX69: 1 | BA69: 1 | BB69: 1 | BC69: 1 | BD69: 1 | BE69: 1 | BF69: 0 | BG69: 0 | BH69: 0
A70: LAZIO, ABRUZZO E MOLISE | B70: PESCARA | C70: CC | D70: 270 | E70: 4 | F70: 5 | G70: 5 | H70: 5 | I70: 3 | J70: 3 | K70: 3 | L70: 3 | M70: 1 | N70: 1 | O70: 1 | P70: 1 | W70: 2 | AG70: 2 | AH70: 2 | AI70: 2 | AJ70: 2 | AK70: 5 | AL70: 5 | AM70: 11 | AN70: 5 | AS70: 1 | AT70: 1 | AU70: 1 | AV70: 1 | AW70: 1 | AX70: 1 | AY70: 1 | AZ70: 1 | BA70: 2 | BB70: 2 | BC70: 1 | BD70: 1 | BG70: 1 | BH70: 1
A71: LAZIO, ABRUZZO E MOLISE | B71: PRAP | E71: 2 | F71: 4 | G71: 3 | H71: 3 | I71: 3 | J71: 6 | K71: 0 | L71: 4 | M71: 1 | N71: 1 | O71: 3 | P71: 2 | Q71: 1 | R71: 1 | T71: 1 | U71: 6 | V71: 6 | W71: 2 | X71: 6 | AC71: 6 | AG71: 3 | AH71: 3 | AI71: 2 | AJ71: 3 | AK71: 3 | AL71: 5 | AM71: 8 | AN71: 5 | AS71: 1 | AT71: 2 | AU71: 2 | AV71: 1 | AW71: 1 | AX71: 1 | AY71: 2 | AZ71: 2 | BA71: 4 | BB71: 4 | BC71: 1 | BD71: 2 | BE71: 1 | BF71: 2 | BG71: 1 | BH71: 1
A72: LAZIO, ABRUZZO E MOLISE | B72: RIETI N.C. | C72: CC | D72: 295 | E72: 4 | F72: 5 | G72: 3 | H72: 5 | I72: 3 | J72: 3 | K72: 2 | L72: 3 | M72: 1 | N72: 1 | O72: 0 | P72: 1 | AG72: 2 | AH72: 2 | AI72: 2 | AJ72: 2 | AK72: 5 | AL72: 5 | AM72: 4 | AN72: 5 | AS72: 1 | AT72: 1 | AU72: 1 | AV72: 1 | AW72: 1 | AX72: 1 | AZ72: 1 | BA72: 2 | BB72: 2 | BC72: 2 | BD72: 2
A73: LAZIO, ABRUZZO E MOLISE | B73: ROMA "REGINA COELI" | C73: CC | D73: 624 | E73: 9 | F73: 10 | G73: 13 | H73: 10 | I73: 7 | J73: 7 | K73: 6 | L73: 7 | M73: 1 | N73: 1 | O73: 2 | P73: 1 | W73: 3 | AD73: 1 | AF73: 1 | AG73: 2 | AH73: 3 | AI73: 5 | AJ73: 3 | AK73: 6 | AL73: 9 | AM73: 16 | AN73: 9 | AS73: 2 | AT73: 2 | AU73: 4 | AV73: 2 | AW73: 1 | AX73: 1 | AY73: 1 | AZ73: 1 | BA73: 2 | BB73: 3 | BC73: 7 | BD73: 7 | BE73: 1 | BF73: 1 | BG73: 1 | BH73: 1
A74: LAZIO, ABRUZZO E MOLISE | B74: ROMA REBIBBIA | C74: CCF | D74: 266 | E74: 4 | F74: 6 | G74: 4 | H74: 6 | I74: 3 | J74: 4 | K74: 2 | L74: 3 | M74: 1 | N74: 1 | O74: 1 | P74: 1 | W74: 2 | AD74: 1 | AF74: 1 | AG74: 2 | AH74: 2 | AI74: 4 | AJ74: 2 | AK74: 5 | AL74: 5 | AM74: 23 | AN74: 5 | AS74: 1 | AT74: 1 | AU74: 2 | AV74: 1 | AW74: 1 | AX74: 1 | AZ74: 1 | BA74: 2 | BB74: 2 | BC74: 1 | BD74: 1 | BG74: 1 | BH74: 1
A75: LAZIO, ABRUZZO E MOLISE | B75: ROMA REBIBBIA | C75: CR | D75: 446 | E75: 10 | F75: 7 | G75: 9 | H75: 7 | I75: 5 | J75: 4 | K75: 3 | L75: 5 | M75: 1 | N75: 1 | O75: 1 | P75: 1 | W75: 0 | AG75: 2 | AH75: 1 | AI75: 5 | AJ75: 1 | AK75: 5 | AL75: 5 | AM75: 8 | AN75: 5 | AS75: 2 | AT75: 1 | AU75: 2 | AV75: 1 | AW75: 1 | AX75: 1 | AY75: 1 | AZ75: 1 | BA75: 2 | BB75: 2 | BC75: 6 | BD75: 6 | BE75: 1 | BF75: 1 | BG75: 0
A76: LAZIO, ABRUZZO E MOLISE | B76: ROMA REBIBBIA III | C76: CC | D76: 172 | E76: 3 | F76: 3 | G76: 3 | H76: 3 | I76: 3 | J76: 2 | K76: 3 | L76: 3 | M76: 1 | N76: 1 | O76: 1 | P76: 1 | AG76: 2 | AH76: 2 | AI76: 2 | AJ76: 2 | AK76: 5 | AL76: 3 | AM76: 6 | AN76: 3 | AS76: 1 | AT76: 1 | AU76: 1 | AV76: 1 | AW76: 1 | AX76: 1 | AZ76: 1 | BA76: 2 | BB76: 2 | BD76: 1 | BG76: 1 | BH76: 1
A77: LAZIO, ABRUZZO E MOLISE | B77: ROMA REBIBBIA N.C. | C77: CC | D77: 1175 | E77: 14 | F77: 15 | G77: 17 | H77: 15 | I77: 8 | J77: 8 | K77: 7 | L77: 8 | M77: 1 | N77: 1 | O77: 3 | P77: 1 | S77: 1 | W77: 0 | AD77: 1 | AF77: 1 | AG77: =2+3 -> 5 | AH77: 4 | AI77: 6 | AJ77: 4 | AK77: 6 | AL77: 11 | AM77: 23 | AN77: 11 | AS77: 2 | AT77: 2 | AU77: 5 | AV77: 2 | AW77: 1 | AX77: 1 | AY77: 2 | AZ77: 2 | BA77: 2 | BB77: 4 | BC77: 8 | BD77: 8 | BE77: 1 | BF77: 1 | BG77: 3 | BH77: 3
A78: LAZIO, ABRUZZO E MOLISE | B78: SULMONA | C78: CR | D78: 304 | E78: 8 | F78: 6 | G78: 6 | H78: 6 | I78: 4 | J78: 4 | K78: 4 | L78: 4 | M78: 1 | N78: 1 | O78: 2 | P78: 1 | W78: 1 | AG78: 2 | AH78: 2 | AI78: 1 | AJ78: 2 | AK78: 5 | AL78: 5 | AM78: 10 | AN78: 5 | AS78: 1 | AT78: 1 | AU78: 2 | AV78: 1 | AW78: 1 | AX78: 1 | AY78: 2 | AZ78: 2 | BA78: 2 | BB78: 2 | BC78: 2 | BD78: 2 | BE78: 1 | BF78: 1 | BG78: 2 | BH78: 2
A79: LAZIO, ABRUZZO E MOLISE | B79: TERAMO | C79: CC | D79: 255 | E79: 4 | F79: 5 | G79: 4 | H79: 5 | I79: 3 | J79: 3 | K79: 2 | L79: 3 | M79: 1 | N79: 1 | O79: 1 | P79: 1 | AG79: 2 | AH79: 2 | AI79: 5 | AJ79: 2 | AK79: 5 | AL79: 5 | AM79: 10 | AN79: 5 | AS79: 1 | AT79: 1 | AU79: 1 | AV79: 1 | AW79: 1 | AX79: 1 | AZ79: 1 | BA79: 2 | BB79: 2 | BC79: 1 | BD79: 2 | BG79: 0
A80: LAZIO, ABRUZZO E MOLISE | B80: VASTO | C80: CL | D80: 197 | E80: =5+2 -> 7 | F80: 4 | G80: 4 | H80: 4 | I80: 4 | J80: 3 | K80: 3 | L80: 4 | M80: 1 | N80: 1 | P80: 1 | AG80: 2 | AH80: 2 | AI80: 3 | AJ80: 2 | AK80: 5 | AL80: 4 | AM80: 8 | AN80: 4 | AS80: 1 | AT80: 1 | AU80: 1 | AV80: 1 | AW80: 1 | AX80: 1 | AZ80: 1 | BA80: 2 | BB80: 2 | BC80: 0 | BD80: 1 | BG80: 0
A81: LAZIO, ABRUZZO E MOLISE | B81: VELLETRI | C81: CC | D81: 411 | E81: 6 | F81: 7 | G81: 4 | H81: 7 | I81: 4 | J81: 5 | K81: 3 | L81: 4 | M81: 1 | N81: 1 | O81: 2 | P81: 1 | AD81: 1 | AF81: 1 | AG81: 2 | AH81: 3 | AI81: 0 | AJ81: 3 | AK81: 5 | AL81: 7 | AM81: 11 | AN81: 7 | AS81: 2 | AT81: 2 | AU81: 1 | AV81: 2 | AW81: 1 | AX81: 1 | AZ81: 1 | BA81: 2 | BB81: 2 | BC81: 1 | BD81: 1 | BE81: 1 | BF81: 1
A82: LAZIO, ABRUZZO E MOLISE | B82: VITERBO N.C. | C82: CC | D82: 432 | E82: 6 | F82: 7 | G82: 5 | H82: 7 | I82: 4 | J82: 5 | K82: 2 | L82: 4 | M82: 1 | N82: 1 | O82: 0 | P82: 1 | S82: 2 | W82: 0 | AA82: 0 | AD82: 1 | AF82: 1 | AG82: 2 | AH82: 3 | AI82: 4 | AJ82: 3 | AK82: 5 | AL82: 7 | AM82: 12 | AN82: 7 | AS82: 2 | AT82: 2 | AU82: 1 | AV82: 2 | AW82: 1 | AX82: 1 | AY82: 0 | AZ82: 1 | BA82: 2 | BB82: 3 | BC82: 3 | BD82: 3 | BE82: 1 | BF82: 1 | BG82: 0
A83: LOMBARDIA | B83: BERGAMO | C83: CC | D83: 320 | E83: 5 | F83: 5 | G83: 4 | H83: 5 | I83: 3 | J83: 3 | K83: 1 | L83: 3 | M83: 1 | N83: 1 | O83: 1 | P83: 1 | AG83: 2 | AH83: 2 | AI83: 1 | AJ83: 2 | AK83: 5 | AL83: 5 | AM83: 5 | AN83: 5 | AS83: 1 | AT83: 1 | AU83: 0 | AV83: 1 | AW83: 1 | AX83: 1 | AY83: 1 | AZ83: 1 | BA83: 2 | BD83: 2 | BE83: 1 | BF83: 1
A84: LOMBARDIA | B84: BRESCIA CANTON MONBELLO E BRESCIA VERZIANO | C84: CC e CR | D84: =189+72 -> 261 | E84: =3+3 -> 6 | F84: =3+3 -> 6 | G84: 6 | H84: 6 | I84: =3+3 -> 6 | J84: =3+3 -> 6 | K84: 0 | L84: =3+3 -> 6 | M84: 1 | N84: 1 | O84: 1 | P84: 1 | AD84: 1 | AF84: 1 | AG84: 2 | AH84: 2 | AI84: 2 | AJ84: 2 | AK84: 5 | AL84: 5 | AM84: 5 | AN84: 5 | AS84: 1 | AT84: 1 | AU84: 0 | AV84: 1 | AW84: 1 | AX84: 1 | AY84: 3 | AZ84: 3 | BA84: 2 | BD84: 2
A85: LOMBARDIA | B85: BUSTO ARSIZIO | C85: CC | D85: 238 | E85: 4 | F85: 4 | G85: 4 | H85: 4 | I85: 3 | J85: 3 | K85: 1 | L85: 3 | M85: 1 | N85: 1 | O85: 1 | P85: 1 | AG85: 2 | AH85: 2 | AI85: 0 | AJ85: 2 | AK85: 5 | AL85: 5 | AM85: 2 | AN85: 5 | AS85: 1 | AT85: 1 | AU85: 2 | AV85: 1 | AW85: 1 | AX85: 1 | AZ85: 1 | BA85: 2 | BD85: 2
A86: LOMBARDIA | B86: COMO | C86: CC | D86: 221 | E86: 4 | F86: 4 | G86: 6 | H86: 4 | I86: 3 | J86: 3 | K86: 2 | L86: 3 | M86: 1 | N86: 1 | O86: 0 | P86: 1 | AD86: 1 | AF86: 1 | AG86: 2 | AH86: 2 | AI86: 1 | AJ86: 2 | AK86: 5 | AL86: 5 | AM86: 5 | AN86: 5 | AS86: 1 | AT86: 1 | AU86: 0 | AV86: 1 | AW86: 1 | AX86: 1 | AZ86: 1 | BA86: 2 | BC86: 0 | BD86: 2
A87: LOMBARDIA | B87: CREMONA | C87: CC | D87: 393 | E87: 5 | F87: 5 | G87: 3 | H87: 5 | I87: 3 | J87: 3 | K87: 3 | L87: 3 | M87: 1 | N87: 1 | O87: 1 | P87: 1 | AD87: 1 | AF87: 1 | AG87: 2 | AH87: 2 | AI87: 0 | AJ87: 2 | AK87: 5 | AL87: 5 | AM87: 5 | AN87: 5 | AS87: 1 | AT87: 1 | AU87: 0 | AV87: 1 | AW87: 1 | AX87: 1 | AZ87: 1 | BA87: 2 | BD87: 2 | BE87: 1 | BF87: 1
A88: LOMBARDIA | B88: LECCO | C88: CC | D88: 53 | E88: 2 | F88: 2 | G88: 2 | H88: 2 | I88: 2 | J88: 2 | K88: 2 | L88: 2 | M88: 1 | N88: 1 | P88: 1 | AG88: 2 | AH88: 2 | AI88: 2 | AJ88: 2 | AK88: 4 | AL88: 4 | AM88: 1 | AN88: 4 | AU88: 0 | AW88: 1 | AX88: 1 | AZ88: 1 | BA88: 2 | BB88: 2 | BD88: 2
A89: LOMBARDIA | B89: LODI | C89: CC | D89: 45 | E89: 2 | F89: 2 | G89: 1 | H89: 2 | I89: 2 | J89: 2 | K89: 0 | L89: 2 | M89: 1 | N89: 1 | P89: 1 | AG89: 2 | AH89: 2 | AI89: 0 | AJ89: 2 | AK89: 4 | AL89: 4 | AM89: 2 | AN89: 4 | AU89: 0 | AW89: 1 | AX89: 1 | BA89: 2 | BB89: 2 | BD89: 2
A90: LOMBARDIA | B90: MANTOVA | C90: CC | D90: 104 | E90: 3 | F90: 3 | G90: 2 | H90: 3 | I90: 3 | J90: 2 | K90: 1 | L90: 3 | M90: 1 | N90: 1 | P90: 1 | AG90: 2 | AH90: 2 | AI90: 0 | AJ90: 2 | AK90: 5 | AL90: 5 | AM90: 0 | AN90: 5 | AS90: 1 | AT90: 1 | AU90: 0 | AV90: 1 | AW90: 1 | AX90: 1 | AY90: 1 | AZ90: 1 | BA90: 2 | BD90: 2
A91: LOMBARDIA | B91: MILANO "OPERA" | C91: CR | D91: 905 | E91: 20 | F91: 22 | G91: 13 | H91: 22 | I91: 8 | J91: 8 | K91: 3 | L91: 8 | M91: 1 | N91: 1 | O91: 1 | P91: 1 | AG91: 2 | AH91: 2 | AI91: 3 | AJ91: 2 | AK91: 6 | AL91: 6 | AM91: 10 | AN91: 6 | AS91: 2 | AT91: 2 | AU91: 2 | AV91: 2 | AW91: 1 | AX91: 1 | AZ91: 1 | BA91: 2 | BC91: 1 | BD91: 2 | BE91: 1 | BF91: 1 | BG91: 0
A92: LOMBARDIA | B92: MILANO "SAN VITTORE" | C92: CC | D92: 750 | E92: 10 | F92: 12 | G92: 9 | H92: 12 | I92: 7 | J92: 7 | K92: 4 | L92: 7 | M92: 1 | N92: 1 | O92: 2 | P92: 1 | AD92: 1 | AF92: 1 | AG92: 2 | AH92: 2 | AI92: 2 | AJ92: 2 | AK92: 6 | AL92: 6 | AM92: 7 | AN92: 6 | AS92: 2 | AT92: 2 | AU92: 1 | AV92: 2 | AW92: 1 | AX92: 1 | AY92: 1 | AZ92: 1 | BA92: 2 | BC92: 1 | BD92: 2 | BE92: 1 | BF92: 1 | BG92: 0
A93: LOMBARDIA | B93: MILANO BOLLATE | C93: CR | D93: 1242 | E93: 26 | F93: 22 | G93: 16 | H93: 22 | I93: 9 | J93: 9 | K93: 3 | L93: 9 | M93: 1 | N93: 1 | O93: 1 | P93: 1 | AG93: =2+3 -> 5 | AH93: =2+3 -> 5 | AI93: 0 | AJ93: =2+3 -> 5 | AK93: 6 | AL93: 6 | AM93: 7 | AN93: 6 | AS93: 2 | AT93: 2 | AU93: 0 | AV93: 2 | AW93: 1 | AX93: 1 | AZ93: 1 | BA93: 2 | BD93: 2 | BE93: 1 | BF93: 1 | BG93: 0
A94: LOMBARDIA | B94: MONZA | C94: CC | D94: 403 | E94: 6 | F94: 6 | G94: 6 | H94: 6 | I94: 4 | J94: 4 | K94: 3 | L94: 4 | M94: 1 | N94: 1 | O94: 0 | P94: 1 | AD94: 1 | AF94: 1 | AG94: 2 | AH94: 2 | AI94: 1 | AJ94: 2 | AK94: 5 | AL94: 5 | AM94: 6 | AN94: 5 | AS94: =2-1 -> 1 | AT94: =2-1 -> 1 | AU94: 1 | AV94: =2-1 -> 1 | AW94: 1 | AX94: 1 | AY94: 0 | AZ94: 1 | BA94: 2 | BC94: 0 | BD94: 2 | BE94: 1 | BF94: 1 | BG94: 0
A95: LOMBARDIA | B95: PAVIA | C95: CC | D95: 524 | E95: 7 | F95: 7 | G95: 4 | H95: 7 | I95: 4 | J95: 4 | K95: 1 | L95: 4 | M95: 1 | N95: 1 | O95: 0 | P95: 1 | AD95: 1 | AF95: 1 | AG95: 2 | AH95: 2 | AI95: 2 | AJ95: 2 | AK95: 5 | AL95: 5 | AM95: 4 | AN95: 5 | AS95: 2 | AT95: 2 | AU95: 2 | AV95: 2 | AW95: 1 | AX95: 1 | AZ95: 1 | BA95: 2 | BD95: 2 | BE95: 1 | BF95: 1
A96: LOMBARDIA | B96: PRAP | E96: 2 | F96: 3 | G96: 3 | H96: 3 | I96: 3 | K96: 3 | L96: 3 | M96: 1 | O96: 2 | P96: 2 | Q96: 1 | T96: 1 | U96: 6 | W96: 1 | X96: 6 | AC96: 6 | AD96: 0 | AF96: 0 | AG96: 3 | AI96: 1 | AJ96: 3 | AK96: 3 | AM96: 3 | AN96: 3 | AS96: 1 | AU96: 1 | AV96: 1 | AW96: 1 | AY96: 0 | AZ96: 1 | BA96: 5 | BC96: 0 | BD96: 5 | BE96: 1 | BG96: 0 | BH96: 1
A97: LOMBARDIA | B97: SONDRIO | C97: CC | D97: 29 | E97: 2 | F97: 1 | G97: 1 | H97: 1 | I97: 2 | J97: 2 | K97: 2 | L97: 2 | M97: 1 | N97: 1 | P97: 1 | AG97: 2 | AH97: 2 | AI97: 1 | AJ97: 2 | AK97: 4 | AL97: 4 | AM97: 2 | AN97: 4 | AU97: 0 | AW97: 1 | AX97: 1 | BA97: 2 | BB97: 2 | BD97: 2
A98: LOMBARDIA | B98: VARESE | C98: CC | D98: 54 | E98: 2 | F98: 2 | G98: 3 | H98: 2 | I98: 2 | J98: 2 | K98: 2 | L98: 2 | M98: 1 | N98: 1 | P98: 1 | AG98: 2 | AH98: 2 | AI98: 1 | AJ98: 2 | AK98: 4 | AL98: 4 | AM98: 1 | AN98: 4 | AU98: 0 | AW98: 1 | AX98: 1 | AY98: 0 | AZ98: 1 | BA98: 2 | BB98: 2 | BD98: 2
A99: LOMBARDIA | B99: VIGEVANO | C99: CR | D99: 239 | E99: 6 | F99: 6 | G99: 5 | H99: 6 | I99: 4 | J99: 5 | K99: 3 | L99: 4 | M99: 1 | N99: 1 | O99: 0 | P99: 1 | AG99: 2 | AH99: 2 | AI99: 2 | AJ99: 2 | AK99: 5 | AL99: 5 | AM99: 1 | AN99: 5 | AS99: 1 | AT99: 1 | AU99: 1 | AV99: 1 | AW99: 1 | AX99: 1 | AZ99: 1 | BA99: 2 | BD99: 2
A100: LOMBARDIA | B100: VOGHERA N.C. | C100: CC | D100: 339 | E100: 5 | F100: 5 | G100: 3 | H100: 5 | I100: 3 | J100: 3 | K100: 1 | L100: 3 | M100: 1 | N100: 1 | O100: 1 | P100: 1 | AG100: 2 | AH100: 2 | AI100: 0 | AJ100: 2 | AK100: 5 | AL100: 5 | AM100: 9 | AN100: 5 | AS100: 1 | AT100: 1 | AU100: 1 | AV100: 1 | AW100: 1 | AX100: 1 | AZ100: 1 | BA100: 2 | BD100: 2 | BE100: 1 | BF100: 1 | BG100: 0
...
