Workbook
Name Area_stampa1: '[6]TABELLE ORGANICO02'!$C$1:$N$51
Name TIT_ST: #REF!
Name TIT_ST: #REF!
Name Titoli_stampa_MI: [5]STOR_PG!$A$2:$IV$12

Sheet Tabella A DAP
B1: Tabella A
B2: Ripartizione territoriale della dotazione organica prevista dalla tabella E del D.P.C.M. 15 giugno 2015, n. 84.
B3: Struttura | C3: Sede | D3: Tipologia | E3: Funzionario della professionalità giuridico-pedagogica | F3: Funzionario contabile | G3: Funzionario dell'organizzazione e delle relazioni | H3: Funzionario informatico | I3: Funzionario tecnico | J3: Funzionario linguistico | K3: Funzionario della professionalità di mediazione culturale | L3: Operatore | M3: Assistente amministrativo | N3: Assistente linguistico | O3: Contabile | P3: Assistente informatico | Q3: Assistente tecnico | R3: Ausiliario | S3: TOTALI
A4: XX07 | B4: DAP | C4: ROMA | D4: AMMINISTRAZIONE CENTRALE | E4: 43 | F4: 49 | G4: 36 | H4: 28 | I4: 36 | J4: 3 | K4: 1 | L4: 29 | M4: 87 | N4: 2 | O4: 24 | P4: 23 | Q4: 36 | R4: 4 | S4: =SUM(E4:R4) -> 401
B5: TOTALE | E5: =SUBTOTAL(9,E4:E4) -> 43 | F5: =SUBTOTAL(9,F4:F4) -> 49 | G5: =SUBTOTAL(9,G4:G4) -> 36 | H5: =SUBTOTAL(9,H4:H4) -> 28 | I5: =SUBTOTAL(9,I4:I4) -> 36 | J5: =SUBTOTAL(9,J4:J4) -> 3 | K5: =SUBTOTAL(9,K4:K4) -> 1 | L5: =SUBTOTAL(9,L4:L4) -> 29 | ... S5: =SUBTOTAL(9,S4:S4) -> 401

Sheet Tabella B DGFO
B1: Tabella B
B2: Ripartizione territoriale della dotazione organica prevista dalla tabella E del D.P.C.M. 15 giugno 2015, n. 84.
B3: Struttura | C3: Sede | D3: Tipologia | E3: Funzionario della professionalità giuridico-pedagogica | F3: Funzionario contabile | G3: Funzionario dell'organizzazione e delle relazioni | H3: Funzionario informatico | I3: Funzionario tecnico | J3: Funzionario linguistico | K3: Funzionario della professionalità di mediazione culturale | L3: Operatore | M3: Assistente amministrativo | N3: Assistente linguistico | O3: Contabile | P3: Assistente informatico | Q3: Assistente tecnico | R3: Ausiliario | S3: TOTALI
A4: SA04 | B4: DIREZIONE GENERALE FORMAZIONE | C4: CAIRO MONTENOTTE | D4: SCUOLA | E4: 2 | F4: 1 | G4: 1 | H4: 0 | I4: 0 | J4: 0 | K4: 0 | L4: 3 | M4: 1 | N4: 0 | O4: 0 | P4: 1 | Q4: 1 | R4: 0 | S4: =SUM(E4:R4) -> 10
A5: SF08 | B5: DIREZIONE GENERALE FORMAZIONE | C5: CASTIGLIONE DELLE STIVIERE | D5: ISTITUTO DI ISTRUZIONE | E5: 1 | F5: 1 | G5: 1 | H5: 0 | I5: 0 | J5: 0 | K5: 0 | L5: 2 | M5: 1 | N5: 0 | O5: 1 | P5: 1 | Q5: 1 | R5: 0 | S5: =SUM(E5:R5) -> 9
A6: XX10 | B6: DIREZIONE GENERALE FORMAZIONE | C6: ROMA | D6: SCUOLA SUPERIORE ESECUZIONE PENALE | E6: 2 | F6: 2 | G6: 1 | H6: 1 | I6: 0 | J6: 1 | K6: 0 | L6: 4 | M6: 1 | N6: 0 | O6: 0 | P6: 2 | Q6: 1 | R6: 1 | S6: =SUM(E6:R6) -> 16
A7: SA01 | B7: DIREZIONE GENERALE FORMAZIONE | C7: PARMA | D7: ISTITUTO DI ISTRUZIONE | E7: 1 | F7: 1 | G7: 1 | H7: 0 | I7: 0 | J7: 0 | K7: 0 | L7: 2 | M7: 1 | N7: 0 | O7: 1 | P7: 1 | Q7: 1 | R7: 0 | S7: =SUM(E7:R7) -> 9
A8: SA02 | B8: DIREZIONE GENERALE FORMAZIONE | C8: PORTICI | D8: SCUOLA | E8: 2 | F8: 2 | G8: 1 | H8: 0 | I8: 0 | J8: 0 | K8: 0 | L8: 1 | M8: 1 | N8: 0 | O8: 0 | P8: 1 | Q8: 1 | R8: 0 | S8: =SUM(E8:R8) -> 9
A9: SF01 | B9: DIREZIONE GENERALE FORMAZIONE | C9: ROMA | D9: SCUOLA | E9: 2 | F9: 2 | G9: 1 | H9: 1 | I9: 0 | J9: 0 | K9: 0 | L9: 4 | M9: 1 | N9: 0 | O9: 2 | P9: 2 | Q9: 2 | R9: 1 | S9: =SUM(E9:R9) -> 18
A10: SA08 | B10: DIREZIONE GENERALE FORMAZIONE | C10: S. PIETRO IN CLARENZA | D10: SCUOLA | E10: 2 | F10: 2 | G10: 1 | H10: 0 | I10: 0 | J10: 0 | K10: 0 | L10: 3 | M10: 1 | N10: 0 | O10: 0 | P10: 1 | Q10: 1 | R10: 0 | S10: =SUM(E10:R10) -> 11
A11: SA06 | B11: DIREZIONE GENERALE FORMAZIONE | C11: SULMONA | D11: ISTITUTO DI ISTRUZIONE | E11: 1 | F11: 1 | G11: 1 | H11: 0 | I11: 0 | J11: 0 | K11: 0 | L11: 2 | M11: 1 | N11: 0 | O11: 1 | P11: 1 | Q11: 1 | R11: 1 | S11: =SUM(E11:R11) -> 10
A12: SA05 | B12: DIREZIONE GENERALE FORMAZIONE | C12: VERBANIA | D12: ISTITUTO DI ISTRUZIONE | E12: 1 | F12: 1 | G12: 1 | H12: 0 | I12: 0 | J12: 0 | K12: 0 | L12: 2 | M12: 1 | N12: 0 | O12: 1 | P12: 1 | Q12: 1 | R12: 0 | S12: =SUM(E12:R12) -> 9
B13: TOTALE | E13: =SUBTOTAL(9,E4:E12) -> 14 | F13: =SUBTOTAL(9,F4:F12) -> 13 | G13: =SUBTOTAL(9,G4:G12) -> 9 | H13: =SUBTOTAL(9,H4:H12) -> 2 | I13: =SUBTOTAL(9,I4:I12) -> 0 | J13: =SUBTOTAL(9,J4:J12) -> 1 | K13: =SUBTOTAL(9,K4:K12) -> 0 | L13: =SUBTOTAL(9,L4:L12) -> 23 | ... S13: =SUBTOTAL(9,S4:S12) -> 101

Sheet Tabella C Calabria
B1: Tabella C
B2: Ripartizione territoriale della dotazione organica prevista dalla tabella E del D.P.C.M. 15 giugno 2015, n. 84.
B3: Struttura | C3: Sede | D3: Tipologia | E3: Funzionario della professionalità giuridico-pedagogica | F3: Funzionario contabile | G3: Funzionario dell'organizzazione e delle relazioni | H3: Funzionario informatico | I3: Funzionario tecnico | J3: Funzionario linguistico | K3: Funzionario della professionalità di mediazione culturale | L3: Operatore | M3: Assistente amministrativo | N3: Assistente linguistico | O3: Contabile | P3: Assistente informatico | Q3: Assistente tecnico | R3: Ausiliario | S3: TOTALI
A4: HH12 | B4: CALABRIA | C4: CASTROVILLARI "R. SISCA" | D4: CC | E4: 2 | F4: 2 | G4: 1 | H4: 0 | I4: 0 | J4: 0 | K4: 0 | L4: 2 | M4: 4 | N4: 0 | O4: 1 | P4: 1 | Q4: 1 | R4: 0 | S4: =SUM(E4:R4) -> 14
A5: PR14 | B5: CALABRIA | C5: CATANZARO | D5: PRAP | E5: 3 | F5: 4 | G5: 2 | H5: 2 | I5: 5 | J5: 0 | K5: 0 | L5: 3 | M5: 6 | N5: 0 | O5: 2 | P5: 2 | Q5: 5 | R5: 1 | S5: =SUM(E5:R5) -> 35
A6: HH11 | B6: CALABRIA | C6: CATANZARO "U. CARIDI" | D6: CC | E6: 10 | F6: 6 | G6: 1 | H6: 0 | I6: 0 | J6: 0 | K6: 1 | L6: 2 | M6: 6 | N6: 0 | O6: 3 | P6: 1 | Q6: 4 | R6: 1 | S6: =SUM(E6:R6) -> 35
A7: HH04 | B7: CALABRIA | C7: COSENZA "S. COSMAI" | D7: CC | E7: 5 | F7: 3 | G7: 1 | H7: 0 | I7: 0 | J7: 0 | K7: 0 | L7: 2 | M7: 4 | N7: 0 | O7: 1 | P7: 1 | Q7: 2 | R7: 0 | S7: =SUM(E7:R7) -> 19
A8: HH39 | B8: CALABRIA | C8: CROTONE | D8: CC | E8: 3 | F8: 3 | G8: 1 | H8: 0 | I8: 0 | J8: 0 | K8: 1 | L8: 2 | M8: 4 | N8: 0 | O8: 1 | P8: 1 | Q8: 1 | R8: 0 | S8: =SUM(E8:R8) -> 17
A9: HH43 | B9: CALABRIA | C9: LAUREANA DI BORRELLO "L. DAGA" | D9: CC | E9: 1 | F9: 2 | G9: 0 | H9: 0 | I9: 0 | J9: 0 | K9: 0 | L9: 2 | M9: 3 | N9: 0 | O9: 1 | P9: 1 | Q9: 2 | R9: 0 | S9: =SUM(E9:R9) -> 12
A10: HH06 | B10: CALABRIA | C10: LOCRI | D10: CC | E10: 3 | F10: 2 | G10: 1 | H10: 0 | I10: 0 | J10: 0 | K10: 0 | L10: 2 | M10: 3 | N10: 0 | O10: 1 | P10: 1 | Q10: 1 | R10: 0 | S10: =SUM(E10:R10) -> 14
A11: HH19 | B11: CALABRIA | C11: PALMI "F. SALSONE" | D11: CC | E11: 4 | F11: 3 | G11: 1 | H11: 0 | I11: 0 | J11: 0 | K11: 0 | L11: 2 | M11: 4 | N11: 0 | O11: 1 | P11: 1 | Q11: 1 | R11: 0 | S11: =SUM(E11:R11) -> 17
A12: HH20 | B12: CALABRIA | C12: PAOLA | D12: CC | E12: 4 | F12: 3 | G12: 1 | H12: 0 | I12: 0 | J12: 0 | K12: 1 | L12: 2 | M12: 4 | N12: 0 | O12: 1 | P12: 1 | Q12: 1 | R12: 0 | S12: =SUM(E12:R12) -> 18
A13: HH44 | B13: CALABRIA | C13: REGGIO CALABRIA "ARGHILLA'" E REGGIO CALABRIA "G. PANZERA" | D13: CC | E13: 8 | F13: 7 | G13: 1 | H13: 0 | I13: 0 | J13: 0 | K13: 1 | L13: 2 | M13: 5 | N13: 0 | O13: 2 | P13: 1 | Q13: 2 | R13: 0 | S13: =SUM(E13:R13) -> 29
A14: HH41 | B14: CALABRIA | C14: ROSSANO N.C. | D14: CR | E14: 6 | F14: 4 | G14: 1 | H14: 0 | I14: 0 | J14: 0 | K14: 1 | L14: 2 | M14: 4 | N14: 0 | O14: 0 | P14: 1 | Q14: 2 | R14: 1 | S14: =SUM(E14:R14) -> 22
A15: HH07 | B15: CALABRIA | C15: VIBO VALENTIA N.C. | D15: CC | E15: 6 | F15: 4 | G15: 1 | H15: 0 | I15: 0 | J15: 0 | K15: 1 | L15: 2 | M15: 5 | N15: 0 | O15: 1 | P15: 1 | Q15: 2 | R15: 1 | S15: =SUM(E15:R15) -> 24
B16: TOTALE | E16: =SUBTOTAL(9,E4:E15) -> 55 | F16: =SUBTOTAL(9,F4:F15) -> 43 | G16: =SUBTOTAL(9,G4:G15) -> 12 | H16: =SUBTOTAL(9,H4:H15) -> 2 | I16: =SUBTOTAL(9,I4:I15) -> 5 | J16: =SUBTOTAL(9,J4:J15) -> 0 | K16: =SUBTOTAL(9,K4:K15) -> 6 | L16: =SUBTOTAL(9,L4:L15) -> 25 | ... S16: =SUBTOTAL(9,S4:S15) -> 256

Sheet Tabella D Campania
B1: Tabella D
B2: Ripartizione territoriale della dotazione organica prevista dalla tabella E del D.P.C.M. 15 giugno 2015, n. 84.
B3: Struttura | C3: Sede | D3: Tipologia | E3: Funzionario della professionalità giuridico-pedagogica | F3: Funzionario contabile | G3: Funzionario dell'organizzazione e delle relazioni | H3: Funzionario informatico | I3: Funzionario tecnico | J3: Funzionario linguistico | K3: Funzionario della professionalità di mediazione culturale | L3: Operatore | M3: Assistente amministrativo | N3: Assistente linguistico | O3: Contabile | P3: Assistente informatico | Q3: Assistente tecnico | R3: Ausiliario | S3: TOTALI
A4: FF30 | B4: CAMPANIA | C4: ARIANO IRPINO | D4: CC | E4: 5 | F4: 3 | G4: 1 | H4: 0 | I4: 0 | J4: 0 | K4: 0 | L4: 2 | M4: 5 | N4: 0 | O4: 1 | P4: 1 | Q4: 2 | R4: 0 | S4: =SUM(E4:R4) -> 20
A5: FF18 | B5: CAMPANIA | C5: ARIENZO | D5: CC | E5: 2 | F5: 2 | G5: 1 | H5: 0 | I5: 0 | J5: 0 | K5: 0 | L5: 1 | M5: 4 | N5: 0 | O5: 1 | P5: 0 | Q5: 1 | R5: 0 | S5: =SUM(E5:R5) -> 12
A6: FF32 | B6: CAMPANIA | C6: Avellino "Antimo Graziano" C.C. - Lauro I.C.A.M. sez. dist.ta CC. Avellino | D6: CC | E6: 10 | F6: 5 | G6: 1 | H6: 0 | I6: 0 | J6: 0 | K6: 1 | L6: 3 | M6: 5 | N6: 0 | O6: 2 | P6: 1 | Q6: 3 | R6: 1 | S6: =SUM(E6:R6) -> 32
A7: FF03 | B7: CAMPANIA | C7: AVERSA "FILIPPO SAPORITO" | D7: CR | E7: 7 | F7: 3 | G7: 1 | H7: 0 | I7: 0 | J7: 0 | K7: 0 | L7: 1 | M7: 5 | N7: 0 | O7: 1 | P7: 1 | Q7: 4 | R7: 1 | S7: =SUM(E7:R7) -> 24
A8: FF08 | B8: CAMPANIA | C8: BENEVENTO | D8: CC | E8: 6 | F8: 3 | G8: 1 | H8: 0 | I8: 0 | J8: 0 | K8: 0 | L8: 2 | M8: 5 | N8: 0 | O8: 1 | P8: 1 | Q8: 2 | R8: 0 | S8: =SUM(E8:R8) -> 21
A9: FF29 | B9: CAMPANIA | C9: CARINOLA "G.B. NOVELLI" | D9: CR | E9: 7 | F9: 4 | G9: 1 | H9: 0 | I9: 0 | J9: 0 | K9: 0 | L9: 2 | M9: 5 | N9: 0 | O9: 2 | P9: 1 | Q9: 3 | R9: 1 | S9: =SUM(E9:R9) -> 26
A10: FF64 | B10: CAMPANIA | C10: EBOLI | D10: CR | E10: 3 | F10: 3 | G10: 1 | H10: 0 | I10: 0 | J10: 0 | K10: 0 | L10: 1 | M10: 4 | N10: 0 | O10: 1 | P10: 0 | Q10: 0 | R10: 0 | S10: =SUM(E10:R10) -> 13
A11: PR11 | B11: CAMPANIA | C11: NAPOLI | D11: PRAP | E11: 2 | F11: 5 | G11: 2 | H11: 2 | I11: 8 | J11: 0 | K11: 1 | L11: 4 | M11: 7 | N11: 0 | O11: 1 | P11: 2 | Q11: 8 | R11: 1 | S11: =SUM(E11:R11) -> 43
A12: FF01 | B12: CAMPANIA | C12: NAPOLI "G. SALVIA" | D12: CC | E12: 24 | F12: 9 | G12: 1 | H12: 0 | I12: 0 | J12: 0 | K12: 1 | L12: 5 | M12: 6 | N12: 0 | O12: 2 | P12: 2 | Q12: 6 | R12: 2 | S12: =SUM(E12:R12) -> 58
A13: FF58 | B13: CAMPANIA | C13: NAPOLI SECONDIGLIANO | D13: CC | E13: 18 | F13: 8 | G13: 1 | H13: 0 | I13: 0 | J13: 0 | K13: 1 | L13: 4 | M13: 6 | N13: 0 | O13: 3 | P13: 2 | Q13: 7 | R13: 2 | S13: =SUM(E13:R13) -> 52
A14: FF56 | B14: CAMPANIA | C14: POZZUOLI | D14: CCF | E14: 4 | F14: 3 | G14: 1 | H14: 0 | I14: 0 | J14: 0 | K14: 0 | L14: 2 | M14: 5 | N14: 0 | O14: 1 | P14: 1 | Q14: 2 | R14: 1 | S14: =SUM(E14:R14) -> 20
A15: FF11 | B15: CAMPANIA | C15: SALERNO "A. CAPUTO" | D15: CC | E15: 9 | F15: 3 | G15: 1 | H15: 0 | I15: 0 | J15: 0 | K15: 1 | L15: 3 | M15: 4 | N15: 0 | O15: 2 | P15: 1 | Q15: 3 | R15: 2 | S15: =SUM(E15:R15) -> 29
... A18: FF24 | B18: CAMPANIA | C18: VALLO DELLA LUCANIA | D18: CC | E18: 2 | F18: 2 | G18: 1 | H18: 0 | I18: 0 | J18: 0 | K18: 0 | L18: 1 | M18: 4 | N18: 0 | O18: 1 | P18: 0 | Q18: 1 | R18: 0 | S18: =SUM(E18:R18) -> 12
B19: TOTALE | E19: =SUBTOTAL(9,E4:E18) -> 115 | F19: =SUBTOTAL(9,F4:F18) -> 64 | G19: =SUBTOTAL(9,G4:G18) -> 16 | H19: =SUBTOTAL(9,H4:H18) -> 2 | I19: =SUBTOTAL(9,I4:I18) -> 8 | J19: =SUBTOTAL(9,J4:J18) -> 0 | K19: =SUBTOTAL(9,K4:K18) -> 6 | L19: =SUBTOTAL(9,L4:L18) -> 36 | ... S19: =SUBTOTAL(9,S4:S18) -> 418

Sheet Tabella E Emilia Romagna
B1: Tabella E
B2: Ripartizione territoriale della dotazione organica prevista dalla tabella E del D.P.C.M. 15 giugno 2015, n. 84.
B3: Struttura | C3: Sede | D3: Tipologia | E3: Funzionario della professionalità giuridico-pedagogica | F3: Funzionario contabile | G3: Funzionario dell'organizzazione e delle relazioni | H3: Funzionario informatico | I3: Funzionario tecnico | J3: Funzionario linguistico | K3: Funzionario della professionalità di mediazione culturale | L3: Operatore | M3: Assistente amministrativo | N3: Assistente linguistico | O3: Contabile | P3: Assistente informatico | Q3: Assistente tecnico | R3: Ausiliario | S3: TOTALI
A4: PD08 | B4: EMILIA ROMAGNA E MARCHE | C4: ANCONA | D4: DISTACCAMENTO | E4: 1 | F4: 1 | G4: 1 | H4: 0 | I4: 0 | J4: 0 | K4: 0 | L4: 1 | M4: 2 | N4: 0 | O4: 1 | P4: 0 | Q4: 1 | R4: 0 | S4: =SUM(E4:R4) -> 8
A5: EE04 | B5: EMILIA ROMAGNA E MARCHE | C5: ANCONA MONTACUTO E ANCONA BARCAGLIONE | D5: CC e CR | E5: 8 | F5: 7 | G5: 1 | H5: 0 | I5: 0 | J5: 0 | K5: 1 | L5: 2 | M5: 5 | N5: 0 | O5: 2 | P5: 1 | Q5: 2 | R5: 0 | S5: =SUM(E5:R5) -> 29
A6: EE27 | B6: EMILIA ROMAGNA E MARCHE | C6: ASCOLI PICENO | D6: CC | E6: 3 | F6: 3 | G6: 1 | H6: 0 | I6: 0 | J6: 0 | K6: 0 | L6: 1 | M6: 4 | N6: 0 | O6: 1 | P6: 1 | Q6: 1 | R6: 0 | S6: =SUM(E6:R6) -> 15
A7: PR21 | B7: EMILIA ROMAGNA E MARCHE | C7: BOLOGNA | D7: PRAP | E7: 1 | F7: 3 | G7: 1 | H7: 2 | I7: 7 | J7: 0 | K7: 1 | L7: 3 | M7: 5 | N7: 0 | O7: 1 | P7: 2 | Q7: 7 | R7: 1 | S7: =SUM(E7:R7) -> 34
A8: BB03 | B8: EMILIA ROMAGNA E MARCHE | C8: BOLOGNA "DOZZA" | D8: CC | E8: 10 | F8: 5 | G8: 1 | H8: 0 | I8: 0 | J8: 0 | K8: 1 | L8: 4 | M8: 4 | N8: 0 | O8: 1 | P8: 2 | Q8: 3 | R8: 1 | S8: =SUM(E8:R8) -> 32
A9: BB07 | B9: EMILIA ROMAGNA E MARCHE | C9: CASTELFRANCO EMILIA | D9: CR | E9: 3 | F9: 3 | G9: 0 | H9: 0 | I9: 0 | J9: 0 | K9: 0 | L9: 1 | M9: 4 | N9: 0 | O9: 1 | P9: 1 | Q9: 2 | R9: 0 | S9: =SUM(E9:R9) -> 15
A10: EE16 | B10: EMILIA ROMAGNA E MARCHE | C10: FERMO | D10: CR | E10: 3 | F10: 3 | G10: 1 | H10: 0 | I10: 0 | J10: 0 | K10: 0 | L10: 1 | M10: 4 | N10: 0 | O10: 0 | P10: 1 | Q10: 1 | R10: 0 | S10: =SUM(E10:R10) -> 14
A11: BB08 | B11: EMILIA ROMAGNA E MARCHE | C11: FERRARA | D11: CC | E11: 5 | F11: 3 | G11: 1 | H11: 0 | I11: 0 | J11: 0 | K11: 0 | L11: 2 | M11: 4 | N11: 0 | O11: 0 | P11: 1 | Q11: 1 | R11: 1 | S11: =SUM(E11:R11) -> 18
A12: BB09 | B12: EMILIA ROMAGNA E MARCHE | C12: FORLI' | D12: CC | E12: 4 | F12: 3 | G12: 1 | H12: 0 | I12: 0 | J12: 0 | K12: 0 | L12: 2 | M12: 4 | N12: 0 | O12: 1 | P12: 1 | Q12: 1 | R12: 0 | S12: =SUM(E12:R12) -> 17
A13: EE14 | B13: EMILIA ROMAGNA E MARCHE | C13: FOSSOMBRONE | D13: CR | E13: 6 | F13: 4 | G13: 1 | H13: 0 | I13: 0 | J13: 0 | K13: 0 | L13: 1 | M13: 4 | N13: 0 | O13: 0 | P13: 1 | Q13: 1 | R13: 0 | S13: =SUM(E13:R13) -> 18
A14: BB10 | B14: EMILIA ROMAGNA E MARCHE | C14: MODENA | D14: CC | E14: 6 | F14: 3 | G14: 1 | H14: 0 | I14: 0 | J14: 0 | K14: 1 | L14: 2 | M14: 6 | N14: 0 | O14: 2 | P14: 1 | Q14: 2 | R14: 1 | S14: =SUM(E14:R14) -> 25
A15: BB11 | B15: EMILIA ROMAGNA E MARCHE | C15: PARMA | D15: CC e CR | E15: 12 | F15: 6 | G15: 1 | H15: 0 | I15: 0 | J15: 0 | K15: 1 | L15: 3 | M15: 6 | N15: 0 | O15: 2 | P15: 1 | Q15: 3 | R15: 1 | S15: =SUM(E15:R15) -> 36
... A20: BB15 | B20: EMILIA ROMAGNA E MARCHE | C20: RIMINI | D20: CC | E20: 3 | F20: 3 | G20: 1 | H20: 0 | I20: 0 | J20: 0 | K20: 0 | L20: 1 | M20: 5 | N20: 0 | O20: 1 | P20: 1 | Q20: 1 | R20: 0 | S20: =SUM(E20:R20) -> 16
B21: TOTALE | E21: =SUBTOTAL(9,E4:E20) -> 83 | F21: =SUBTOTAL(9,F4:F20) -> 59 | G21: =SUBTOTAL(9,G4:G20) -> 16 | H21: =SUBTOTAL(9,H4:H20) -> 2 | I21: =SUBTOTAL(9,I4:I20) -> 7 | J21: =SUBTOTAL(9,J4:J20) -> 0 | K21: =SUBTOTAL(9,K4:K20) -> 6 | L21: =SUBTOTAL(9,L4:L20) -> 32 | ... S21: =SUBTOTAL(9,S4:S20) -> 351

Sheet Tabella F Lazio
B1: Tabella F
B2: Ripartizione territoriale della dotazione organica prevista dalla tabella E del D.P.C.M. 15 giugno 2015, n. 84.
B3: Struttura | C3: Sede | D3: Tipologia | E3: Funzionario della professionalità giuridico-pedagogica | F3: Funzionario contabile | G3: Funzionario dell'organizzazione e delle relazioni | H3: Funzionario informatico | I3: Funzionario tecnico | J3: Funzionario linguistico | K3: Funzionario della professionalità di mediazione culturale | L3: Operatore | M3: Assistente amministrativo | N3: Assistente linguistico | O3: Contabile | P3: Assistente informatico | Q3: Assistente tecnico | R3: Ausiliario | S3: TOTALI
A4: EE10 | B4: LAZIO, ABRUZZO E MOLISE | C4: AVEZZANO | D4: CC | E4: 2 | F4: 2 | G4: 1 | H4: 0 | I4: 0 | J4: 0 | K4: 0 | L4: 1 | M4: 3 | N4: 0 | O4: 1 | P4: 0 | Q4: 1 | R4: 0 | S4: =SUM(E4:R4) -> 11
A5: FF12 | B5: LAZIO, ABRUZZO E MOLISE | C5: CAMPOBASSO | D5: CC | E5: 3 | F5: 3 | G5: 1 | H5: 0 | I5: 0 | J5: 0 | K5: 0 | L5: 1 | M5: 2 | N5: 0 | O5: 1 | P5: 1 | Q5: 1 | R5: 0 | S5: =SUM(E5:R5) -> 13
A6: EE06 | B6: LAZIO, ABRUZZO E MOLISE | C6: CASSINO | D6: CC | E6: 3 | F6: 3 | G6: 1 | H6: 0 | I6: 0 | J6: 0 | K6: 0 | L6: 2 | M6: 4 | N6: 0 | O6: 2 | P6: 1 | Q6: 1 | R6: 0 | S6: =SUM(E6:R6) -> 17
A7: EE17 | B7: LAZIO, ABRUZZO E MOLISE | C7: CHIETI | D7: CC | E7: 3 | F7: 2 | G7: 1 | H7: 0 | I7: 0 | J7: 0 | K7: 0 | L7: 2 | M7: 4 | N7: 0 | O7: 1 | P7: 0 | Q7: 1 | R7: 0 | S7: =SUM(E7:R7) -> 14
A8: EE32 | B8: LAZIO, ABRUZZO E MOLISE | C8: CIVITAVECCHIA E CIVITAVECCHIA "G. PASSERINI" | D8: CC e CR | E8: 8 | F8: 8 | G8: 1 | H8: 0 | I8: 0 | J8: 0 | K8: 1 | L8: 3 | M8: 5 | N8: 0 | O8: 2 | P8: 1 | Q8: 2 | R8: 1 | S8: =SUM(E8:R8) -> 32
A9: EE07 | B9: LAZIO, ABRUZZO E MOLISE | C9: FROSINONE "G. PAGLIEI" | D9: CC | E9: 8 | F9: 4 | G9: 1 | H9: 0 | I9: 0 | J9: 0 | K9: 0 | L9: 3 | M9: 5 | N9: 0 | O9: 3 | P9: 1 | Q9: 2 | R9: 0 | S9: =SUM(E9:R9) -> 27
A10: FF19 | B10: LAZIO, ABRUZZO E MOLISE | C10: ISERNIA | D10: CC | E10: 2 | F10: 1 | G10: 0 | H10: 0 | I10: 0 | J10: 0 | K10: 0 | L10: 1 | M10: 3 | N10: 0 | O10: 1 | P10: 0 | Q10: 1 | R10: 0 | S10: =SUM(E10:R10) -> 9
A11: EE18 | B11: LAZIO, ABRUZZO E MOLISE | C11: LANCIANO | D11: CC | E11: 4 | F11: 3 | G11: 1 | H11: 0 | I11: 0 | J11: 0 | K11: 0 | L11: 2 | M11: 4 | N11: 0 | O11: 1 | P11: 1 | Q11: 1 | R11: 0 | S11: =SUM(E11:R11) -> 17
A12: EE11 | B12: LAZIO, ABRUZZO E MOLISE | C12: L'AQUILA | D12: CC | E12: 3 | F12: 3 | G12: 1 | H12: 0 | I12: 0 | J12: 0 | K12: 0 | L12: 2 | M12: 4 | N12: 0 | O12: 1 | P12: 1 | Q12: 2 | R12: 1 | S12: =SUM(E12:R12) -> 18
A13: FF25 | B13: LAZIO, ABRUZZO E MOLISE | C13: LARINO | D13: CC | E13: 3 | F13: 3 | G13: 1 | H13: 0 | I13: 0 | J13: 0 | K13: 0 | L13: 1 | M13: 4 | N13: 0 | O13: 1 | P13: 1 | Q13: 1 | R13: 0 | S13: =SUM(E13:R13) -> 15
A14: EE23 | B14: LAZIO, ABRUZZO E MOLISE | C14: LATINA | D14: CC | E14: 4 | F14: 3 | G14: 1 | H14: 0 | I14: 0 | J14: 0 | K14: 0 | L14: 2 | M14: 3 | N14: 0 | O14: 1 | P14: 1 | Q14: 1 | R14: 0 | S14: =SUM(E14:R14) -> 16
A15: EE22 | B15: LAZIO, ABRUZZO E MOLISE | C15: PALIANO | D15: CR | E15: 2 | F15: 2 | G15: 1 | H15: 0 | I15: 0 | J15: 0 | K15: 0 | L15: 1 | M15: 3 | N15: 0 | O15: 1 | P15: 1 | Q15: 2 | R15: 0 | S15: =SUM(E15:R15) -> 13
... A29: EE09 | B29: LAZIO, ABRUZZO E MOLISE | C29: VITERBO N.C. | D29: CC | E29: 8 | F29: 4 | G29: 1 | H29: 0 | I29: 0 | J29: 0 | K29: 1 | L29: 3 | M29: 7 | N29: 0 | O29: 2 | P29: 1 | Q29: 3 | R29: 1 | S29: =SUM(E29:R29) -> 31
B30: TOTALE | E30: =SUBTOTAL(9,E4:E29) -> 140 | F30: =SUBTOTAL(9,F4:F29) -> 91 | G30: =SUBTOTAL(9,G4:G29) -> 26 | H30: =SUBTOTAL(9,H4:H29) -> 2 | I30: =SUBTOTAL(9,I4:I29) -> 9 | J30: =SUBTOTAL(9,J4:J29) -> 0 | K30: =SUBTOTAL(9,K4:K29) -> 6 | L30: =SUBTOTAL(9,L4:L29) -> 55 | ... S30: =SUBTOTAL(9,S4:S29) -> 583

Sheet Tabella G Lombardia
B1: Tabella G
B2: Ripartizione territoriale della dotazione organica prevista dalla tabella E del D.P.C.M. 15 giugno 2015, n. 84.
B3: Struttura | C3: Sede | D3: Tipologia | E3: Funzionario della professionalità giuridico-pedagogica | F3: Funzionario contabile | G3: Funzionario dell'organizzazione e delle relazioni | H3: Funzionario informatico | I3: Funzionario tecnico | J3: Funzionario linguistico | K3: Funzionario della professionalità di mediazione culturale | L3: Operatore | M3: Assistente amministrativo | N3: Assistente linguistico | O3: Contabile | P3: Assistente informatico | Q3: Assistente tecnico | R3: Ausiliario | S3: TOTALI
A4: BB06 | B4: LOMBARDIA | C4: BERGAMO | D4: CC | E4: 6 | F4: 3 | G4: 1 | H4: 0 | I4: 0 | J4: 0 | K4: 0 | L4: 2 | M4: 5 | N4: 0 | O4: 1 | P4: 1 | Q4: 2 | R4: 0 | S4: =SUM(E4:R4) -> 21
A5: BB02 | B5: LOMBARDIA | C5: BRESCIA CANTON MONBELLO E BRESCIA VERZIANO | D5: CC e CR | E5: 8 | F5: 7 | G5: 1 | H5: 0 | I5: 0 | J5: 0 | K5: 1 | L5: 2 | M5: 4 | N5: 0 | O5: 2 | P5: 1 | Q5: 2 | R5: 0 | S5: =SUM(E5:R5) -> 28
A6: BB16 | B6: LOMBARDIA | C6: BUSTO ARSIZIO | D6: CC | E6: 5 | F6: 3 | G6: 1 | H6: 0 | I6: 0 | J6: 0 | K6: 0 | L6: 3 | M6: 4 | N6: 0 | O6: 0 | P6: 1 | Q6: 2 | R6: 0 | S6: =SUM(E6:R6) -> 19
A7: BB17 | B7: LOMBARDIA | C7: COMO | D7: CC | E7: 6 | F7: 3 | G7: 1 | H7: 0 | I7: 0 | J7: 0 | K7: 1 | L7: 2 | M7: 5 | N7: 0 | O7: 1 | P7: 1 | Q7: 2 | R7: 0 | S7: =SUM(E7:R7) -> 22
A8: BB18 | B8: LOMBARDIA | C8: CREMONA | D8: CC | E8: 6 | F8: 3 | G8: 1 | H8: 0 | I8: 0 | J8: 0 | K8: 1 | L8: 3 | M8: 4 | N8: 0 | O8: 1 | P8: 1 | Q8: 2 | R8: 0 | S8: =SUM(E8:R8) -> 22
A9: BB19 | B9: LOMBARDIA | C9: LECCO | D9: CC | E9: 2 | F9: 1 | G9: 1 | H9: 0 | I9: 0 | J9: 0 | K9: 0 | L9: 2 | M9: 4 | N9: 0 | O9: 1 | P9: 1 | Q9: 1 | R9: 0 | S9: =SUM(E9:R9) -> 13
A10: BB20 | B10: LOMBARDIA | C10: LODI | D10: CC | E10: 2 | F10: 1 | G10: 1 | H10: 0 | I10: 0 | J10: 0 | K10: 0 | L10: 2 | M10: 4 | N10: 0 | O10: 1 | P10: 0 | Q10: 1 | R10: 0 | S10: =SUM(E10:R10) -> 12
A11: BB21 | B11: LOMBARDIA | C11: MANTOVA | D11: CC | E11: 3 | F11: 3 | G11: 1 | H11: 0 | I11: 0 | J11: 0 | K11: 0 | L11: 2 | M11: 5 | N11: 0 | O11: 1 | P11: 1 | Q11: 1 | R11: 0 | S11: =SUM(E11:R11) -> 17
A12: PR03 | B12: LOMBARDIA | C12: MILANO | D12: PRAP | E12: 3 | F12: 5 | G12: 2 | H12: 2 | I12: 8 | J12: 0 | K12: 0 | L12: 4 | M12: 7 | N12: 0 | O12: 1 | P12: 2 | Q12: 8 | R12: 1 | S12: =SUM(E12:R12) -> 43
A13: BB39 | B13: LOMBARDIA | C13: MILANO "OPERA" | D13: CR | E13: 22 | F13: 8 | G13: 1 | H13: 0 | I13: 0 | J13: 0 | K13: 0 | L13: 4 | M13: 6 | N13: 0 | O13: 1 | P13: 2 | Q13: 4 | R13: 1 | S13: =SUM(E13:R13) -> 49
A14: BB01 | B14: LOMBARDIA | C14: MILANO "SAN VITTORE" | D14: CC | E14: 14 | F14: 8 | G14: 1 | H14: 0 | I14: 0 | J14: 0 | K14: 1 | L14: 4 | M14: 5 | N14: 0 | O14: 2 | P14: 2 | Q14: 4 | R14: 1 | S14: =SUM(E14:R14) -> 42
A15: BB50 | B15: LOMBARDIA | C15: MILANO BOLLATE | D15: CR | E15: 22 | F15: 8 | G15: 1 | H15: 0 | I15: 0 | J15: 0 | K15: 0 | L15: 5 | M15: 6 | N15: 0 | O15: 2 | P15: 2 | Q15: 5 | R15: 1 | S15: =SUM(E15:R15) -> 52
... A21: BB37 | B21: LOMBARDIA | C21: VOGHERA N.C. | D21: CC | E21: 5 | F21: 2 | G21: 1 | H21: 0 | I21: 0 | J21: 0 | K21: 0 | L21: 3 | M21: 5 | N21: 0 | O21: 1 | P21: 1 | Q21: 2 | R21: 0 | S21: =SUM(E21:R21) -> 20
B22: TOTALE | E22: =SUBTOTAL(9,E4:E21) -> 130 | F22: =SUBTOTAL(9,F4:F21) -> 71 | G22: =SUBTOTAL(9,G4:G21) -> 19 | H22: =SUBTOTAL(9,H4:H21) -> 2 | I22: =SUBTOTAL(9,I4:I21) -> 8 | J22: =SUBTOTAL(9,J4:J21) -> 0 | K22: =SUBTOTAL(9,K4:K21) -> 6 | L22: =SUBTOTAL(9,L4:L21) -> 47 | ... S22: =SUBTOTAL(9,S4:S21) -> 454

Sheet Tabella H Piemonte
B1: Tabella H
B2: Ripartizione territoriale della dotazione organica prevista dalla tabella E del D.P.C.M. 15 giugno 2015, n. 84.
B3: Struttura | C3: Sede | D3: Tipologia | E3: Funzionario della professionalità giuridico-pedagogica | F3: Funzionario contabile | G3: Funzionario dell'organizzazione e delle relazioni | H3: Funzionario informatico | I3: Funzionario tecnico | J3: Funzionario linguistico | K3: Funzionario della professionalità di mediazione culturale | L3: Operatore | M3: Assistente amministrativo | N3: Assistente linguistico | O3: Contabile | P3: Assistente informatico | Q3: Assistente tecnico | R3: Ausiliario | S3: TOTALI
A4: AA26 | B4: PIEMONTE, VALLE D'AOSTA E LIGURIA | C4: ALBA "G. MONTALTO" | D4: CR | E4: 3 | F4: 3 | G4: 0 | H4: 0 | I4: 0 | J4: 0 | K4: 0 | L4: 1 | M4: 4 | N4: 0 | O4: 0 | P4: 1 | Q4: 1 | R4: 0 | S4: =SUM(E4:R4) -> 13
A5: AA48 | B5: PIEMONTE, VALLE D'AOSTA E LIGURIA | C5: ALESSANDRIA "CANTIELLO E GAETA" E ALESSANDRIA SAN MICHELE | D5: CC e CR | E5: 10 | F5: 7 | G5: 1 | H5: 0 | I5: 0 | J5: 0 | K5: 1 | L5: 3 | M5: 5 | N5: 0 | O5: 1 | P5: 1 | Q5: 2 | R5: 0 | S5: =SUM(E5:R5) -> 31
A6: AA11 | B6: PIEMONTE, VALLE D'AOSTA E LIGURIA | C6: AOSTA BRISSOGNE | D6: CC | E6: 3 | F6: 2 | G6: 1 | H6: 0 | I6: 0 | J6: 0 | K6: 0 | L6: 1 | M6: 4 | N6: 0 | O6: 1 | P6: 1 | Q6: 1 | R6: 0 | S6: =SUM(E6:R6) -> 14
A7: AA10 | B7: PIEMONTE, VALLE D'AOSTA E LIGURIA | C7: ASTI | D7: CR | E7: 7 | F7: 3 | G7: 1 | H7: 0 | I7: 0 | J7: 0 | K7: 0 | L7: 2 | M7: 5 | N7: 0 | O7: 1 | P7: 1 | Q7: 1 | R7: 0 | S7: =SUM(E7:R7) -> 21
A8: AA12 | B8: PIEMONTE, VALLE D'AOSTA E LIGURIA | C8: BIELLA | D8: CC | E8: 8 | F8: 3 | G8: 1 | H8: 0 | I8: 0 | J8: 0 | K8: 1 | L8: 3 | M8: 4 | N8: 0 | O8: 2 | P8: 1 | Q8: 1 | R8: 1 | S8: =SUM(E8:R8) -> 25
A9: AA21 | B9: PIEMONTE, VALLE D'AOSTA E LIGURIA | C9: CHIAVARI | D9: CR | E9: 2 | F9: 2 | G9: 0 | H9: 0 | I9: 0 | J9: 0 | K9: 0 | L9: 1 | M9: 4 | N9: 0 | O9: 1 | P9: 1 | Q9: 1 | R9: 0 | S9: =SUM(E9:R9) -> 12
A10: AA20 | B10: PIEMONTE, VALLE D'AOSTA E LIGURIA | C10: CUNEO | D10: CC | E10: 5 | F10: 4 | G10: 1 | H10: 0 | I10: 0 | J10: 0 | K10: 0 | L10: 2 | M10: 4 | N10: 0 | O10: 1 | P10: 1 | Q10: 2 | R10: 0 | S10: =SUM(E10:R10) -> 20
A11: AA05 | B11: PIEMONTE, VALLE D'AOSTA E LIGURIA | C11: FOSSANO | D11: CR | E11: 3 | F11: 3 | G11: 1 | H11: 0 | I11: 0 | J11: 0 | K11: 0 | L11: 1 | M11: 4 | N11: 0 | O11: 1 | P11: 1 | Q11: 1 | R11: 0 | S11: =SUM(E11:R11) -> 15
A12: PD02 | B12: PIEMONTE, VALLE D'AOSTA E LIGURIA | C12: GENOVA | D12: DISTACCAMENTO | E12: 1 | F12: 1 | G12: 1 | H12: 0 | I12: 0 | J12: 0 | K12: 0 | L12: 0 | M12: 2 | N12: 0 | O12: 1 | P12: 0 | Q12: 1 | R12: 0 | S12: =SUM(E12:R12) -> 7
A13: AA02 | B13: PIEMONTE, VALLE D'AOSTA E LIGURIA | C13: GENOVA MARASSI | D13: CC | E13: 10 | F13: 5 | G13: 1 | H13: 0 | I13: 0 | J13: 0 | K13: 1 | L13: 3 | M13: 5 | N13: 0 | O13: 2 | P13: 2 | Q13: 3 | R13: 1 | S13: =SUM(E13:R13) -> 33
A14: AA45 | B14: PIEMONTE, VALLE D'AOSTA E LIGURIA | C14: GENOVA PONTEDECIMO | D14: CC | E14: 3 | F14: 3 | G14: 1 | H14: 0 | I14: 0 | J14: 0 | K14: 0 | L14: 1 | M14: 4 | N14: 0 | O14: 1 | P14: 1 | Q14: 1 | R14: 0 | S14: =SUM(E14:R14) -> 15
A15: AA06 | B15: PIEMONTE, VALLE D'AOSTA E LIGURIA | C15: IMPERIA | D15: CC | E15: 2 | F15: 2 | G15: 0 | H15: 0 | I15: 0 | J15: 0 | K15: 0 | L15: 2 | M15: 4 | N15: 0 | O15: 0 | P15: 1 | Q15: 1 | R15: 0 | S15: =SUM(E15:R15) -> 12
... A24: AA13 | B24: PIEMONTE, VALLE D'AOSTA E LIGURIA | C24: VERCELLI | D24: CC | E24: 4 | F24: 3 | G24: 1 | H24: 0 | I24: 0 | J24: 0 | K24: 0 | L24: 2 | M24: 4 | N24: 0 | O24: 1 | P24: 1 | Q24: 1 | R24: 0 | S24: =SUM(E24:R24) -> 17
B25: TOTALE | E25: =SUBTOTAL(9,E4:E24) -> 105 | F25: =SUBTOTAL(9,F4:F24) -> 70 | G25: =SUBTOTAL(9,G4:G24) -> 18 | H25: =SUBTOTAL(9,H4:H24) -> 2 | I25: =SUBTOTAL(9,I4:I24) -> 8 | J25: =SUBTOTAL(9,J4:J24) -> 0 | K25: =SUBTOTAL(9,K4:K24) -> 6 | L25: =SUBTOTAL(9,L4:L24) -> 40 | ... S25: =SUBTOTAL(9,S4:S24) -> 429

Sheet Tabella I Puglia
B1: Tabella I
B2: Ripartizione territoriale della dotazione organica prevista dalla tabella E del D.P.C.M. 15 giugno 2015, n. 84.
B3: Struttura | C3: Sede | D3: Tipologia | E3: Funzionario della professionalità giuridico-pedagogica | F3: Funzionario contabile | G3: Funzionario dell'organizzazione e delle relazioni | H3: Funzionario informatico | I3: Funzionario tecnico | J3: Funzionario linguistico | K3: Funzionario della professionalità di mediazione culturale | L3: Operatore | M3: Assistente amministrativo | N3: Assistente linguistico | O3: Contabile | P3: Assistente informatico | Q3: Assistente tecnico | R3: Ausiliario | S3: TOTALI
A4: PR22 | B4: PUGLIA E BASILICATA | C4: BARI | D4: PRAP | E4: 2 | F4: 4 | G4: 1 | H4: 2 | I4: 6 | J4: 0 | K4: 1 | L4: 3 | M4: 5 | N4: 0 | O4: 1 | P4: 2 | Q4: 6 | R4: 1 | S4: =SUM(E4:R4) -> 34
A5: FF05 | B5: PUGLIA E BASILICATA | C5: BARI "FRANCESCO RUCCI" | D5: CC | E5: 5 | F5: 3 | G5: 1 | H5: 0 | I5: 0 | J5: 0 | K5: 1 | L5: 3 | M5: 5 | N5: 0 | O5: 1 | P5: 1 | Q5: 3 | R5: 1 | S5: =SUM(E5:R5) -> 24
A6: FF06 | B6: PUGLIA E BASILICATA | C6: BRINDISI | D6: CC | E6: 5 | F6: 2 | G6: 1 | H6: 0 | I6: 0 | J6: 0 | K6: 0 | L6: 2 | M6: 4 | N6: 0 | O6: 1 | P6: 1 | Q6: 1 | R6: 0 | S6: =SUM(E6:R6) -> 17
A7: FF13 | B7: PUGLIA E BASILICATA | C7: FOGGIA | D7: CC | E7: 7 | F7: 4 | G7: 1 | H7: 0 | I7: 0 | J7: 0 | K7: 1 | L7: 3 | M7: 5 | N7: 0 | O7: 2 | P7: 1 | Q7: 2 | R7: 1 | S7: =SUM(E7:R7) -> 27
A8: FF34 | B8: PUGLIA E BASILICATA | C8: LECCE N.C. | D8: CC | E8: 13 | F8: 6 | G8: 1 | H8: 0 | I8: 0 | J8: 0 | K8: 1 | L8: 4 | M8: 8 | N8: 0 | O8: 1 | P8: 1 | Q8: 4 | R8: 2 | S8: =SUM(E8:R8) -> 41
A9: FF14 | B9: PUGLIA E BASILICATA | C9: LUCERA | D9: CC | E9: 3 | F9: 3 | G9: 1 | H9: 0 | I9: 0 | J9: 0 | K9: 0 | L9: 2 | M9: 4 | N9: 0 | O9: 1 | P9: 1 | Q9: 1 | R9: 0 | S9: =SUM(E9:R9) -> 16
A10: HH14 | B10: PUGLIA E BASILICATA | C10: MATERA | D10: CC | E10: 3 | F10: 2 | G10: 1 | H10: 0 | I10: 0 | J10: 0 | K10: 0 | L10: 1 | M10: 4 | N10: 0 | O10: 1 | P10: 1 | Q10: 1 | R10: 0 | S10: =SUM(E10:R10) -> 14
A11: FM04 | B11: PUGLIA E BASILICATA | C11: ALTAMURA sezione distaccata di MATERA | D11: CR | E11: 2 | F11: 1 | G11: 0 | H11: 0 | I11: 0 | J11: 0 | K11: 0 | L11: 1 | M11: 2 | N11: 0 | O11: 0 | P11: 0 | Q11: 1 | R11: 0 | S11: =SUM(E11:R11) -> 7
A12: HH15 | B12: PUGLIA E BASILICATA | C12: MELFI | D12: CC | E12: 3 | F12: 3 | G12: 1 | H12: 0 | I12: 0 | J12: 0 | K12: 0 | L12: 1 | M12: 3 | N12: 0 | O12: 2 | P12: 1 | Q12: 1 | R12: 0 | S12: =SUM(E12:R12) -> 15
A13: PD13 | B13: PUGLIA E BASILICATA | C13: POTENZA | D13: DISTACCAMENTO | E13: 0 | F13: 0 | G13: 1 | H13: 0 | I13: 0 | J13: 0 | K13: 0 | L13: 0 | M13: 2 | N13: 0 | O13: 1 | P13: 0 | Q13: 1 | R13: 1 | S13: =SUM(E13:R13) -> 6
A14: HH02 | B14: PUGLIA E BASILICATA | C14: POTENZA "A. SANTORO" | D14: CC | E14: 3 | F14: 3 | G14: 1 | H14: 0 | I14: 0 | J14: 0 | K14: 0 | L14: 2 | M14: 4 | N14: 0 | O14: 1 | P14: 1 | Q14: 1 | R14: 0 | S14: =SUM(E14:R14) -> 16
A15: FF23 | B15: PUGLIA E BASILICATA | C15: SAN SEVERO | D15: CC | E15: 2 | F15: 2 | G15: 0 | H15: 0 | I15: 0 | J15: 0 | K15: 0 | L15: 1 | M15: 2 | N15: 0 | O15: 1 | P15: 0 | Q15: 1 | R15: 0 | S15: =SUM(E15:R15) -> 9
... A18: FF16 | B18: PUGLIA E BASILICATA | C18: TURI | D18: CR | E18: 2 | F18: 2 | G18: 1 | H18: 0 | I18: 0 | J18: 0 | K18: 0 | L18: 1 | M18: 4 | N18: 0 | O18: 1 | P18: 1 | Q18: 1 | R18: 0 | S18: =SUM(E18:R18) -> 13
B19: TOTALE | E19: =SUBTOTAL(9,E4:E18) -> 64 | F19: =SUBTOTAL(9,F4:F18) -> 44 | G19: =SUBTOTAL(9,G4:G18) -> 13 | H19: =SUBTOTAL(9,H4:H18) -> 2 | I19: =SUBTOTAL(9,I4:I18) -> 6 | J19: =SUBTOTAL(9,J4:J18) -> 0 | K19: =SUBTOTAL(9,K4:K18) -> 6 | L19: =SUBTOTAL(9,L4:L18) -> 29 | ... S19: =SUBTOTAL(9,S4:S18) -> 292

Sheet Tabella L Sardegna
B1: Tabella L
B2: Ripartizione territoriale della dotazione organica prevista dalla tabella E del D.P.C.M. 15 giugno 2015, n. 84.
B3: Struttura | C3: Sede | D3: Tipologia | E3: Funzionario della professionalità giuridico-pedagogica | F3: Funzionario contabile | G3: Funzionario dell'organizzazione e delle relazioni | H3: Funzionario informatico | I3: Funzionario tecnico | J3: Funzionario linguistico | K3: Funzionario della professionalità di mediazione culturale | L3: Operatore | M3: Assistente amministrativo | N3: Assistente linguistico | O3: Contabile | P3: Assistente informatico | Q3: Assistente tecnico | R3: Ausiliario | S3: TOTALI
A4: LL02 | B4: SARDEGNA | C4: ALGHERO "G. TOMASIELLO" | D4: CR | E4: 4 | F4: 3 | G4: 1 | H4: 0 | I4: 0 | J4: 0 | K4: 0 | L4: 1 | M4: 3 | N4: 0 | O4: 1 | P4: 1 | Q4: 1 | R4: 0 | S4: =SUM(E4:R4) -> 15
A5: PR17 | B5: SARDEGNA | C5: CAGLIARI | D5: PRAP | E5: 3 | F5: 4 | G5: 2 | H5: 2 | I5: 5 | J5: 0 | K5: 1 | L5: 2 | M5: 6 | N5: 0 | O5: 1 | P5: 2 | Q5: 5 | R5: 1 | S5: =SUM(E5:R5) -> 34
A6: LL01 | B6: SARDEGNA | C6: CAGLIARI "ETTORE SCALAS" | D6: CC | E6: 12 | F6: 5 | G6: 1 | H6: 0 | I6: 0 | J6: 0 | K6: 2 | L6: 3 | M6: 7 | N6: 0 | O6: 2 | P6: 2 | Q6: 3 | R6: 1 | S6: =SUM(E6:R6) -> 38
A7: LL04 | B7: SARDEGNA | C7: IS ARENAS ARBUS | D7: CR | E7: 5 | F7: 4 | G7: 1 | H7: 0 | I7: 1 | J7: 0 | K7: 0 | L7: 1 | M7: 4 | N7: 0 | O7: 0 | P7: 0 | Q7: 3 | R7: 0 | S7: =SUM(E7:R7) -> 19
A8: LL05 | B8: SARDEGNA | C8: ISILI | D8: CR | E8: 4 | F8: 4 | G8: 1 | H8: 0 | I8: 1 | J8: 0 | K8: 0 | L8: 1 | M8: 4 | N8: 0 | O8: 1 | P8: 0 | Q8: 3 | R8: 0 | S8: =SUM(E8:R8) -> 19
A9: LL06 | B9: SARDEGNA | C9: LANUSEI "S. DANIELE" | D9: CC | E9: 2 | F9: 1 | G9: 0 | H9: 0 | I9: 0 | J9: 0 | K9: 0 | L9: 1 | M9: 2 | N9: 0 | O9: 1 | P9: 0 | Q9: 1 | R9: 0 | S9: =SUM(E9:R9) -> 8
A10: LL07 | B10: SARDEGNA | C10: MAMONE-LODE' | D10: CR | E10: 6 | F10: 4 | G10: 1 | H10: 0 | I10: 1 | J10: 0 | K10: 1 | L10: 1 | M10: 3 | N10: 0 | O10: 2 | P10: 1 | Q10: 2 | R10: 1 | S10: =SUM(E10:R10) -> 23
A11: LL08 | B11: SARDEGNA | C11: NUORO | D11: CC | E11: 5 | F11: 4 | G11: 1 | H11: 0 | I11: 0 | J11: 0 | K11: 0 | L11: 1 | M11: 4 | N11: 0 | O11: 2 | P11: 1 | Q11: 2 | R11: 1 | S11: =SUM(E11:R11) -> 21
A12: LL09 | B12: SARDEGNA | C12: ORISTANO "S. SORO" | D12: CR | E12: 6 | F12: 3 | G12: 1 | H12: 0 | I12: 0 | J12: 0 | K12: 0 | L12: 2 | M12: 5 | N12: 0 | O12: 1 | P12: 1 | Q12: 2 | R12: 1 | S12: =SUM(E12:R12) -> 22
A13: LL10 | B13: SARDEGNA | C13: SASSARI | D13: CC | E13: 9 | F13: 4 | G13: 1 | H13: 0 | I13: 0 | J13: 0 | K13: 2 | L13: 3 | M13: 6 | N13: 0 | O13: 1 | P13: 1 | Q13: 3 | R13: 1 | S13: =SUM(E13:R13) -> 31
A14: LL11 | B14: SARDEGNA | C14: TEMPIO PAUSANIA "P. PITTALIS" | D14: CR | E14: 5 | F14: 3 | G14: 1 | H14: 0 | I14: 0 | J14: 0 | K14: 0 | L14: 1 | M14: 4 | N14: 0 | O14: 1 | P14: 1 | Q14: 1 | R14: 1 | S14: =SUM(E14:R14) -> 18
B15: TOTALE | E15: =SUBTOTAL(9,E4:E14) -> 61 | F15: =SUBTOTAL(9,F4:F14) -> 39 | G15: =SUBTOTAL(9,G4:G14) -> 11 | H15: =SUBTOTAL(9,H4:H14) -> 2 | I15: =SUBTOTAL(9,I4:I14) -> 8 | J15: =SUBTOTAL(9,J4:J14) -> 0 | K15: =SUBTOTAL(9,K4:K14) -> 6 | L15: =SUBTOTAL(9,L4:L14) -> 17 | ... S15: =SUBTOTAL(9,S4:S14) -> 248

Sheet Tabella M Sicilia
B1: Tabella M
B2: Ripartizione territoriale della dotazione organica prevista dalla tabella E del D.P.C.M. 15 giugno 2015, n. 84.
B3: Struttura | C3: Sede | D3: Tipologia | E3: Funzionario della professionalità giuridico-pedagogica | F3: Funzionario contabile | G3: Funzionario dell'organizzazione e delle relazioni | H3: Funzionario informatico | I3: Funzionario tecnico | J3: Funzionario linguistico | K3: Funzionario della professionalità di mediazione culturale | L3: Operatore | M3: Assistente amministrativo | N3: Assistente linguistico | O3: Contabile | P3: Assistente informatico | Q3: Assistente tecnico | R3: Ausiliario | S3: TOTALI
A4: KK19 | B4: SICILIA | C4: AGRIGENTO | D4: CC | E4: 5 | F4: 3 | G4: 1 | H4: 0 | I4: 0 | J4: 0 | K4: 1 | L4: 2 | M4: 5 | N4: 0 | O4: 1 | P4: 1 | Q4: 2 | R4: 1 | S4: =SUM(E4:R4) -> 22
A5: KK05 | B5: SICILIA | C5: AUGUSTA | D5: CR | E5: 9 | F5: 4 | G5: 1 | H5: 0 | I5: 0 | J5: 0 | K5: 0 | L5: 3 | M5: 5 | N5: 0 | O5: 1 | P5: 1 | Q5: 2 | R5: 1 | S5: =SUM(E5:R5) -> 27
A6: HH08 | B6: SICILIA | C6: BARCELLONA POZZO DI GOTTO | D6: CC | E6: 7 | F6: 4 | G6: 1 | H6: 0 | I6: 0 | J6: 0 | K6: 0 | L6: 3 | M6: 5 | N6: 0 | O6: 1 | P6: 1 | Q6: 2 | R6: 1 | S6: =SUM(E6:R6) -> 25
A7: KK14 | B7: SICILIA | C7: CALTAGIRONE | D7: CC | E7: 6 | F7: 3 | G7: 1 | H7: 0 | I7: 0 | J7: 0 | K7: 0 | L7: 3 | M7: 4 | N7: 0 | O7: 1 | P7: 1 | Q7: 2 | R7: 1 | S7: =SUM(E7:R7) -> 22
A8: KK09 | B8: SICILIA | C8: CALTANISSETTA | D8: CC | E8: 4 | F8: 3 | G8: 1 | H8: 0 | I8: 0 | J8: 0 | K8: 0 | L8: 2 | M8: 5 | N8: 0 | O8: 1 | P8: 1 | Q8: 1 | R8: 1 | S8: =SUM(E8:R8) -> 19
A9: KK29 | B9: SICILIA | C9: CASTELVETRANO | D9: CC | E9: 2 | F9: 2 | G9: 1 | H9: 0 | I9: 0 | J9: 0 | K9: 0 | L9: 1 | M9: 3 | N9: 0 | O9: 1 | P9: 0 | Q9: 1 | R9: 0 | S9: =SUM(E9:R9) -> 11
A10: KK24 | B10: SICILIA | C10: CATANIA BICOCCA | D10: CC | E10: 3 | F10: 3 | G10: 1 | H10: 0 | I10: 0 | J10: 0 | K10: 0 | L10: 2 | M10: 5 | N10: 0 | O10: 1 | P10: 1 | Q10: 1 | R10: 1 | S10: =SUM(E10:R10) -> 18
A11: KK02 | B11: SICILIA | C11: CATANIA PIAZZA LANZA | D11: CC | E11: 5 | F11: 3 | G11: 2 | H11: 0 | I11: 0 | J11: 0 | K11: 1 | L11: 2 | M11: 5 | N11: 0 | O11: 1 | P11: 1 | Q11: 2 | R11: 1 | S11: =SUM(E11:R11) -> 23
A12: KK10 | B12: SICILIA | C12: ENNA | D12: CC | E12: 3 | F12: 3 | G12: 1 | H12: 0 | I12: 0 | J12: 0 | K12: 0 | L12: 2 | M12: 4 | N12: 0 | O12: 1 | P12: 1 | Q12: 1 | R12: 1 | S12: =SUM(E12:R12) -> 17
A13: KK12 | B13: SICILIA | C13: FAVIGNANA "G. BARRACO" | D13: CR | E13: 3 | F13: 3 | G13: 1 | H13: 0 | I13: 0 | J13: 0 | K13: 0 | L13: 1 | M13: 3 | N13: 0 | O13: 1 | P13: 0 | Q13: 1 | R13: 0 | S13: =SUM(E13:R13) -> 13
A14: KK33 | B14: SICILIA | C14: GELA | D14: CC | E14: 2 | F14: 2 | G14: 1 | H14: 0 | I14: 0 | J14: 0 | K14: 0 | L14: 1 | M14: 3 | N14: 0 | O14: 0 | P14: 0 | Q14: 1 | R14: 0 | S14: =SUM(E14:R14) -> 10
A15: KK26 | B15: SICILIA | C15: GIARRE | D15: CC | E15: 2 | F15: 2 | G15: 1 | H15: 0 | I15: 0 | J15: 0 | K15: 0 | L15: 1 | M15: 3 | N15: 0 | O15: 1 | P15: 0 | Q15: 1 | R15: 0 | S15: =SUM(E15:R15) -> 11
... A27: KK03 | B27: SICILIA | C27: TRAPANI | D27: CC | E27: 7 | F27: 3 | G27: 1 | H27: 0 | I27: 0 | J27: 0 | K27: 0 | L27: 3 | M27: 4 | N27: 0 | O27: 1 | P27: 1 | Q27: 3 | R27: 1 | S27: =SUM(E27:R27) -> 24
B28: TOTALE | E28: =SUBTOTAL(9,E4:E27) -> 116 | F28: =SUBTOTAL(9,F4:F27) -> 78 | G28: =SUBTOTAL(9,G4:G27) -> 27 | H28: =SUBTOTAL(9,H4:H27) -> 2 | I28: =SUBTOTAL(9,I4:I27) -> 8 | J28: =SUBTOTAL(9,J4:J27) -> 0 | K28: =SUBTOTAL(9,K4:K27) -> 6 | L28: =SUBTOTAL(9,L4:L27) -> 49 | ... S28: =SUBTOTAL(9,S4:S27) -> 502

Sheet Tabella N Toscana
B1: Tabella N
B2: Ripartizione territoriale della dotazione organica prevista dalla tabella E del D.P.C.M. 15 giugno 2015, n. 84.
B3: Struttura | C3: Sede | D3: Tipologia | E3: Funzionario della professionalità giuridico-pedagogica | F3: Funzionario contabile | G3: Funzionario dell'organizzazione e delle relazioni | H3: Funzionario informatico | I3: Funzionario tecnico | J3: Funzionario linguistico | K3: Funzionario della professionalità di mediazione culturale | L3: Operatore | M3: Assistente amministrativo | N3: Assistente linguistico | O3: Contabile | P3: Assistente informatico | Q3: Assistente tecnico | R3: Ausiliario | S3: TOTALI
A4: DD05 | B4: TOSCANA E UMBRIA | C4: AREZZO | D4: CC | E4: 3 | F4: 3 | G4: 1 | H4: 0 | I4: 0 | J4: 0 | K4: 0 | L4: 1 | M4: 3 | N4: 0 | O4: 1 | P4: 1 | Q4: 1 | R4: 0 | S4: =SUM(E4:R4) -> 14
A5: PR19 | B5: TOSCANA E UMBRIA | C5: FIRENZE | D5: PRAP | E5: 1 | F5: 4 | G5: 1 | H5: 2 | I5: 7 | J5: 0 | K5: 1 | L5: 3 | M5: 6 | N5: 0 | O5: 0 | P5: 2 | Q5: 8 | R5: 1 | S5: =SUM(E5:R5) -> 36
A6: DD49 | B6: TOSCANA E UMBRIA | C6: FIRENZE "MARIO GOZZINI" | D6: CC | E6: 3 | F6: 2 | G6: 1 | H6: 0 | I6: 0 | J6: 0 | K6: 0 | L6: 1 | M6: 5 | N6: 0 | O6: 1 | P6: 1 | Q6: 1 | R6: 0 | S6: =SUM(E6:R6) -> 15
A7: DD27 | B7: TOSCANA E UMBRIA | C7: FIRENZE SOLLICCIANO | D7: CC | E7: 11 | F7: 4 | G7: 1 | H7: 0 | I7: 0 | J7: 0 | K7: 1 | L7: 3 | M7: 5 | N7: 0 | O7: 1 | P7: 2 | Q7: 2 | R7: 1 | S7: =SUM(E7:R7) -> 31
A8: DD20 | B8: TOSCANA E UMBRIA | C8: GROSSETO | D8: CC | E8: 1 | F8: 2 | G8: 1 | H8: 0 | I8: 0 | J8: 0 | K8: 0 | L8: 1 | M8: 4 | N8: 0 | O8: 1 | P8: 0 | Q8: 1 | R8: 0 | S8: =SUM(E8:R8) -> 11
A9: DD08 | B9: TOSCANA E UMBRIA | C9: LIVORNO C.C. - GORGONA C.R. Sede Dist.ta Custodia Attenuata C.C. Livorno | D9: CC | E9: 9 | F9: 5 | G9: 2 | H9: 0 | I9: 0 | J9: 0 | K9: 0 | L9: 3 | M9: 6 | N9: 0 | O9: 2 | P9: 1 | Q9: 5 | R9: 0 | S9: =SUM(E9:R9) -> 33
A10: DD09 | B10: TOSCANA E UMBRIA | C10: LUCCA | D10: CC | E10: 2 | F10: 2 | G10: 1 | H10: 0 | I10: 0 | J10: 0 | K10: 0 | L10: 1 | M10: 4 | N10: 0 | O10: 1 | P10: 1 | Q10: 1 | R10: 0 | S10: =SUM(E10:R10) -> 13
A11: AA08 | B11: TOSCANA E UMBRIA | C11: MASSA | D11: CR | E11: 5 | F11: 4 | G11: 1 | H11: 0 | I11: 0 | J11: 0 | K11: 0 | L11: 1 | M11: 4 | N11: 0 | O11: 1 | P11: 1 | Q11: 6 | R11: 0 | S11: =SUM(E11:R11) -> 23
A12: DD22 | B12: TOSCANA E UMBRIA | C12: MASSA MARITTIMA | D12: CC | E12: 2 | F12: 2 | G12: 1 | H12: 0 | I12: 0 | J12: 0 | K12: 0 | L12: 1 | M12: 4 | N12: 0 | O12: 1 | P12: 1 | Q12: 1 | R12: 0 | S12: =SUM(E12:R12) -> 13
A13: DD14 | B13: TOSCANA E UMBRIA | C13: ORVIETO | D13: CR | E13: 5 | F13: 3 | G13: 1 | H13: 0 | I13: 0 | J13: 0 | K13: 0 | L13: 1 | M13: 4 | N13: 0 | O13: 2 | P13: 1 | Q13: 3 | R13: 0 | S13: =SUM(E13:R13) -> 20
A14: DD55 | B14: TOSCANA E UMBRIA | C14: PERUGIA CAPANNE | D14: CC | E14: 6 | F14: 4 | G14: 1 | H14: 0 | I14: 0 | J14: 0 | K14: 1 | L14: 2 | M14: 6 | N14: 0 | O14: 1 | P14: 1 | Q14: 2 | R14: 1 | S14: =SUM(E14:R14) -> 25
A15: DD02 | B15: TOSCANA E UMBRIA | C15: PISA | D15: CC | E15: 4 | F15: 3 | G15: 1 | H15: 0 | I15: 0 | J15: 0 | K15: 1 | L15: 2 | M15: 5 | N15: 0 | O15: 1 | P15: 1 | Q15: 1 | R15: 0 | S15: =SUM(E15:R15) -> 19
... A23: DD13 | B23: TOSCANA E UMBRIA | C23: VOLTERRA | D23: CR | E23: 5 | F23: 3 | G23: 1 | H23: 0 | I23: 0 | J23: 0 | K23: 0 | L23: 2 | M23: 4 | N23: 0 | O23: 1 | P23: 1 | Q23: 1 | R23: 0 | S23: =SUM(E23:R23) -> 18
B24: TOTALE | E24: =SUBTOTAL(9,E4:E23) -> 101 | F24: =SUBTOTAL(9,F4:F23) -> 68 | G24: =SUBTOTAL(9,G4:G23) -> 21 | H24: =SUBTOTAL(9,H4:H23) -> 2 | I24: =SUBTOTAL(9,I4:I23) -> 7 | J24: =SUBTOTAL(9,J4:J23) -> 0 | K24: =SUBTOTAL(9,K4:K23) -> 6 | L24: =SUBTOTAL(9,L4:L23) -> 36 | ... S24: =SUBTOTAL(9,S4:S23) -> 426

Sheet Tabella O Triveneto
B1: Tabella O
B2: Ripartizione territoriale della dotazione organica prevista dalla tabella E del D.P.C.M. 15 giugno 2015, n. 84.
B3: Struttura | C3: Sede | D3: Tipologia | E3: Funzionario della professionalità giuridico-pedagogica | F3: Funzionario contabile | G3: Funzionario dell'organizzazione e delle relazioni | H3: Funzionario informatico | I3: Funzionario tecnico | J3: Funzionario linguistico | K3: Funzionario della professionalità di mediazione culturale | L3: Operatore | M3: Assistente amministrativo | N3: Assistente linguistico | O3: Contabile | P3: Assistente informatico | Q3: Assistente tecnico | R3: Ausiliario | S3: TOTALI
A4: CC05 | B4: VENETO, FRIULI VENEZIA GIULIA E TRENTINO ALTO ADIGE | C4: BELLUNO | D4: CC | E4: 2 | F4: 2 | G4: 1 | H4: 0 | I4: 0 | J4: 0 | K4: 0 | L4: 1 | M4: 3 | N4: 0 | O4: 2 | P4: 1 | Q4: 1 | R4: 0 | S4: =SUM(E4:R4) -> 13
A5: CC03 | B5: VENETO, FRIULI VENEZIA GIULIA E TRENTINO ALTO ADIGE | C5: BOLZANO | D5: CC | E5: 4 | F5: 2 | G5: 1 | H5: 0 | I5: 0 | J5: 1 | K5: 1 | L5: 1 | M5: 4 | N5: 1 | O5: 2 | P5: 1 | Q5: 1 | R5: 0 | S5: =SUM(E5:R5) -> 19
A6: CC14 | B6: VENETO, FRIULI VENEZIA GIULIA E TRENTINO ALTO ADIGE | C6: GORIZIA | D6: CC | E6: 2 | F6: 2 | G6: 1 | H6: 0 | I6: 0 | J6: 0 | K6: 0 | L6: 1 | M6: 3 | N6: 0 | O6: 0 | P6: 1 | Q6: 1 | R6: 0 | S6: =SUM(E6:R6) -> 11
A7: PR05 | B7: VENETO, FRIULI VENEZIA GIULIA E TRENTINO ALTO ADIGE | C7: PADOVA | D7: PRAP | E7: 2 | F7: 4 | G7: 1 | H7: 2 | I7: 6 | J7: 0 | K7: 1 | L7: 3 | M7: 6 | N7: 0 | O7: 1 | P7: 2 | Q7: 6 | R7: 1 | S7: =SUM(E7:R7) -> 35
A8: CC18 | B8: VENETO, FRIULI VENEZIA GIULIA E TRENTINO ALTO ADIGE | C8: PADOVA | D8: CC | E8: 3 | F8: 3 | G8: 1 | H8: 0 | I8: 0 | J8: 0 | K8: 1 | L8: 2 | M8: 5 | N8: 0 | O8: 1 | P8: 1 | Q8: 1 | R8: 0 | S8: =SUM(E8:R8) -> 18
A9: CC25 | B9: VENETO, FRIULI VENEZIA GIULIA E TRENTINO ALTO ADIGE | C9: PADOVA | D9: CR | E9: 11 | F9: 5 | G9: 1 | H9: 0 | I9: 0 | J9: 0 | K9: 0 | L9: 3 | M9: 4 | N9: 0 | O9: 0 | P9: 1 | Q9: 2 | R9: 1 | S9: =SUM(E9:R9) -> 28
A10: CC13 | B10: VENETO, FRIULI VENEZIA GIULIA E TRENTINO ALTO ADIGE | C10: PORDENONE | D10: CC | E10: 2 | F10: 2 | G10: 1 | H10: 0 | I10: 0 | J10: 0 | K10: 0 | L10: 1 | M10: 4 | N10: 0 | O10: 1 | P10: 0 | Q10: 1 | R10: 0 | S10: =SUM(E10:R10) -> 12
A11: CC31 | B11: VENETO, FRIULI VENEZIA GIULIA E TRENTINO ALTO ADIGE | C11: ROVIGO | D11: CC | E11: 4 | F11: 3 | G11: 1 | H11: 0 | I11: 0 | J11: 0 | K11: 0 | L11: 3 | M11: 4 | N11: 0 | O11: 1 | P11: 1 | Q11: 1 | R11: 0 | S11: =SUM(E11:R11) -> 18
A12: CC26 | B12: VENETO, FRIULI VENEZIA GIULIA E TRENTINO ALTO ADIGE | C12: TOLMEZZO | D12: CC | E12: 5 | F12: 2 | G12: 1 | H12: 0 | I12: 0 | J12: 0 | K12: 0 | L12: 2 | M12: 4 | N12: 0 | O12: 2 | P12: 1 | Q12: 1 | R12: 0 | S12: =SUM(E12:R12) -> 18
A13: CC30 | B13: VENETO, FRIULI VENEZIA GIULIA E TRENTINO ALTO ADIGE | C13: TRENTO "SPINI DI GARDOLO" | D13: CC | E13: 8 | F13: 4 | G13: 1 | H13: 0 | I13: 0 | J13: 0 | K13: 0 | L13: 3 | M13: 5 | N13: 0 | O13: 1 | P13: 1 | Q13: 2 | R13: 1 | S13: =SUM(E13:R13) -> 26
A14: CC07 | B14: VENETO, FRIULI VENEZIA GIULIA E TRENTINO ALTO ADIGE | C14: TREVISO | D14: CC | E14: 3 | F14: 3 | G14: 1 | H14: 0 | I14: 0 | J14: 0 | K14: 0 | L14: 2 | M14: 4 | N14: 0 | O14: 1 | P14: 1 | Q14: 1 | R14: 0 | S14: =SUM(E14:R14) -> 16
A15: CC02 | B15: VENETO, FRIULI VENEZIA GIULIA E TRENTINO ALTO ADIGE | C15: TRIESTE | D15: CC | E15: 5 | F15: 3 | G15: 1 | H15: 0 | I15: 0 | J15: 0 | K15: 1 | L15: 2 | M15: 4 | N15: 0 | O15: 1 | P15: 1 | Q15: 1 | R15: 0 | S15: =SUM(E15:R15) -> 19
... A20: CC09 | B20: VENETO, FRIULI VENEZIA GIULIA E TRENTINO ALTO ADIGE | C20: VICENZA | D20: CC | E20: 3 | F20: 3 | G20: 1 | H20: 0 | I20: 0 | J20: 0 | K20: 0 | L20: 3 | M20: 4 | N20: 0 | O20: 1 | P20: 1 | Q20: 2 | R20: 1 | S20: =SUM(E20:R20) -> 19
B21: TOTALE | E21: =SUBTOTAL(9,E4:E20) -> 72 | F21: =SUBTOTAL(9,F4:F20) -> 50 | G21: =SUBTOTAL(9,G4:G20) -> 17 | H21: =SUBTOTAL(9,H4:H20) -> 2 | I21: =SUBTOTAL(9,I4:I20) -> 6 | J21: =SUBTOTAL(9,J4:J20) -> 1 | K21: =SUBTOTAL(9,K4:K20) -> 6 | L21: =SUBTOTAL(9,L4:L20) -> 35 | ... S21: =SUBTOTAL(9,S4:S20) -> 328

Sheet Tabella P Riepilogo complessivo
A1: Tabella P
A2: Ripartizione territoriale della dotazione organica prevista dalla tabella E del D.P.C.M. 15 giugno 2015, n. 84.
A3: Struttura | B3: Funzionario della professionalità giuridico-pedagogica | C3: Funzionario contabile | D3: Funzionario dell'organizzazione e delle relazioni | E3: Funzionario informatico | F3: Funzionario tecnico | G3: Funzionario linguistico | H3: Funzionario della professionalità di mediazione culturale | I3: Operatore | J3: Assistente amministrativo | K3: Assistente linguistico | L3: Contabile | M3: Assistente informatico | N3: Assistente tecnico | O3: Ausiliario | P3: TOTALI
B4: organico 2022 | C4: organico 2022 | D4: organico 2022 | E4: organico 2022 | F4: organico 2022 | G4: organico 2022 | H4: organico 2022 | I4: organico 2022 | J4: organico 2022 | K4: organico 2022 | L4: organico 2022 | M4: organico 2022 | N4: organico 2022 | O4: organico 2022 | P4: organico 2022
A5: AMMINISTRAZIONE CENTRALE | B5: ='Tabella A DAP'!E5 -> 43 | C5: ='Tabella A DAP'!F5 -> 49 | D5: ='Tabella A DAP'!G5 -> 36 | E5: ='Tabella A DAP'!H5 -> 28 | F5: ='Tabella A DAP'!I5 -> 36 | G5: ='Tabella A DAP'!J5 -> 3 | H5: ='Tabella A DAP'!K5 -> 1 | I5: ='Tabella A DAP'!L5 -> 29 | ... O5: ='Tabella A DAP'!R5 -> 4 | P5: =SUM(B5:O5) -> 401
A6: DIREZIONE GENERALE FORMAZIONE E SFAP | B6: ='Tabella B DGFO'!E13 -> 14 | C6: ='Tabella B DGFO'!F13 -> 13 | D6: ='Tabella B DGFO'!G13 -> 9 | E6: ='Tabella B DGFO'!H13 -> 2 | F6: ='Tabella B DGFO'!I13 -> 0 | G6: ='Tabella B DGFO'!J13 -> 1 | H6: ='Tabella B DGFO'!K13 -> 0 | I6: ='Tabella B DGFO'!L13 -> 23 | ... O6: ='Tabella B DGFO'!R13 -> 3 | P6: =SUM(B6:O6) -> 101
A7: PRAP CALABRIA | B7: ='Tabella C Calabria'!E16 -> 55 | C7: ='Tabella C Calabria'!F16 -> 43 | D7: ='Tabella C Calabria'!G16 -> 12 | E7: ='Tabella C Calabria'!H16 -> 2 | F7: ='Tabella C Calabria'!I16 -> 5 | G7: ='Tabella C Calabria'!J16 -> 0 | H7: ='Tabella C Calabria'!K16 -> 6 | I7: ='Tabella C Calabria'!L16 -> 25 | ... O7: ='Tabella C Calabria'!R16 -> 4 | P7: =SUM(B7:O7) -> 256
A8: PRAP CAMPANIA | B8: ='Tabella D Campania'!E19 -> 115 | C8: ='Tabella D Campania'!F19 -> 64 | D8: ='Tabella D Campania'!G19 -> 16 | E8: ='Tabella D Campania'!H19 -> 2 | F8: ='Tabella D Campania'!I19 -> 8 | G8: ='Tabella D Campania'!J19 -> 0 | H8: ='Tabella D Campania'!K19 -> 6 | I8: ='Tabella D Campania'!L19 -> 36 | ... O8: ='Tabella D Campania'!R19 -> 12 | P8: =SUM(B8:O8) -> 418
A9: PRAP EMILIA ROMAGNA E MARCHE | B9: ='Tabella E Emilia Romagna'!E21 -> 83 | C9: ='Tabella E Emilia Romagna'!F21 -> 59 | D9: ='Tabella E Emilia Romagna'!G21 -> 16 | E9: ='Tabella E Emilia Romagna'!H21 -> 2 | F9: ='Tabella E Emilia Romagna'!I21 -> 7 | G9: ='Tabella E Emilia Romagna'!J21 -> 0 | H9: ='Tabella E Emilia Romagna'!K21 -> 6 | I9: ='Tabella E Emilia Romagna'!L21 -> 32 | ... O9: ='Tabella E Emilia Romagna'!R21 -> 6 | P9: =SUM(B9:O9) -> 351
A10: PRAP LAZIO, ABRUZZO E MOLISE | B10: ='Tabella F Lazio'!E30 -> 140 | C10: ='Tabella F Lazio'!F30 -> 91 | D10: ='Tabella F Lazio'!G30 -> 26 | E10: ='Tabella F Lazio'!H30 -> 2 | F10: ='Tabella F Lazio'!I30 -> 9 | G10: ='Tabella F Lazio'!J30 -> 0 | H10: ='Tabella F Lazio'!K30 -> 6 | I10: ='Tabella F Lazio'!L30 -> 55 | ... O10: ='Tabella F Lazio'!R30 -> 11 | P10: =SUM(B10:O10) -> 583
A11: PRAP LOMBARDIA | B11: ='Tabella G Lombardia'!E22 -> 130 | C11: ='Tabella G Lombardia'!F22 -> 71 | D11: ='Tabella G Lombardia'!G22 -> 19 | E11: ='Tabella G Lombardia'!H22 -> 2 | F11: ='Tabella G Lombardia'!I22 -> 8 | G11: ='Tabella G Lombardia'!J22 -> 0 | H11: ='Tabella G Lombardia'!K22 -> 6 | I11: ='Tabella G Lombardia'!L22 -> 47 | ... O11: ='Tabella G Lombardia'!R22 -> 5 | P11: =SUM(B11:O11) -> 454
A12: PRAP PIEMONTE, LIGURIA E VALLE D'AOSTA | B12: ='Tabella H Piemonte'!E25 -> 105 | C12: ='Tabella H Piemonte'!F25 -> 70 | D12: ='Tabella H Piemonte'!G25 -> 18 | E12: ='Tabella H Piemonte'!H25 -> 2 | F12: ='Tabella H Piemonte'!I25 -> 8 | G12: ='Tabella H Piemonte'!J25 -> 0 | H12: ='Tabella H Piemonte'!K25 -> 6 | I12: ='Tabella H Piemonte'!L25 -> 40 | ... O12: ='Tabella H Piemonte'!R25 -> 5 | P12: =SUM(B12:O12) -> 429
A13: PRAP PUGLIA E BASILICATA | B13: ='Tabella I Puglia'!E19 -> 64 | C13: ='Tabella I Puglia'!F19 -> 44 | D13: ='Tabella I Puglia'!G19 -> 13 | E13: ='Tabella I Puglia'!H19 -> 2 | F13: ='Tabella I Puglia'!I19 -> 6 | G13: ='Tabella I Puglia'!J19 -> 0 | H13: ='Tabella I Puglia'!K19 -> 6 | I13: ='Tabella I Puglia'!L19 -> 29 | ... O13: ='Tabella I Puglia'!R19 -> 8 | P13: =SUM(B13:O13) -> 292
A14: PRAP SARDEGNA | B14: ='Tabella L Sardegna'!E15 -> 61 | C14: ='Tabella L Sardegna'!F15 -> 39 | D14: ='Tabella L Sardegna'!G15 -> 11 | E14: ='Tabella L Sardegna'!H15 -> 2 | F14: ='Tabella L Sardegna'!I15 -> 8 | G14: ='Tabella L Sardegna'!J15 -> 0 | H14: ='Tabella L Sardegna'!K15 -> 6 | I14: ='Tabella L Sardegna'!L15 -> 17 | ... O14: ='Tabella L Sardegna'!R15 -> 7 | P14: =SUM(B14:O14) -> 248
A15: PRAP SICILIA | B15: ='Tabella M Sicilia'!E28 -> 116 | C15: ='Tabella M Sicilia'!F28 -> 78 | D15: ='Tabella M Sicilia'!G28 -> 27 | E15: ='Tabella M Sicilia'!H28 -> 2 | F15: ='Tabella M Sicilia'!I28 -> 8 | G15: ='Tabella M Sicilia'!J28 -> 0 | H15: ='Tabella M Sicilia'!K28 -> 6 | I15: ='Tabella M Sicilia'!L28 -> 49 | ... O15: ='Tabella M Sicilia'!R28 -> 16 | P15: =SUM(B15:O15) -> 502
A16: PRAP TOSCANA ED UMBRIA | B16: ='Tabella N Toscana'!E24 -> 101 | C16: ='Tabella N Toscana'!F24 -> 68 | D16: ='Tabella N Toscana'!G24 -> 21 | E16: ='Tabella N Toscana'!H24 -> 2 | F16: ='Tabella N Toscana'!I24 -> 7 | G16: ='Tabella N Toscana'!J24 -> 0 | H16: ='Tabella N Toscana'!K24 -> 6 | I16: ='Tabella N Toscana'!L24 -> 36 | ... O16: ='Tabella N Toscana'!R24 -> 6 | P16: =SUM(B16:O16) -> 426
A17: PRAP VENETO, FRIULI V.G. E TRENTINO A.A. | B17: ='Tabella O Triveneto'!E21 -> 72 | C17: ='Tabella O Triveneto'!F21 -> 50 | D17: ='Tabella O Triveneto'!G21 -> 17 | E17: ='Tabella O Triveneto'!H21 -> 2 | F17: ='Tabella O Triveneto'!I21 -> 6 | G17: ='Tabella O Triveneto'!J21 -> 1 | H17: ='Tabella O Triveneto'!K21 -> 6 | I17: ='Tabella O Triveneto'!L21 -> 35 | ... O17: ='Tabella O Triveneto'!R21 -> 6 | P17: =SUM(B17:O17) -> 328
A18: TOTALI | B18: =SUM(B5:B17) -> 1099 | C18: =SUM(C5:C17) -> 739 | D18: =SUM(D5:D17) -> 241 | E18: =SUM(E5:E17) -> 52 | F18: =SUM(F5:F17) -> 116 | G18: =SUM(G5:G17) -> 5 | H18: =SUM(H5:H17) -> 67 | I18: =SUM(I5:I17) -> 453 | ... P18: =SUM(P5:P17) -> 4789

Sheet Ripart. complessiva
A1: Struttura | B1: Sede | C1: Tipologia | D1: Capienza regolamentare detenuti al 30.09.2016 | E1: Funzionario della professionalità giuridico-pedagogica | F1: Funzionario della professionalità giuridico-pedagogica - proposta PRAP | G1: Funzionario della professionalità giuridico-pedagogica - Presenti | H1: Funzionario della professionalità giuridico-pedagogica dotazione definitiva | I1: Funzionario contabile | J1: Funzionario contabile - proposta PRAP | K1: Funzionario contabile - Presenti | L1: Funzionario contabile dotazione definitiva | M1: Funzionario dell'organizzazione e delle relazioni | N1: Funzionario dell'organizzazione e delle relazioni - proposta PRAP | O1: Funzionario dell'organizzazione e delle relazioni - Presenti | P1: Funzionario dell'organizzazione e delle relazioni dotazione definitiva | Q1: Funzionario informatico | R1: Funzionario informatico - proposta PRAP | S1: Funzionario informatico - Presenti | T1: Funzionario informatico dotazione definitiva | U1: Funzionario tecnico | V1: Funzionario tecnico - proposta PRAP | W1: Funzionario tecnico - Presenti | X1: Funzionario tecnico dotazione definitiva | Y1: Funzionario linguistico | Z1: Funzionario linguistico - proposta PRAP | AA1: Funzionario linguistico - Presenti | AB1: Funzionario linguistico dotazione definitiva | AC1: Funzionario della professionalità di mediazione culturale | AD1: Funzionario della professionalità di mediazione culturale - proposta PRAP | AE1: Funzionario della professionalità di mediazione culturale - Presenti | AF1: Funzionario della professionalità di mediazione culturale dotazione definitiva | AG1: Operatore | AH1: Operatore - proposta PRAP | AI1: Operatore - Presenti | AJ1: Operatore dotazione definitiva | AK1: Assistente amministrativo | AL1: Assistente amministrativo - proposta PRAP | AM1: Assistente amministrativo - Presenti | AN1: Assistente amministrativo dotazione definitiva | AO1: Assistente linguistico | AP1: Assistente linguistico - proposta PRAP | AQ1: Assistente linguistico - Presenti | AR1: Assistente linguistico dotazione definitiva | AS1: Contabile | AT1: Contabile - proposta PRAP | AU1: Contabile - Presenti | AV1: Contabile dotazione definitiva | AW1: Assistente informatico | AX1: Assistente informatico - proposta PRAP | AY1: Assistente informatico - Presenti | AZ1: Assistente informatico dotazione definitiva | BA1: Assistente tecnico | BB1: Assistente tecnico - proposta PRAP | BC1: Assistente tecnico - Presenti | BD1: Assistente tecnico dotazione definitiva | BE1: Ausiliario | BF1: Ausiliario - proposta PRAP | BG1: Ausiliario - Presenti | BH1: Ausiliario dotazione definitiva
A2: CALABRIA | B2: CASTROVILLARI "R. SISCA" | C2: CC | D2: 122 | E2: 3 | F2: 3 | G2: 3 | H2: 3 | I2: 3 | J2: 3 | K2: 2 | L2: 3 | M2: 1 | N2: 1 | P2: 1 | R2: 0 | T2: 0 | V2: 0 | X2: 0 | Z2: 0 | AB2: 0 | AD2: 0 | AF2: 0 | AG2: 2 | AH2: 2 | AI2: 1 | AJ2: 2 | AK2: 5 | AL2: 4 | AM2: 6 | AN2: 4 | AP2: 0 | AR2: 0 | AS2: 1 | AT2: 1 | AU2: 0 | AV2: 1 | AW2: 1 | AX2: 1 | AZ2: 1 | BA2: 2 | BB2: 2 | BD2: 2 | BF2: 0 | BG2: 0 | BH2: 1
A3: CALABRIA | B3: CATANZARO "U. CARIDI" | C3: CC | D3: 632 | E3: 9 | F3: 9 | G3: 5 | H3: 9 | I3: 7 | J3: 6 | K3: 0 | L3: 6 | M3: 1 | N3: 1 | O3: 0 | P3: 1 | R3: 0 | S3: 1 | T3: 0 | V3: 0 | X3: 0 | Z3: 0 | AB3: 0 | AD3: 1 | AF3: 1 | AG3: 2 | AH3: 2 | AI3: 4 | AJ3: 2 | AK3: 6 | AL3: 7 | AM3: 7 | AN3: 7 | AP3: 0 | AR3: 0 | AS3: 2 | AT3: 2 | AU3: 2 | AV3: 2 | AW3: 1 | AX3: 1 | AY3: 0 | AZ3: 1 | BA3: 2 | BB3: 2 | BC3: 9 | BD3: 8 | BE3: 1 | BF3: 1 | BG3: 1 | BH3: 1
A4: CALABRIA | B4: COSENZA "S. COSMAI" | C4: CC | D4: 218 | E4: 4 | F4: 4 | G4: 5 | H4: 4 | I4: 3 | J4: 3 | K4: 1 | L4: 3 | M4: 1 | N4: 1 | O4: 1 | P4: 1 | R4: 0 | S4: 1 | T4: 0 | V4: 0 | W4: 1 | X4: 0 | Z4: 0 | AB4: 0 | AD4: 0 | AF4: 0 | AG4: 2 | AH4: 2 | AI4: 1 | AJ4: 2 | AK4: 5 | AL4: 5 | AM4: 5 | AN4: 5 | AP4: 0 | AR4: 0 | AS4: 1 | AT4: 1 | AU4: 1 | AV4: 1 | AW4: 1 | AX4: 1 | AY4: 4 | AZ4: 4 | BA4: 2 | BB4: 2 | BC4: 2 | BD4: 2 | BF4: 0 | BG4: 0 | BH4: 0
A5: CALABRIA | B5: CROTONE | C5: CC | D5: 120 | E5: 3 | F5: 3 | G5: 2 | H5: 3 | I5: 3 | J5: 3 | K5: 0 | L5: 3 | M5: 1 | N5: 1 | P5: 1 | R5: 0 | T5: 0 | V5: 0 | X5: 0 | Z5: 0 | AB5: 0 | AD5: 1 | AF5: 1 | AG5: 2 | AH5: 2 | AI5: 1 | AJ5: 2 | AK5: 5 | AL5: 4 | AM5: 5 | AN5: 4 | AP5: 0 | AR5: 0 | AS5: 1 | AT5: 1 | AU5: 0 | AV5: 1 | AW5: 1 | AX5: 1 | BA5: 2 | BB5: 2 | BC5: 1 | BD5: 1 | BF5: 0 | BG5: 0 | BH5: 0
A6: CALABRIA | B6: LAUREANA DI BORRELLO "L. DAGA" | C6: CC | D6: 34 | E6: 2 | F6: 1 | G6: 2 | H6: 1 | I6: 2 | J6: 2 | L6: 2 | M6: 1 | N6: 0 | P6: 0 | R6: 0 | T6: 0 | U6: 0 | W6: 0 | Z6: 0 | AB6: 0 | AD6: 0 | AF6: 0 | AG6: 2 | AH6: 2 | AI6: 1 | AJ6: 2 | AK6: 4 | AL6: 3 | AM6: 2 | AN6: 3 | AP6: 0 | AR6: 0 | AT6: 0 | AU6: 1 | AV6: 0 | AW6: 1 | AX6: 1 | BA6: 2 | BB6: 2 | BC6: 3 | BD6: 3 | BF6: 0 | BH6: 0
A7: CALABRIA | B7: LOCRI | C7: CC | D7: 89 | E7: 2 | F7: 2 | G7: 3 | H7: 2 | I7: 2 | J7: 2 | K7: 2 | L7: 2 | M7: 1 | N7: 1 | O7: 2 | P7: 1 | R7: 0 | T7: 0 | V7: 0 | W7: 0 | X7: 0 | Z7: 0 | AB7: 0 | AD7: 0 | AF7: 0 | AG7: 2 | AH7: 2 | AI7: 1 | AJ7: 2 | AK7: 4 | AL7: 3 | AM7: 3 | AN7: 3 | AP7: 0 | AR7: 0 | AT7: 0 | AU7: 1 | AV7: 0 | AW7: 1 | AX7: 1 | AY7: 0 | BA7: 2 | BB7: 2 | BC7: 1 | BD7: 1 | BF7: 0 | BG7: 0 | BH7: 0
A8: CALABRIA | B8: PALMI "F. SALSONE" | C8: CC | D8: 152 | E8: 3 | F8: 3 | G8: 5 | H8: 3 | I8: 3 | J8: 3 | K8: 4 | L8: 3 | M8: 1 | N8: 1 | P8: 1 | R8: 0 | T8: 0 | V8: 0 | W8: 0 | X8: 0 | Z8: 0 | AB8: 0 | AD8: 0 | AF8: 0 | AG8: 2 | AH8: 2 | AI8: 1 | AJ8: 2 | AK8: 5 | AL8: 4 | AM8: 4 | AN8: 4 | AP8: 0 | AR8: 0 | AS8: 1 | AT8: 1 | AU8: 1 | AV8: 1 | AW8: 1 | AX8: 1 | AZ8: 1 | BA8: 2 | BB8: 2 | BC8: 1 | BD8: 1 | BF8: 0 | BG8: 0 | BH8: 0
A9: CALABRIA | B9: PAOLA | C9: CC | D9: 182 | E9: 3 | F9: 3 | G9: 4 | H9: 3 | I9: 3 | J9: 3 | K9: 2 | L9: 3 | M9: 1 | N9: 1 | P9: 1 | R9: 0 | T9: 0 | V9: 0 | X9: 0 | Z9: 0 | AB9: 0 | AD9: 1 | AF9: 1 | AG9: 2 | AH9: 2 | AI9: 1 | AJ9: 2 | AK9: 5 | AL9: 4 | AM9: 4 | AN9: 4 | AP9: 0 | AR9: 0 | AS9: 1 | AT9: 1 | AU9: 0 | AV9: 1 | AW9: 1 | AX9: 1 | AZ9: 1 | BA9: 2 | BB9: 2 | BC9: 0 | BD9: 1 | BF9: 0 | BG9: 1 | BH9: 0
A10: CALABRIA | B10: PRAP | E10: 2 | F10: 3 | G10: 2 | H10: 3 | I10: 3 | J10: 5 | K10: 2 | L10: 3 | M10: 1 | N10: 2 | O10: 0 | P10: 2 | Q10: 1 | R10: 1 | T10: 1 | U10: 6 | V10: 6 | W10: 2 | X10: 6 | Z10: 0 | AB10: 0 | AC10: 6 | AD10: 0 | AF10: 0 | AG10: 3 | AH10: 3 | AI10: 3 | AJ10: 3 | AK10: 3 | AL10: 7 | AM10: 6 | AN10: 7 | AP10: 0 | AR10: 0 | AS10: 1 | AT10: 2 | AU10: 1 | AV10: 1 | AW10: 1 | AX10: 1 | AZ10: 1 | BA10: 5 | BB10: 5 | BC10: 2 | BD10: 4 | BE10: 1 | BF10: 1 | BG10: 1 | BH10: 1
A11: CALABRIA | B11: REGGIO CALABRIA "ARGHILLA'" E REGGIO CALABRIA "G. PANZERA" | C11: CC | D11: =302+186 -> 488 | E11: 6 | F11: 7 | G11: 6 | H11: 7 | I11: 4 | J11: 4 | K11: 4 | L11: 5 | M11: 1 | N11: 1 | O11: 1 | P11: 1 | R11: 0 | S11: 0 | T11: 0 | V11: 0 | W11: 1 | X11: 0 | Z11: 0 | AB11: 0 | AD11: 1 | AF11: 1 | AG11: 2 | AH11: 2 | AI11: 6 | AJ11: 2 | AK11: 5 | AL11: 6 | AM11: 5 | AN11: 6 | AP11: 0 | AR11: 0 | AS11: 2 | AT11: 1 | AU11: 2 | AV11: 2 | AW11: 1 | AX11: 1 | AY11: 1 | AZ11: 1 | BA11: 2 | BB11: 2 | BC11: 2 | BD11: 1 | BE11: 1 | BF11: 1 | BG11: 0
A12: CALABRIA | B12: ROSSANO N.C. | C12: CR | D12: 215 | E12: 6 | F12: 5 | G12: 3 | H12: 5 | I12: 4 | J12: 3 | K12: 0 | L12: 4 | M12: 1 | N12: 1 | O12: 0 | P12: 1 | R12: 0 | T12: 0 | V12: 0 | W12: 0 | X12: 0 | Z12: 0 | AB12: 0 | AD12: 1 | AF12: 1 | AG12: 2 | AH12: 2 | AI12: 1 | AJ12: 2 | AK12: 5 | AL12: 5 | AM12: 1 | AN12: 5 | AP12: 0 | AR12: 0 | AS12: 1 | AT12: 1 | AU12: 1 | AV12: 1 | AW12: 1 | AX12: 1 | AY12: 0 | AZ12: 1 | BA12: 2 | BB12: 2 | BD12: 1 | BF12: 0 | BG12: 0 | BH12: 0
A13: CALABRIA | B13: VIBO VALENTIA N.C. | C13: CC | D13: 407 | E13: 6 | F13: 6 | G13: 4 | H13: 6 | I13: 4 | J13: 4 | K13: 3 | L13: 4 | M13: 1 | N13: 1 | O13: 2 | P13: 1 | R13: 0 | T13: 0 | V13: 0 | X13: 0 | Z13: 0 | AB13: 0 | AD13: 1 | AF13: 1 | AG13: 2 | AH13: 2 | AI13: 3 | AJ13: 2 | AK13: 5 | AL13: 5 | AM13: 7 | AN13: 5 | AP13: 0 | AR13: 0 | AS13: =2-1 -> 1 | AT13: 1 | AU13: 0 | AV13: 1 | AW13: 1 | AX13: 1 | AZ13: 1 | BA13: 2 | BB13: 2 | BD13: 1 | BE13: 1 | BF13: 1 | BG13: 1 | BH13: 1
A14: CAMPANIA | B14: ARIANO IRPINO | C14: CC | D14: 253 | E14: 4 | F14: 4 | G14: 2 | H14: 4 | I14: 3 | J14: 3 | K14: 4 | L14: 3 | M14: 1 | N14: 1 | P14: 1 | AG14: 2 | AH14: 2 | AI14: 1 | AJ14: 2 | AK14: 5 | AL14: 5 | AM14: 6 | AN14: 5 | AS14: 1 | AT14: 1 | AU14: 1 | AV14: 1 | AW14: 1 | AX14: 1 | AY14: 1 | AZ14: 1 | BA14: 2 | BB14: 1 | BC14: 2 | BD14: 2 | BG14: 0
