Workbook

Sheet riepilogo spese 
A1: Sub
A3: Cat.01 | B3: Spese per il personale | H3: Costo cassa ammende | J3: costo cofinanziato
H4: ='dettaglio cat 01'!I36 -> 0 | J4: ='dettaglio cat 01'!J36 -> 0
E5: Totale Categoria 01 | H5: =+H4 -> 0 | J5: =+J4 -> 0
A7: Cat.02 | B7: Spese e sussidi per i destinatari degli interventi | H7: Costo cassa ammende | J7: costo cofinanziato
H8: ='dettaglio cat 02 '!I36 -> 0 | J8: ='dettaglio cat 02 '!K36 -> 0
E9: Totale Categoria 02 | H9: =H8 -> 0 | J9: =J8 -> 0
A11: Cat.03 | B11: Spese per l'acquisto e il noleggio di beni e servizi | H11: Costo cassa ammende | J11: costo cofinanziato
B12: A) Beni | H12: ='dettaglio cat 03'!I15 -> 0 | J12: ='dettaglio cat 03'!K15 -> 0
B14: B) Servizi | H14: ='dettaglio cat 03'!I26 -> 0 | J14: ='dettaglio cat 03'!K26 -> 0
B16: C) Noleggi | H16: ='dettaglio cat 03'!I35 -> 0 | J16: ='dettaglio cat 03'!K35 -> 0
E17: Totale Categoria 03 | H17: ='dettaglio cat 03'!I36 -> 0 | J17: ='dettaglio cat 03'!J36 -> 0
A19: Cat.04 | B19: Locazioni | H19: Costo cassa ammende | J19: costo cofinanziato
H20: ='dettaglio cat 04'!J25 -> 0 | J20: ='dettaglio cat 04'!L25 -> 0
E21: Totale Categoria 04 | H21: =H20 -> 0 | J21: =J20 -> 0
A23: Cat.05 | B23: Spese generali | H23: Costo cassa ammende | J23: costo cofinanziato
H24: ='dettaglio cat 05'!J25:J25 -> 0 | J24: ='dettaglio cat 05'!K25 -> 0
E25: Totale Categoria 05 | H25: ='dettaglio cat 05'!J25 -> 0 | J25: ='dettaglio cat 05'!K25:K25 -> 0
A27: TOTALE GENERALE COSTO CASSA AMMENDE | H27: =H5+H17+H25+H9+H21 -> 0
A28: TOTALE GENERALE COSTI COFINANZIATI | J28: =J5+J17+J25+J21+J9 -> 0
A29: TOTALE GENERALE COSTO PROGETTO | J29: =+H27+J28 -> 0
A31: Legenda
A32: sub 1: programmi di reinserimento e assistenza
A33: sub 2: programmi di sostegno alle vittime e giustizia riparativa

Sheet dettaglio cat 01
A2: Sub
A4: Cat.01 | B4: CA(*) | C4: Spese per il personale impiegato nel progetto (persone in esecuzione penale, docenti, tutor, etc) | I4: Costo cassa ammende | J4: Costo cofinanziato
F5: N°. Ore | G5: Costo Orario | I5: Totale | J5: Totale
A6: 1 | I6: =IF(B6="si",F6*G6,0) -> 0 | J6: =IF(B6="no",F6*G6,0) -> 0
A7: 2 | I7: =IF(B7="si",F7*G7,0) -> 0 | J7: =IF(B7="no",F7*G7,0) -> 0
A8: 3 | I8: =IF(B8="si",F8*G8,0) -> 0 | J8: =IF(B8="no",F8*G8,0) -> 0
A9: 4 | I9: =IF(B9="si",F9*G9,0) -> 0 | J9: =IF(B9="no",F9*G9,0) -> 0
A10: 5 | I10: =IF(B10="si",F10*G10,0) -> 0 | J10: =IF(B10="no",F10*G10,0) -> 0
A11: 6 | I11: =IF(B11="si",F11*G11,0) -> 0 | J11: =IF(B11="no",F11*G11,0) -> 0
A12: 7 | I12: =IF(B12="si",F12*G12,0) -> 0 | J12: =IF(B12="no",F12*G12,0) -> 0
A13: 8 | I13: =IF(B13="si",F13*G13,0) -> 0 | J13: =IF(B13="no",F13*G13,0) -> 0
A14: 9 | I14: =IF(B14="si",F14*G14,0) -> 0 | J14: =IF(B14="no",F14*G14,0) -> 0
A15: 10 | I15: =IF(B15="si",F15*G15,0) -> 0 | J15: =IF(B15="no",F15*G15,0) -> 0
A16: 11 | I16: =IF(B16="si",F16*G16,0) -> 0 | J16: =IF(B16="no",F16*G16,0) -> 0
A17: 12 | I17: =IF(B17="si",F17*G17,0) -> 0 | J17: =IF(B17="no",F17*G17,0) -> 0
... A35: 30 | I35: =IF(B35="si",F35*G35,0) -> 0 | J35: =IF(B35="no",F35*G35,0) -> 0
F36: Totale Categoria 01 | I36: =SUM(I6:I35) -> 0 | J36: =SUM(J6:J35) -> 0
A39: (*) | B39: si | C39: Per costi da finaziare con fondi Cassa Ammende
B40: no | C40: Per COSTI COFINANZIATI.

Sheet dettaglio cat 02 
A2: Sub
A4: Cat.02 | B4: CA(*) | C4: Spese e sussidi per i destinatari degli interventi | I4: Costo cassa ammende | J4: Costo cofinanziato
F5: N°. Ore | G5: Costo Orario | I5: Totale | J5: Totale
A6: 1 | I6: =IF(B6="si",F6*G6,0) -> 0 | J6: =IF(B6="no",F6*G6,0) -> 0
A7: 2 | I7: =IF(B7="si",F7*G7,0) -> 0 | J7: =IF(B7="no",F7*G7,0) -> 0
A8: 3 | I8: =IF(B8="si",F8*G8,0) -> 0 | J8: =IF(B8="no",F8*G8,0) -> 0
A9: 4 | I9: =IF(B9="si",F9*G9,0) -> 0 | J9: =IF(B9="no",F9*G9,0) -> 0
A10: 5 | I10: =IF(B10="si",F10*G10,0) -> 0 | J10: =IF(B10="no",F10*G10,0) -> 0
A11: 6 | I11: =IF(B11="si",F11*G11,0) -> 0 | J11: =IF(B11="no",F11*G11,0) -> 0
A12: 7 | I12: =IF(B12="si",F12*G12,0) -> 0 | J12: =IF(B12="no",F12*G12,0) -> 0
A13: 8 | I13: =IF(B13="si",F13*G13,0) -> 0 | J13: =IF(B13="no",F13*G13,0) -> 0
A14: 9 | I14: =IF(B14="si",F14*G14,0) -> 0 | J14: =IF(B14="no",F14*G14,0) -> 0
A15: 10 | I15: =IF(B15="si",F15*G15,0) -> 0 | J15: =IF(B15="no",F15*G15,0) -> 0
A16: 11 | I16: =IF(B16="si",F16*G16,0) -> 0 | J16: =IF(B16="no",F16*G16,0) -> 0
A17: 12 | I17: =IF(B17="si",F17*G17,0) -> 0 | J17: =IF(B17="no",F17*G17,0) -> 0
... A35: 30 | I35: =IF(B35="si",F35*G35,0) -> 0 | J35: =IF(B35="no",F35*G35,0) -> 0
F36: Totale Categoria 02 | I36: =SUM(I6:I35) -> 0 | J36: =SUM(J6:J35) -> 0
A39: (*) | B39: si | C39: Per costi da finaziare con fondi Cassa Ammende
B40: no | C40: Per COSTI COFINANZIATI.

Sheet dettaglio cat 03
A2: Sub
A4: Cat.03 | B4: CA (*) | C4: Spese per l'acquisto e noleggio di beni e servizi | I4: Costo cassa ammende | J4: Costo cofinanziato
A5: A) Beni | J5: Totale
A6: A | C6: articolo | F6: Quantità | G6: Costo Unitario | I6: Totale
A7: 1 | I7: =IF(B7="si",F7*G7,0) -> 0 | J7: =IF(B7="no",F7*G7,0) -> 0
A8: 2 | I8: =IF(B8="si",F8*G8,0) -> 0 | J8: =IF(B8="no",F8*G8,0) -> 0
A9: 3 | I9: =IF(B9="si",F9*G9,0) -> 0 | J9: =IF(B9="no",F9*G9,0) -> 0
A10: 4 | I10: =IF(B10="si",F10*G10,0) -> 0 | J10: =IF(B10="no",F10*G10,0) -> 0
A11: 5 | I11: =IF(B11="si",F11*G11,0) -> 0 | J11: =IF(B11="no",F11*G11,0) -> 0
A12: 6 | I12: =IF(B12="si",F12*G12,0) -> 0 | J12: =IF(B12="no",F12*G12,0) -> 0
A13: 7 | I13: =IF(B13="si",F13*G13,0) -> 0 | J13: =IF(B13="no",F13*G13,0) -> 0
A14: 8 | I14: =IF(B14="si",F14*G14,0) -> 0 | J14: =IF(B14="no",F14*G14,0) -> 0
F15: Totale A | I15: =SUM(I7:I14) -> 0 | J15: =SUM(J1:J14) -> 0
A16: B) Servizi | J16: Totale
A17: B | C17: articolo | F17: Quantità | G17: Costo Unitario | I17: Totale
A18: 1 | I18: =IF(B18="si",F18*G18,0) -> 0 | J18: =IF(B18="no",F18*G18,0) -> 0
A19: 2 | I19: =IF(B19="si",F19*G19,0) -> 0 | J19: =IF(B19="no",F19*G19,0) -> 0
A20: 3 | I20: =IF(B20="si",F20*G20,0) -> 0 | J20: =IF(B20="no",F20*G20,0) -> 0
A21: 4 | I21: =IF(B21="si",F21*G21,0) -> 0 | J21: =IF(B21="no",F21*G21,0) -> 0
A22: 5 | I22: =IF(B22="si",F22*G22,0) -> 0 | J22: =IF(B22="no",F22*G22,0) -> 0
A23: 6 | I23: =IF(B23="si",F23*G23,0) -> 0 | J23: =IF(B23="no",F23*G23,0) -> 0
A24: 7 | I24: =IF(B24="si",F24*G24,0) -> 0 | J24: =IF(B24="no",F24*G24,0) -> 0
A25: 8 | I25: =IF(B25="si",F25*G25,0) -> 0 | J25: =IF(B25="no",F25*G25,0) -> 0
F26: Totale B | I26: =SUM(I18:I25) -> 0 | J26: =SUM(J15:J25) -> 0
A27: C) Noleggi | J27: Totale
A28: C | C28: articolo | F28: Quantità | G28: Costo Unitario | I28: Totale
A29: 1 | I29: =IF(B29="si",F29*G29,0) -> 0 | J29: =IF(B29="no",F29*G29,0) -> 0
A30: 2 | I30: =IF(B30="si",F30*G30,0) -> 0 | J30: =IF(B30="no",F30*G30,0) -> 0
A31: 3 | I31: =IF(B31="si",F31*G31,0) -> 0 | J31: =IF(B31="no",F31*G31,0) -> 0
A32: 4 | I32: =IF(B32="si",F32*G32,0) -> 0 | J32: =IF(B32="no",F32*G32,0) -> 0
A33: 5 | I33: =IF(B33="si",F33*G33,0) -> 0 | J33: =IF(B33="no",F33*G33,0) -> 0
A34: 6 | I34: =IF(B34="si",F34*G34,0) -> 0 | J34: =IF(B34="no",F34*G34,0) -> 0
F35: Totale C | I35: =SUM(I29:I34) -> 0 | J35: =SUM(J15:J34) -> 0
F36: Totale Categoria 03 | I36: =I35+I15+I26 -> 0 | J36: =J35+J15 -> 0
A38: (*) | B38: si | C38: Per costi da finaziare con fondi Cassa Ammende
B39: no | C39: Per COSTI COFINANZIATI.

Sheet dettaglio cat 04
B1: Sub
B3: Cat.04 | C3: CA (*) | D3: Locazioni | J3: Costo cassa ammende | K3: Costo cofinanziato
G4: Quantità | H4: Costo Unitario | J4: Totale | K4: Totale
B5: 1 | J5: =IF(C5="si",G5*H5,0) -> 0 | K5: =IF(C5="no",G5*H5,0) -> 0
B6: 2 | J6: =IF(C6="si",G6*H6,0) -> 0 | K6: =IF(C6="no",G6*H6,0) -> 0
B7: 3 | J7: =IF(C7="si",G7*H7,0) -> 0 | K7: =IF(C7="no",G7*H7,0) -> 0
B8: 4 | J8: =IF(C8="si",G8*H8,0) -> 0 | K8: =IF(C8="no",G8*H8,0) -> 0
B9: 5 | J9: =IF(C9="si",G9*H9,0) -> 0 | K9: =IF(C9="no",G9*H9,0) -> 0
B10: 6 | J10: =IF(C10="si",G10*H10,0) -> 0 | K10: =IF(C10="no",G10*H10,0) -> 0
B11: 7 | J11: =IF(C11="si",G11*H11,0) -> 0 | K11: =IF(C11="no",G11*H11,0) -> 0
B12: 8 | J12: =IF(C12="si",G12*H12,0) -> 0 | K12: =IF(C12="no",G12*H12,0) -> 0
B13: 9 | J13: =IF(C13="si",G13*H13,0) -> 0 | K13: =IF(C13="no",G13*H13,0) -> 0
B14: 10 | J14: =IF(C14="si",G14*H14,0) -> 0 | K14: =IF(C14="no",G14*H14,0) -> 0
B15: 11 | J15: =IF(C15="si",G15*H15,0) -> 0 | K15: =IF(C15="no",G15*H15,0) -> 0
B16: 12 | J16: =IF(C16="si",G16*H16,0) -> 0 | K16: =IF(C16="no",G16*H16,0) -> 0
... B24: 20 | J24: =IF(C24="si",G24*H24,0) -> 0 | K24: =IF(C24="no",G24*H24,0) -> 0
G25: Totale Categoria 04 | J25: =SUM(J24,J23,J22,J21,J20,J19,J18,J17,J16,J15,J14,J13,J12,J11,J10,J9,J8,J7,J6,J5) -> 0 | K25: =SUM(K24,K23,K22,K21,K20,K19,K18,K17,K16,K15,K14,K13,K12,K11,K10,K9,K8,K7,K6,K5) -> 0
B28: (*) | C28: si | D28: Per costi da finaziare con fondi Cassa Ammende
C29: no | D29: Per costi COFINANZIATI.

Sheet dettaglio cat 05
B1: Sub
B3: Cat.05 | C3: CA (*) | D3: Spese generali | J3: Costo cassa ammende | K3: Costo cofinanziato
G4: Quantità | H4: Costo Unitario | J4: Totale | K4: Totale
B5: 1 | J5: =IF(C5="si",G5*H5,0) -> 0 | K5: =IF(C5="no",G5*H5,0) -> 0
B6: 2 | J6: =IF(C6="si",G6*H6,0) -> 0 | K6: =IF(C6="no",G6*H6,0) -> 0
B7: 3 | J7: =IF(C7="si",G7*H7,0) -> 0 | K7: =IF(C7="no",G7*H7,0) -> 0
B8: 4 | J8: =IF(C8="si",G8*H8,0) -> 0 | K8: =IF(C8="no",G8*H8,0) -> 0
B9: 5 | J9: =IF(C9="si",G9*H9,0) -> 0 | K9: =IF(C9="no",G9*H9,0) -> 0
B10: 6 | J10: =IF(C10="si",G10*H10,0) -> 0 | K10: =IF(C10="no",G10*H10,0) -> 0
B11: 7 | J11: =IF(C11="si",G11*H11,0) -> 0 | K11: =IF(C11="no",G11*H11,0) -> 0
B12: 8 | J12: =IF(C12="si",G12*H12,0) -> 0 | K12: =IF(C12="no",G12*H12,0) -> 0
B13: 9 | J13: =IF(C13="si",G13*H13,0) -> 0 | K13: =IF(C13="no",G13*H13,0) -> 0
B14: 10 | J14: =IF(C14="si",G14*H14,0) -> 0 | K14: =IF(C14="no",G14*H14,0) -> 0
B15: 11 | J15: =IF(C15="si",G15*H15,0) -> 0 | K15: =IF(C15="no",G15*H15,0) -> 0
B16: 12 | J16: =IF(C16="si",G16*H16,0) -> 0 | K16: =IF(C16="no",G16*H16,0) -> 0
... B24: 20 | J24: =IF(C24="si",G24*H24,0) -> 0 | K24: =IF(C24="no",G24*H24,0) -> 0
G25: Totale Categoria 05 | J25: =SUM(J24,J23,J22,J21,J20,J19,J18,J17,J16,J15,J14,J13,J12,J11,J10,J9,J8,J7,J6,J5) -> 0 | K25: =SUM(K24,K23,K22,K21,K20,K19,K18,K17,K16,K15,K14,K13,K12,K11,K10,K9,K8,K7,K6,K5) -> 0
B28: (*) | C28: si | D28: Per costi da finaziare con fondi Cassa Ammende
C29: no | D29: Per costi COFINANZIATI.
