Workbook

Sheet PRESENT.
A8: RELAZIONE AL PARLAMENTO EX LEGGE 16 APRILE 2015, n. 47
A9: “Modifiche al codice di procedura penale in materia di misure cautelari personali..."
A12: TABELLE: ANNO 2020
A14: ITALIA (Totali nazionali)
A16: AVVERTENZA: I DATI NON PERVENUTI SONO STATI STIMATI

Sheet ----

Sheet ITALIA (1)
A1: MINISTERO DELLA GIUSTIZIA
A2: DIPARTIMENTO PER GLI AFFARI DI GIUSTIZIA
A3: Direzione Generale degli Affari Interni
A5: MISURE CAUTELARI PERSONALI (L. 47/2015) - emesse nell'anno 2020 - ITALIA (**)
A7: MISURE CAUTELARI PERSONALI (Libro IV del Codice di Procedura Penale) | B7: art. 281: Divieto espatrio | C7: art. 282: Obbligo presentazione Polizia Giudiz. | D7: art. 282 bis comma 1: Allontanamento dalla casa familiare | E7: art. 282 ter: Divieto di avvicinamento (anche come prescrizione accessoria della m.c. di cui all'art. 282 bis c.1, ai sensi dell'art. 282 bis c.2) | F7: art. 283 comma 1: Divieto di dimora | G7: art. 283 comma 2: Obbligo di dimora | H7: art. 284 Arresti domiciliari: senza braccialetto | I7: art. 284 +275 bis Arresti domiciliari: con braccialetto | J7: art. 285 Custodia cautelare in carcere | K7: art. 286 Custodia in luogo di cura | L7: TOTALE
A8: Totale misure cautelari emesse nell'anno | B8: 60 | C8: 11642 | D8: 3392 | E8: 8053 | F8: 4805 | G8: 6850 | H8: 19331 | I8: 2618 | J8: 24928 | K8: 520 | L8: 82199
A9: MISURE EMESSE NELL'ANNO, IN PROCEDIMENTI ISCRITTI NELL'ANNO E DEFINITI NELL'ANNO
A10: Totale misure emesse nell'anno, in procedimenti iscritti e definiti nell'anno | B10: 4 | C10: 4536 | D10: 447 | E10: 1091 | F10: 2123 | G10: 2005 | H10: 6884 | I10: 770 | J10: 7724 | K10: 82 | L10: 25666
A11: Misure emesse nell'anno, in procedimenti iscritti e definiti nell'anno, con condanna definitiva e senza sosp. condiz. pena | B11: 1 | C11: 754 | D11: 45 | E11: 96 | F11: 472 | G11: 335 | H11: 1298 | I11: 88 | J11: 1379 | K11: 13 | L11: 4481 | M11: condanna definitiva
A12: Misure emesse nell'anno, in procedimenti iscritti e definiti nell'anno, con condanna definitiva e con sosp. condiz. pena | B12: 0 | C12: 375 | D12: 52 | E12: 107 | F12: 172 | G12: 201 | H12: 495 | I12: 34 | J12: 320 | K12: 0 | L12: 1756
A13: Misure emesse nell'anno, in procedimenti iscritti e definiti nell'anno, con condanna non definitiva e senza sospens. condiz. della pena | B13: 1 | C13: 2450 | D13: 167 | E13: 479 | F13: 1112 | G13: 1005 | H13: 4057 | I13: 552 | J13: 5059 | K13: 19 | L13: 14901 | M13: condanna non definitiva
A14: Misure emesse nell'anno, in procedimenti iscritti e definiti nell'anno, con condanna non definitiva e con sospens. condiz. della pena | B14: 0 | C14: 659 | D14: 86 | E14: 158 | F14: 274 | G14: 325 | H14: 519 | I14: 43 | J14: 354 | K14: 3 | L14: 2421
A15: Misure emesse nell'anno, in procedimenti iscritti e definiti nell'anno, con assoluzione definitiva | B15: 0 | C15: 59 | D15: 10 | E15: 29 | F15: 23 | G15: 25 | H15: 98 | I15: 4 | J15: 98 | K15: 17 | L15: 363 | M15: assoluzione
A16: Misure emesse nell'anno, in procedimenti iscritti e definiti nell'anno, con assoluzione non definitiva | B16: 2 | C16: 178 | D16: 44 | E16: 95 | F16: 49 | G16: 91 | H16: 302 | I16: 44 | J16: 397 | K16: 25 | L16: 1227
A17: Misure emesse nell'anno, in procedimenti iscritti e definiti nell'anno, con altro tipo di sentenza (definitiva o non definitiva) (*) | B17: 0 | C17: 61 | D17: 43 | E17: 127 | F17: 21 | G17: 23 | H17: 115 | I17: 5 | J17: 117 | K17: 5 | L17: 517 | M17: altro
A18: MISURE EMESSE NELL'ANNO, IN PROCEDIMENTI ISCRITTI IN ANNI PRECEDENTI E DEFINITI NELL'ANNO
A19: Totale misure emesse nell'anno, in procedimenti iscritti in anni precedenti e definiti nell'anno | B19: 9 | C19: 935 | D19: 32 | E19: 411 | F19: 254 | G19: 672 | H19: 2015 | I19: 419 | J19: 986 | K19: 56 | L19: 5789
A20: Misure emesse nell'anno, in procedimenti iscritti in anni precedenti e definiti nell'anno, con condanna definitiva e senza sosp. condiz. pena | B20: 2 | C20: 150 | D20: 6 | E20: 48 | F20: 40 | G20: 100 | H20: 357 | I20: 49 | J20: 126 | K20: 4 | L20: 882 | M20: condanna definitiva
A21: Misure emesse nell'anno, in procedimenti iscritti in anni precedenti e definiti nell'anno, con condanna definitiva e con sosp. condiz. pena | B21: 0 | C21: 31 | D21: 3 | E21: 27 | F21: 4 | G21: 21 | H21: 39 | I21: 4 | J21: 24 | K21: 0 | L21: 153
A22: Misure emesse nell'anno, in procedimenti iscritti in anni precedenti e definiti nell'anno, con condanna non definitiva e senza sospens. condiz. della pena | B22: 5 | C22: 587 | D22: 16 | E22: 212 | F22: 168 | G22: 442 | H22: 1333 | I22: 314 | J22: 685 | K22: 12 | L22: 3774 | M22: condanna non definitiva
A23: Misure emesse nell'anno, in procedimenti iscritti in anni precedenti e definiti nell'anno, con condanna non definitiva e con sospens. condiz. della pena | B23: 1 | C23: 52 | D23: 4 | E23: 33 | F23: 14 | G23: 31 | H23: 52 | I23: 4 | J23: 26 | K23: 1 | L23: 218
A24: Misure emesse nell'anno, in procedimenti iscritti in anni precedenti e definiti nell'anno, con assoluzione definitiva | B24: 0 | C24: 15 | D24: 3 | E24: 12 | F24: 2 | G24: 8 | H24: 22 | I24: 3 | J24: 17 | K24: 17 | L24: 99 | M24: assoluzione
A25: Misure emesse nell'anno, in procedimenti iscritti in anni precedenti e definiti nell'anno, con assoluzione non definitiva | B25: 1 | C25: 85 | D25: 0 | E25: 45 | F25: 18 | G25: 62 | H25: 162 | I25: 37 | J25: 93 | K25: 15 | L25: 518
A26: Misure emesse nell'anno, in procedimenti iscritti in anni precedenti e definiti nell'anno, con altro tipo di sentenza (definitiva o non definitiva) (*) | B26: 0 | C26: 15 | D26: 0 | E26: 34 | F26: 8 | G26: 8 | H26: 50 | I26: 8 | J26: 15 | K26: 7 | L26: 145 | M26: altro
A27: AVVERTENZA: tutte le righe riportano il numero delle misure cautelari emesse nell'anno, a prescindere dal numero dei procedimenti o provvedimenti che le contengono
A28: (*) la categoria "con altro tipo di sentenza" ricomprende le misure emesse nei procedimenti definiti ex artt. 129 - 425 - 469 - 529 - 531 c.p.p. (restano quindi esclusi i procedimenti definiti per incompetenza)
A29: (**) nella tabella viene omessa la voce relativa all’art. 285 bis c.p.p.: Custodia cautelare in istituto a custodia attenuata per detenute madri, in quanto è risultata numericamente nulla

Sheet ITALIA (2)
A1: MINISTERO DELLA GIUSTIZIA
A2: DIPARTIMENTO PER GLI AFFARI DI GIUSTIZIA
A3: Direzione Generale degli Affari Interni
A5: MISURE CAUTELARI PERSONALI (L. 47/2015) - emesse nell'anno 2020 - ITALIA (**)
A7: MISURE CAUTELARI PERSONALI (Libro IV del Codice di Procedura Penale) | B7: art. 281: Divieto espatrio | C7: art. 282: Obbligo presentazione Polizia Giudiz. | D7: art. 282 bis comma 1: Allontanamento dalla casa familiare | E7: art. 282 ter: Divieto di avvicinamento (anche come prescrizione accessoria della m.c. di cui all'art. 282 bis c.1, ai sensi dell'art. 282 bis c.2) | F7: art. 283 comma 1: Divieto di dimora | G7: art. 283 comma 2: Obbligo di dimora | H7: art. 284 Arresti domiciliari: senza braccialetto | I7: art. 284 +275 bis Arresti domiciliari: con braccialetto | J7: art. 285 Custodia cautelare in carcere | K7: art. 286 Custodia in luogo di cura | L7: TOTALE
A8: Totale misure cautelari emesse nell'anno | B8: 60 | C8: 11642 | D8: 3392 | E8: 8053 | F8: 4805 | G8: 6850 | H8: 19331 | I8: 2618 | J8: 24928 | K8: 520 | L8: 82199
A9: MISURE EMESSE NELL'ANNO NEI PROCEDIMENTI DEFINITI NELL'ANNO
A10: Totale misure emesse nell'anno, nei procedimenti definiti nell'anno | B10: 13 | C10: 5471 | D10: 479 | E10: 1502 | F10: 2377 | G10: 2677 | H10: 8899 | I10: 1189 | J10: 8710 | K10: 138 | L10: 31455
A11: Misure emesse nell'anno, nei procedimenti definiti nell'anno, con condanna definitiva e senza sosp. condiz. pena | B11: 3 | C11: 904 | D11: 51 | E11: 144 | F11: 512 | G11: 435 | H11: 1655 | I11: 137 | J11: 1505 | K11: 17 | L11: 5363 | M11: condanna definitiva | N11: =SUM(L11:L14) -> 28586
A12: Misure emesse nell'anno, nei procedimenti definiti nell'anno, con condanna definitiva e con sosp. condiz. pena | B12: 0 | C12: 406 | D12: 55 | E12: 134 | F12: 176 | G12: 222 | H12: 534 | I12: 38 | J12: 344 | K12: 0 | L12: 1909
A13: Misure emesse nell'anno, nei procedimenti definiti nell'anno, con condanna non definitiva e senza sospens. condiz. della pena | B13: 6 | C13: 3037 | D13: 183 | E13: 691 | F13: 1280 | G13: 1447 | H13: 5390 | I13: 866 | J13: 5744 | K13: 31 | L13: 18675 | M13: condanna non definitiva
A14: Misure emesse nell'anno, nei procedimenti definiti nell'anno, con condanna non definitiva e con sospens. condiz. della pena | B14: 1 | C14: 711 | D14: 90 | E14: 191 | F14: 288 | G14: 356 | H14: 571 | I14: 47 | J14: 380 | K14: 4 | L14: 2639
A15: Misure emesse nell'anno, nei procedimenti definiti nell'anno, con assoluzione definitiva | B15: 0 | C15: 74 | D15: 13 | E15: 41 | F15: 25 | G15: 33 | H15: 120 | I15: 7 | J15: 115 | K15: 34 | L15: 462 | M15: assoluzione | N15: =SUM(L15:L16) -> 2207
A16: Misure emesse nell'anno, nei procedimenti definiti nell'anno, con assoluzione non definitiva | B16: 3 | C16: 263 | D16: 44 | E16: 140 | F16: 67 | G16: 153 | H16: 464 | I16: 81 | J16: 490 | K16: 40 | L16: 1745
A17: Misure emesse nell'anno, nei procedimenti definiti nell'anno, con altro tipo di sentenza (definitiva o non definitiva) (*) | B17: 0 | C17: 76 | D17: 43 | E17: 161 | F17: 29 | G17: 31 | H17: 165 | I17: 13 | J17: 132 | K17: 12 | L17: 662 | M17: altro | N17: =L17 -> 662
A18: AVVERTENZA: tutte le righe riportano il numero delle misure cautelari emesse nell'anno, a prescindere dal numero dei procedimenti o provvedimenti che le contengono
A19: (*) la categoria "con altro tipo di sentenza" ricomprende le misure emesse nei procedimenti definiti ex artt. 129 - 425 - 469 - 529 - 531 c.p.p. (restano quindi esclusi i procedimenti definiti per incompetenza)
A20: (**) nella tabella viene omessa la voce relativa all’art. 285 bis c.p.p.: Custodia cautelare in istituto a custodia attenuata per detenute madri, in quanto è risultata numericamente nulla

Sheet ITALIA % TIPO MISURA
A1: MINISTERO DELLA GIUSTIZIA
A2: DIPARTIMENTO PER GLI AFFARI DI GIUSTIZIA
A3: Direzione Generale degli Affari Interni
A4: .
A5: MISURE CAUTELARI PERSONALI (L. 47/2015) - emesse nell'anno 2020 - ITALIA - % PER TIPOLOGIA DI MISURA
A6: .
A7: MISURE CAUTELARI PERSONALI (Libro IV del Codice di Procedura Penale) | B7: art. 281: Divieto espatrio | C7: art. 282: Obbligo presentazione Polizia Giudiz. | D7: art. 282 bis comma 1: Allontanamento dalla casa familiare | E7: art. 282 ter: Divieto di avvicinamento (anche come prescrizione accessoria della m.c. di cui all'art. 282 bis c.1, ai sensi dell'art. 282 bis c.2) | F7: art. 283 comma 1: Divieto di dimora | G7: art. 283 comma 2: Obbligo di dimora | H7: art. 284 Arresti domiciliari: senza braccialetto | I7: art. 284 +275 bis Arresti domiciliari: con braccialetto | J7: art. 285 Custodia cautelare in carcere | K7: art. 286 Custodia in luogo di cura | L7: TOTALE
A8: Totale misure cautelari emesse nell'anno | B8: ='ITALIA (1)'!B8/'ITALIA (1)'!$L8 -> 0.00072993589 | C8: ='ITALIA (1)'!C8/'ITALIA (1)'!$L8 -> 0.14163189 | D8: ='ITALIA (1)'!D8/'ITALIA (1)'!$L8 -> 0.041265709 | E8: ='ITALIA (1)'!E8/'ITALIA (1)'!$L8 -> 0.097969562 | F8: ='ITALIA (1)'!F8/'ITALIA (1)'!$L8 -> 0.058455699 | G8: ='ITALIA (1)'!G8/'ITALIA (1)'!$L8 -> 0.083334347 | H8: ='ITALIA (1)'!H8/'ITALIA (1)'!$L8 -> 0.23517318 | I8: ='ITALIA (1)'!I8/'ITALIA (1)'!$L8 -> 0.031849536 | ... K8: ='ITALIA (1)'!K8/'ITALIA (1)'!$L8 -> 0.006326111 | L8: =SUM(B8:K8) -> 1
A9: MISURE EMESSE NELL'ANNO, IN PROCEDIMENTI ISCRITTI NELL'ANNO E DEFINITI NELL'ANNO
A10: Totale misure emesse nell'anno, in procedimenti iscritti e definiti nell'anno | B10: ='ITALIA (1)'!B10/'ITALIA (1)'!$L10 -> 0.0001558482 | C10: ='ITALIA (1)'!C10/'ITALIA (1)'!$L10 -> 0.17673186 | D10: ='ITALIA (1)'!D10/'ITALIA (1)'!$L10 -> 0.017416037 | E10: ='ITALIA (1)'!E10/'ITALIA (1)'!$L10 -> 0.042507598 | F10: ='ITALIA (1)'!F10/'ITALIA (1)'!$L10 -> 0.082716434 | G10: ='ITALIA (1)'!G10/'ITALIA (1)'!$L10 -> 0.078118912 | H10: ='ITALIA (1)'!H10/'ITALIA (1)'!$L10 -> 0.26821476 | I10: ='ITALIA (1)'!I10/'ITALIA (1)'!$L10 -> 0.030000779 | ... K10: ='ITALIA (1)'!K10/'ITALIA (1)'!$L10 -> 0.0031948882 | L10: =SUM(B10:K10) -> 1
A11: Misure emesse nell'anno, in procedimenti iscritti e definiti nell'anno, con condanna definitiva e senza sosp. condiz. pena | B11: ='ITALIA (1)'!B11/'ITALIA (1)'!$L11 -> 0.00022316447 | C11: ='ITALIA (1)'!C11/'ITALIA (1)'!$L11 -> 0.16826601 | D11: ='ITALIA (1)'!D11/'ITALIA (1)'!$L11 -> 0.010042401 | E11: ='ITALIA (1)'!E11/'ITALIA (1)'!$L11 -> 0.021423789 | F11: ='ITALIA (1)'!F11/'ITALIA (1)'!$L11 -> 0.10533363 | G11: ='ITALIA (1)'!G11/'ITALIA (1)'!$L11 -> 0.074760098 | H11: ='ITALIA (1)'!H11/'ITALIA (1)'!$L11 -> 0.28966748 | I11: ='ITALIA (1)'!I11/'ITALIA (1)'!$L11 -> 0.019638474 | ... K11: ='ITALIA (1)'!K11/'ITALIA (1)'!$L11 -> 0.0029011381 | L11: =SUM(B11:K11) -> 1 | M11: condanna definitiva
A12: Misure emesse nell'anno, in procedimenti iscritti e definiti nell'anno, con condanna definitiva e con sosp. condiz. pena | B12: ='ITALIA (1)'!B12/'ITALIA (1)'!$L12 -> 0 | C12: ='ITALIA (1)'!C12/'ITALIA (1)'!$L12 -> 0.21355353 | D12: ='ITALIA (1)'!D12/'ITALIA (1)'!$L12 -> 0.029612756 | E12: ='ITALIA (1)'!E12/'ITALIA (1)'!$L12 -> 0.060933941 | F12: ='ITALIA (1)'!F12/'ITALIA (1)'!$L12 -> 0.097949886 | G12: ='ITALIA (1)'!G12/'ITALIA (1)'!$L12 -> 0.11446469 | H12: ='ITALIA (1)'!H12/'ITALIA (1)'!$L12 -> 0.28189066 | I12: ='ITALIA (1)'!I12/'ITALIA (1)'!$L12 -> 0.019362187 | ... K12: ='ITALIA (1)'!K12/'ITALIA (1)'!$L12 -> 0 | L12: =SUM(B12:K12) -> 1
A13: Misure emesse nell'anno, in procedimenti iscritti e definiti nell'anno, con condanna non definitiva e senza sospens. condiz. della pena | B13: ='ITALIA (1)'!B13/'ITALIA (1)'!$L13 -> 6.710959e-05 | C13: ='ITALIA (1)'!C13/'ITALIA (1)'!$L13 -> 0.1644185 | D13: ='ITALIA (1)'!D13/'ITALIA (1)'!$L13 -> 0.011207302 | E13: ='ITALIA (1)'!E13/'ITALIA (1)'!$L13 -> 0.032145494 | F13: ='ITALIA (1)'!F13/'ITALIA (1)'!$L13 -> 0.074625864 | G13: ='ITALIA (1)'!G13/'ITALIA (1)'!$L13 -> 0.067445138 | H13: ='ITALIA (1)'!H13/'ITALIA (1)'!$L13 -> 0.27226361 | I13: ='ITALIA (1)'!I13/'ITALIA (1)'!$L13 -> 0.037044494 | ... K13: ='ITALIA (1)'!K13/'ITALIA (1)'!$L13 -> 0.0012750822 | L13: =SUM(B13:K13) -> 1 | M13: condanna non definitiva
A14: Misure emesse nell'anno, in procedimenti iscritti e definiti nell'anno, con condanna non definitiva e con sospens. condiz. della pena | B14: ='ITALIA (1)'!B14/'ITALIA (1)'!$L14 -> 0 | C14: ='ITALIA (1)'!C14/'ITALIA (1)'!$L14 -> 0.27220157 | D14: ='ITALIA (1)'!D14/'ITALIA (1)'!$L14 -> 0.035522511 | E14: ='ITALIA (1)'!E14/'ITALIA (1)'!$L14 -> 0.065262288 | F14: ='ITALIA (1)'!F14/'ITALIA (1)'!$L14 -> 0.11317637 | G14: ='ITALIA (1)'!G14/'ITALIA (1)'!$L14 -> 0.13424205 | H14: ='ITALIA (1)'!H14/'ITALIA (1)'!$L14 -> 0.21437423 | I14: ='ITALIA (1)'!I14/'ITALIA (1)'!$L14 -> 0.017761256 | ... K14: ='ITALIA (1)'!K14/'ITALIA (1)'!$L14 -> 0.0012391574 | L14: =SUM(B14:K14) -> 1
A15: Misure emesse nell'anno, in procedimenti iscritti e definiti nell'anno, con assoluzione definitiva | B15: ='ITALIA (1)'!B15/'ITALIA (1)'!$L15 -> 0 | C15: ='ITALIA (1)'!C15/'ITALIA (1)'!$L15 -> 0.16253444 | D15: ='ITALIA (1)'!D15/'ITALIA (1)'!$L15 -> 0.027548209 | E15: ='ITALIA (1)'!E15/'ITALIA (1)'!$L15 -> 0.079889807 | F15: ='ITALIA (1)'!F15/'ITALIA (1)'!$L15 -> 0.063360882 | G15: ='ITALIA (1)'!G15/'ITALIA (1)'!$L15 -> 0.068870523 | H15: ='ITALIA (1)'!H15/'ITALIA (1)'!$L15 -> 0.26997245 | I15: ='ITALIA (1)'!I15/'ITALIA (1)'!$L15 -> 0.011019284 | ... K15: ='ITALIA (1)'!K15/'ITALIA (1)'!$L15 -> 0.046831956 | L15: =SUM(B15:K15) -> 1 | M15: assoluzione
A16: Misure emesse nell'anno, in procedimenti iscritti e definiti nell'anno, con assoluzione non definitiva | B16: ='ITALIA (1)'!B16/'ITALIA (1)'!$L16 -> 0.0016299919 | C16: ='ITALIA (1)'!C16/'ITALIA (1)'!$L16 -> 0.14506927 | D16: ='ITALIA (1)'!D16/'ITALIA (1)'!$L16 -> 0.035859821 | E16: ='ITALIA (1)'!E16/'ITALIA (1)'!$L16 -> 0.077424613 | F16: ='ITALIA (1)'!F16/'ITALIA (1)'!$L16 -> 0.0399348 | G16: ='ITALIA (1)'!G16/'ITALIA (1)'!$L16 -> 0.074164629 | H16: ='ITALIA (1)'!H16/'ITALIA (1)'!$L16 -> 0.24612877 | I16: ='ITALIA (1)'!I16/'ITALIA (1)'!$L16 -> 0.035859821 | ... K16: ='ITALIA (1)'!K16/'ITALIA (1)'!$L16 -> 0.020374898 | L16: =SUM(B16:K16) -> 1
A17: Misure emesse nell'anno, in procedimenti iscritti e definiti nell'anno, con altro tipo di sentenza (definitiva o non definitiva) (*) | B17: ='ITALIA (1)'!B17/'ITALIA (1)'!$L17 -> 0 | C17: ='ITALIA (1)'!C17/'ITALIA (1)'!$L17 -> 0.11798839 | D17: ='ITALIA (1)'!D17/'ITALIA (1)'!$L17 -> 0.083172147 | E17: ='ITALIA (1)'!E17/'ITALIA (1)'!$L17 -> 0.24564797 | F17: ='ITALIA (1)'!F17/'ITALIA (1)'!$L17 -> 0.040618956 | G17: ='ITALIA (1)'!G17/'ITALIA (1)'!$L17 -> 0.044487427 | H17: ='ITALIA (1)'!H17/'ITALIA (1)'!$L17 -> 0.22243714 | I17: ='ITALIA (1)'!I17/'ITALIA (1)'!$L17 -> 0.0096711799 | ... K17: ='ITALIA (1)'!K17/'ITALIA (1)'!$L17 -> 0.0096711799 | L17: =SUM(B17:K17) -> 1 | M17: altro
A18: MISURE EMESSE NELL'ANNO, IN PROCEDIMENTI ISCRITTI IN ANNI PRECEDENTI E DEFINITI NELL'ANNO
A19: Totale misure emesse nell'anno, in procedimenti iscritti in anni precedenti e definiti nell'anno | B19: ='ITALIA (1)'!B19/'ITALIA (1)'!$L19 -> 0.0015546727 | C19: ='ITALIA (1)'!C19/'ITALIA (1)'!$L19 -> 0.16151321 | D19: ='ITALIA (1)'!D19/'ITALIA (1)'!$L19 -> 0.005527725 | E19: ='ITALIA (1)'!E19/'ITALIA (1)'!$L19 -> 0.070996718 | F19: ='ITALIA (1)'!F19/'ITALIA (1)'!$L19 -> 0.043876317 | G19: ='ITALIA (1)'!G19/'ITALIA (1)'!$L19 -> 0.11608222 | H19: ='ITALIA (1)'!H19/'ITALIA (1)'!$L19 -> 0.34807393 | I19: ='ITALIA (1)'!I19/'ITALIA (1)'!$L19 -> 0.072378649 | ... K19: ='ITALIA (1)'!K19/'ITALIA (1)'!$L19 -> 0.0096735187 | L19: =SUM(B19:K19) -> 1
A20: Misure emesse nell'anno, in procedimenti iscritti in anni precedenti e definiti nell'anno, con condanna definitiva e senza sosp. condiz. pena | B20: ='ITALIA (1)'!B20/'ITALIA (1)'!$L20 -> 0.0022675737 | C20: ='ITALIA (1)'!C20/'ITALIA (1)'!$L20 -> 0.17006803 | D20: ='ITALIA (1)'!D20/'ITALIA (1)'!$L20 -> 0.0068027211 | E20: ='ITALIA (1)'!E20/'ITALIA (1)'!$L20 -> 0.054421769 | F20: ='ITALIA (1)'!F20/'ITALIA (1)'!$L20 -> 0.045351474 | G20: ='ITALIA (1)'!G20/'ITALIA (1)'!$L20 -> 0.11337868 | H20: ='ITALIA (1)'!H20/'ITALIA (1)'!$L20 -> 0.4047619 | I20: ='ITALIA (1)'!I20/'ITALIA (1)'!$L20 -> 0.055555556 | ... K20: ='ITALIA (1)'!K20/'ITALIA (1)'!$L20 -> 0.0045351474 | L20: =SUM(B20:K20) -> 1 | M20: condanna definitiva
A21: Misure emesse nell'anno, in procedimenti iscritti in anni precedenti e definiti nell'anno, con condanna definitiva e con sosp. condiz. pena | B21: ='ITALIA (1)'!B21/'ITALIA (1)'!$L21 -> 0 | C21: ='ITALIA (1)'!C21/'ITALIA (1)'!$L21 -> 0.20261438 | D21: ='ITALIA (1)'!D21/'ITALIA (1)'!$L21 -> 0.019607843 | E21: ='ITALIA (1)'!E21/'ITALIA (1)'!$L21 -> 0.17647059 | F21: ='ITALIA (1)'!F21/'ITALIA (1)'!$L21 -> 0.026143791 | G21: ='ITALIA (1)'!G21/'ITALIA (1)'!$L21 -> 0.1372549 | H21: ='ITALIA (1)'!H21/'ITALIA (1)'!$L21 -> 0.25490196 | I21: ='ITALIA (1)'!I21/'ITALIA (1)'!$L21 -> 0.026143791 | ... K21: ='ITALIA (1)'!K21/'ITALIA (1)'!$L21 -> 0 | L21: =SUM(B21:K21) -> 1
A22: Misure emesse nell'anno, in procedimenti iscritti in anni precedenti e definiti nell'anno, con condanna non definitiva e senza sospens. condiz. della pena | B22: ='ITALIA (1)'!B22/'ITALIA (1)'!$L22 -> 0.0013248543 | C22: ='ITALIA (1)'!C22/'ITALIA (1)'!$L22 -> 0.15553789 | D22: ='ITALIA (1)'!D22/'ITALIA (1)'!$L22 -> 0.0042395337 | E22: ='ITALIA (1)'!E22/'ITALIA (1)'!$L22 -> 0.056173821 | F22: ='ITALIA (1)'!F22/'ITALIA (1)'!$L22 -> 0.044515103 | G22: ='ITALIA (1)'!G22/'ITALIA (1)'!$L22 -> 0.11711712 | H22: ='ITALIA (1)'!H22/'ITALIA (1)'!$L22 -> 0.35320615 | I22: ='ITALIA (1)'!I22/'ITALIA (1)'!$L22 -> 0.083200848 | ... K22: ='ITALIA (1)'!K22/'ITALIA (1)'!$L22 -> 0.0031796502 | L22: =SUM(B22:K22) -> 1 | M22: condanna non definitiva
A23: Misure emesse nell'anno, in procedimenti iscritti in anni precedenti e definiti nell'anno, con condanna non definitiva e con sospens. condiz. della pena | B23: ='ITALIA (1)'!B23/'ITALIA (1)'!$L23 -> 0.004587156 | C23: ='ITALIA (1)'!C23/'ITALIA (1)'!$L23 -> 0.23853211 | D23: ='ITALIA (1)'!D23/'ITALIA (1)'!$L23 -> 0.018348624 | E23: ='ITALIA (1)'!E23/'ITALIA (1)'!$L23 -> 0.15137615 | F23: ='ITALIA (1)'!F23/'ITALIA (1)'!$L23 -> 0.064220183 | G23: ='ITALIA (1)'!G23/'ITALIA (1)'!$L23 -> 0.14220183 | H23: ='ITALIA (1)'!H23/'ITALIA (1)'!$L23 -> 0.23853211 | I23: ='ITALIA (1)'!I23/'ITALIA (1)'!$L23 -> 0.018348624 | ... K23: ='ITALIA (1)'!K23/'ITALIA (1)'!$L23 -> 0.004587156 | L23: =SUM(B23:K23) -> 1
A24: Misure emesse nell'anno, in procedimenti iscritti in anni precedenti e definiti nell'anno, con assoluzione definitiva | B24: ='ITALIA (1)'!B24/'ITALIA (1)'!$L24 -> 0 | C24: ='ITALIA (1)'!C24/'ITALIA (1)'!$L24 -> 0.15151515 | D24: ='ITALIA (1)'!D24/'ITALIA (1)'!$L24 -> 0.03030303 | E24: ='ITALIA (1)'!E24/'ITALIA (1)'!$L24 -> 0.12121212 | F24: ='ITALIA (1)'!F24/'ITALIA (1)'!$L24 -> 0.02020202 | G24: ='ITALIA (1)'!G24/'ITALIA (1)'!$L24 -> 0.080808081 | H24: ='ITALIA (1)'!H24/'ITALIA (1)'!$L24 -> 0.22222222 | I24: ='ITALIA (1)'!I24/'ITALIA (1)'!$L24 -> 0.03030303 | ... K24: ='ITALIA (1)'!K24/'ITALIA (1)'!$L24 -> 0.17171717 | L24: =SUM(B24:K24) -> 1 | M24: assoluzione
A25: Misure emesse nell'anno, in procedimenti iscritti in anni precedenti e definiti nell'anno, con assoluzione non definitiva | B25: ='ITALIA (1)'!B25/'ITALIA (1)'!$L25 -> 0.0019305019 | C25: ='ITALIA (1)'!C25/'ITALIA (1)'!$L25 -> 0.16409266 | D25: ='ITALIA (1)'!D25/'ITALIA (1)'!$L25 -> 0 | E25: ='ITALIA (1)'!E25/'ITALIA (1)'!$L25 -> 0.086872587 | F25: ='ITALIA (1)'!F25/'ITALIA (1)'!$L25 -> 0.034749035 | G25: ='ITALIA (1)'!G25/'ITALIA (1)'!$L25 -> 0.11969112 | H25: ='ITALIA (1)'!H25/'ITALIA (1)'!$L25 -> 0.31274131 | I25: ='ITALIA (1)'!I25/'ITALIA (1)'!$L25 -> 0.071428571 | ... K25: ='ITALIA (1)'!K25/'ITALIA (1)'!$L25 -> 0.028957529 | L25: =SUM(B25:K25) -> 1
A26: Misure emesse nell'anno, in procedimenti iscritti in anni precedenti e definiti nell'anno, con altro tipo di sentenza (definitiva o non definitiva) (*) | B26: ='ITALIA (1)'!B26/'ITALIA (1)'!$L26 -> 0 | C26: ='ITALIA (1)'!C26/'ITALIA (1)'!$L26 -> 0.10344828 | D26: ='ITALIA (1)'!D26/'ITALIA (1)'!$L26 -> 0 | E26: ='ITALIA (1)'!E26/'ITALIA (1)'!$L26 -> 0.23448276 | F26: ='ITALIA (1)'!F26/'ITALIA (1)'!$L26 -> 0.055172414 | G26: ='ITALIA (1)'!G26/'ITALIA (1)'!$L26 -> 0.055172414 | H26: ='ITALIA (1)'!H26/'ITALIA (1)'!$L26 -> 0.34482759 | I26: ='ITALIA (1)'!I26/'ITALIA (1)'!$L26 -> 0.055172414 | ... K26: ='ITALIA (1)'!K26/'ITALIA (1)'!$L26 -> 0.048275862 | L26: =SUM(B26:K26) -> 1 | M26: altro
A27: AVVERTENZA: tutte le righe riportano il numero delle misure cautelari emesse nell'anno, a prescindere dal numero dei procedimenti o provvedimenti che le contengono
A28: (*) la categoria "con altro tipo di sentenza" ricomprende le misure emesse nei procedimenti definiti ex artt. 129 - 425 - 469 - 529 - 531 c.p.p. (restano quindi esclusi i procedimenti definiti per incompetenza)

Sheet ITALIA % TIPO SENTENZA
A1: MINISTERO DELLA GIUSTIZIA
A2: DIPARTIMENTO PER GLI AFFARI DI GIUSTIZIA
A3: Direzione Generale degli Affari Interni
A4: .
A5: MISURE CAUTELARI PERSONALI (L. 47/2015) - emesse nell'anno 2020 - ITALIA - % PER TIPOLOGIA DI SENTENZA
A6: .
A7: MISURE CAUTELARI PERSONALI (Libro IV del Codice di Procedura Penale) | B7: art. 281: Divieto espatrio | C7: art. 282: Obbligo presentazione Polizia Giudiz. | D7: art. 282 bis comma 1: Allontanamento dalla casa familiare | E7: art. 282 ter: Divieto di avvicinamento (anche come prescrizione accessoria della m.c. di cui all'art. 282 bis c.1, ai sensi dell'art. 282 bis c.2) | F7: art. 283 comma 1: Divieto di dimora | G7: art. 283 comma 2: Obbligo di dimora | H7: art. 284 Arresti domiciliari: senza braccialetto | I7: art. 284 +275 bis Arresti domiciliari: con braccialetto | J7: art. 285 Custodia cautelare in carcere | K7: art. 286 Custodia in luogo di cura | L7: TOTALE
A8: Totale misure cautelari emesse nell'anno | B8: ='ITALIA (1)'!B8 -> 60 | C8: ='ITALIA (1)'!C8 -> 11642 | D8: ='ITALIA (1)'!D8 -> 3392 | E8: ='ITALIA (1)'!E8 -> 8053 | F8: ='ITALIA (1)'!F8 -> 4805 | G8: ='ITALIA (1)'!G8 -> 6850 | H8: ='ITALIA (1)'!H8 -> 19331 | I8: ='ITALIA (1)'!I8 -> 2618 | ... K8: ='ITALIA (1)'!K8 -> 520 | L8: =SUM(B8:K8) -> 82199
A9: MISURE EMESSE NELL'ANNO NEI PROCEDIMENTI DEFINITI NELL'ANNO
A10: Totale misure emesse nell'anno, nei procedimenti definiti nell'anno | B10: =SUM(B11:B17) -> 1 | C10: =SUM(C11:C17) -> 1 | D10: =SUM(D11:D17) -> 1 | E10: =SUM(E11:E17) -> 1 | F10: =SUM(F11:F17) -> 1 | G10: =SUM(G11:G17) -> 1 | H10: =SUM(H11:H17) -> 1 | I10: =SUM(I11:I17) -> 1 | ... L10: =SUM(L11:L17) -> 1
A11: Misure emesse nell'anno, in procedimenti iscritti e definiti nell'anno, con condanna definitiva e senza sosp. condiz. pena | B11: ='ITALIA (2)'!B11/'ITALIA (2)'!B$10 -> 0.23076923 | C11: ='ITALIA (2)'!C11/'ITALIA (2)'!C$10 -> 0.16523487 | D11: ='ITALIA (2)'!D11/'ITALIA (2)'!D$10 -> 0.10647182 | E11: ='ITALIA (2)'!E11/'ITALIA (2)'!E$10 -> 0.09587217 | F11: ='ITALIA (2)'!F11/'ITALIA (2)'!F$10 -> 0.21539756 | G11: ='ITALIA (2)'!G11/'ITALIA (2)'!G$10 -> 0.16249533 | H11: ='ITALIA (2)'!H11/'ITALIA (2)'!H$10 -> 0.18597595 | I11: ='ITALIA (2)'!I11/'ITALIA (2)'!I$10 -> 0.11522288 | ... L11: ='ITALIA (2)'!L11/'ITALIA (2)'!L$10 -> 0.17049754 | M11: condanna definitiva | N11: =SUM(L11:L14) -> 0.90879034
A12: Misure emesse nell'anno, in procedimenti iscritti e definiti nell'anno, con condanna definitiva e con sosp. condiz. pena | B12: ='ITALIA (2)'!B12/'ITALIA (2)'!B$10 -> 0 | C12: ='ITALIA (2)'!C12/'ITALIA (2)'!C$10 -> 0.074209468 | D12: ='ITALIA (2)'!D12/'ITALIA (2)'!D$10 -> 0.11482255 | E12: ='ITALIA (2)'!E12/'ITALIA (2)'!E$10 -> 0.089214381 | F12: ='ITALIA (2)'!F12/'ITALIA (2)'!F$10 -> 0.074042911 | G12: ='ITALIA (2)'!G12/'ITALIA (2)'!G$10 -> 0.082928651 | H12: ='ITALIA (2)'!H12/'ITALIA (2)'!H$10 -> 0.060006742 | I12: ='ITALIA (2)'!I12/'ITALIA (2)'!I$10 -> 0.03195963 | ... L12: ='ITALIA (2)'!L12/'ITALIA (2)'!L$10 -> 0.060689874
A13: Misure emesse nell'anno, in procedimenti iscritti e definiti nell'anno, con condanna non definitiva e senza sospens. condiz. della pena | B13: ='ITALIA (2)'!B13/'ITALIA (2)'!B$10 -> 0.46153846 | C13: ='ITALIA (2)'!C13/'ITALIA (2)'!C$10 -> 0.55510876 | D13: ='ITALIA (2)'!D13/'ITALIA (2)'!D$10 -> 0.38204593 | E13: ='ITALIA (2)'!E13/'ITALIA (2)'!E$10 -> 0.46005326 | F13: ='ITALIA (2)'!F13/'ITALIA (2)'!F$10 -> 0.5384939 | G13: ='ITALIA (2)'!G13/'ITALIA (2)'!G$10 -> 0.54053044 | H13: ='ITALIA (2)'!H13/'ITALIA (2)'!H$10 -> 0.60568603 | I13: ='ITALIA (2)'!I13/'ITALIA (2)'!I$10 -> 0.72834315 | ... L13: ='ITALIA (2)'!L13/'ITALIA (2)'!L$10 -> 0.59370529 | M13: condanna non definitiva
A14: Misure emesse nell'anno, in procedimenti iscritti e definiti nell'anno, con condanna non definitiva e con sospens. condiz. della pena | B14: ='ITALIA (2)'!B14/'ITALIA (2)'!B$10 -> 0.076923077 | C14: ='ITALIA (2)'!C14/'ITALIA (2)'!C$10 -> 0.12995796 | D14: ='ITALIA (2)'!D14/'ITALIA (2)'!D$10 -> 0.18789144 | E14: ='ITALIA (2)'!E14/'ITALIA (2)'!E$10 -> 0.12716378 | F14: ='ITALIA (2)'!F14/'ITALIA (2)'!F$10 -> 0.12116113 | G14: ='ITALIA (2)'!G14/'ITALIA (2)'!G$10 -> 0.13298468 | H14: ='ITALIA (2)'!H14/'ITALIA (2)'!H$10 -> 0.064164513 | I14: ='ITALIA (2)'!I14/'ITALIA (2)'!I$10 -> 0.039529016 | ... L14: ='ITALIA (2)'!L14/'ITALIA (2)'!L$10 -> 0.083897632
A15: Misure emesse nell'anno, in procedimenti iscritti e definiti nell'anno, con assoluzione definitiva | B15: ='ITALIA (2)'!B15/'ITALIA (2)'!B$10 -> 0 | C15: ='ITALIA (2)'!C15/'ITALIA (2)'!C$10 -> 0.013525864 | D15: ='ITALIA (2)'!D15/'ITALIA (2)'!D$10 -> 0.027139875 | E15: ='ITALIA (2)'!E15/'ITALIA (2)'!E$10 -> 0.027296937 | F15: ='ITALIA (2)'!F15/'ITALIA (2)'!F$10 -> 0.010517459 | G15: ='ITALIA (2)'!G15/'ITALIA (2)'!G$10 -> 0.012327232 | H15: ='ITALIA (2)'!H15/'ITALIA (2)'!H$10 -> 0.013484661 | I15: ='ITALIA (2)'!I15/'ITALIA (2)'!I$10 -> 0.0058873003 | ... L15: ='ITALIA (2)'!L15/'ITALIA (2)'!L$10 -> 0.014687649 | M15: assoluzione | N15: =SUM(L15:L16) -> 0.070163726
A16: Misure emesse nell'anno, in procedimenti iscritti e definiti nell'anno, con assoluzione non definitiva | B16: ='ITALIA (2)'!B16/'ITALIA (2)'!B$10 -> 0.23076923 | C16: ='ITALIA (2)'!C16/'ITALIA (2)'!C$10 -> 0.048071651 | D16: ='ITALIA (2)'!D16/'ITALIA (2)'!D$10 -> 0.091858038 | E16: ='ITALIA (2)'!E16/'ITALIA (2)'!E$10 -> 0.093209055 | F16: ='ITALIA (2)'!F16/'ITALIA (2)'!F$10 -> 0.02818679 | G16: ='ITALIA (2)'!G16/'ITALIA (2)'!G$10 -> 0.05715353 | H16: ='ITALIA (2)'!H16/'ITALIA (2)'!H$10 -> 0.05214069 | I16: ='ITALIA (2)'!I16/'ITALIA (2)'!I$10 -> 0.068124474 | ... L16: ='ITALIA (2)'!L16/'ITALIA (2)'!L$10 -> 0.055476077
A17: Misure emesse nell'anno, in procedimenti iscritti e definiti nell'anno, con altro tipo di sentenza (definitiva o non definitiva) (*) | B17: ='ITALIA (2)'!B17/'ITALIA (2)'!B$10 -> 0 | C17: ='ITALIA (2)'!C17/'ITALIA (2)'!C$10 -> 0.013891428 | D17: ='ITALIA (2)'!D17/'ITALIA (2)'!D$10 -> 0.089770355 | E17: ='ITALIA (2)'!E17/'ITALIA (2)'!E$10 -> 0.10719041 | F17: ='ITALIA (2)'!F17/'ITALIA (2)'!F$10 -> 0.012200252 | G17: ='ITALIA (2)'!G17/'ITALIA (2)'!G$10 -> 0.011580127 | H17: ='ITALIA (2)'!H17/'ITALIA (2)'!H$10 -> 0.018541409 | I17: ='ITALIA (2)'!I17/'ITALIA (2)'!I$10 -> 0.010933558 | ... L17: ='ITALIA (2)'!L17/'ITALIA (2)'!L$10 -> 0.021045939 | M17: altro | N17: =L17 -> 0.021045939
A18: AVVERTENZA: tutte le righe riportano il numero delle misure cautelari emesse nell'anno, a prescindere dal numero dei procedimenti o provvedimenti che le contengono
A19: (*) le due categorie "con altro tipo di sentenza" ricomprendono le misure emesse nei procedimenti definiti ex artt. 129 - 425 - 469 - 529 - 531 c.p.p. (restano quindi esclusi i procedimenti definiti per incompetenza)

Sheet -----

Sheet ITALIA GIP
A1: MINISTERO DELLA GIUSTIZIA
A2: DIPARTIMENTO PER GLI AFFARI DI GIUSTIZIA
A3: Direzione Generale degli Affari Interni
A5: MISURE CAUTELARI PERSONALI (L. 47/2015) - emesse nell'anno 2020 - ITALIA: UFFICI GIP
A7: MISURE CAUTELARI PERSONALI (Libro IV del Codice di Procedura Penale) | B7: art. 281: Divieto espatrio | C7: art. 282: Obbligo presentazione Polizia Giudiz. | D7: art. 282 bis comma 1: Allontanamento dalla casa familiare | E7: art. 282 ter: Divieto di avvicinamento (anche come prescrizione accessoria della m.c. di cui all'art. 282 bis c.1, ai sensi dell'art. 282 bis c.2) | F7: art. 283 comma 1: Divieto di dimora | G7: art. 283 comma 2: Obbligo di dimora | H7: art. 284 Arresti domiciliari: senza braccialetto | I7: art. 284 +275 bis Arresti domiciliari: con braccialetto | J7: art. 285 Custodia cautelare in carcere | K7: art. 286 Custodia in luogo di cura | L7: TOTALE
A8: Totale misure cautelari emesse nell'anno | B8: 50 | C8: 5798 | D8: 3173 | E8: 7326 | F8: 2269 | G8: 4491 | H8: 14574 | I8: 2182 | J8: 21191 | K8: 460 | L8: 61514
A9: MISURE EMESSE NELL'ANNO, IN PROCEDIMENTI ISCRITTI NELL'ANNO E DEFINITI NELL'ANNO
A10: Totale misure emesse nell'anno, in procedimenti iscritti e definiti nell'anno | B10: 3 | C10: 980 | D10: 381 | E10: 865 | F10: 310 | G10: 745 | H10: 3467 | I10: 477 | J10: 4798 | K10: 48 | L10: 12074
A11: Misure emesse nell'anno, in procedimenti iscritti e definiti nell'anno, con condanna definitiva e senza sosp. condiz. pena | B11: 1 | C11: 157 | D11: 41 | E11: 75 | F11: 44 | G11: 130 | H11: 571 | I11: 59 | J11: 687 | K11: 8 | L11: 1773 | M11: condanna definitiva
A12: Misure emesse nell'anno, in procedimenti iscritti e definiti nell'anno, con condanna definitiva e con sosp. condiz. pena | B12: 0 | C12: 138 | D12: 49 | E12: 99 | F12: 36 | G12: 107 | H12: 268 | I12: 29 | J12: 209 | K12: 0 | L12: 935
A13: Misure emesse nell'anno, in procedimenti iscritti e definiti nell'anno, con condanna non definitiva e senza sospens. condiz. della pena | B13: 1 | C13: 452 | D13: 135 | E13: 371 | F13: 147 | G13: 341 | H13: 2015 | I13: 326 | J13: 3228 | K13: 10 | L13: 7026 | M13: condanna non definitiva
A14: Misure emesse nell'anno, in procedimenti iscritti e definiti nell'anno, con condanna non definitiva e con sospens. condiz. della pena | B14: 0 | C14: 156 | D14: 76 | E14: 137 | F14: 66 | G14: 126 | H14: 324 | I14: 36 | J14: 260 | K14: 3 | L14: 1184
A15: Misure emesse nell'anno, in procedimenti iscritti e definiti nell'anno, con assoluzione definitiva | B15: 0 | C15: 4 | D15: 8 | E15: 16 | F15: 6 | G15: 4 | H15: 45 | I15: 3 | J15: 52 | K15: 9 | L15: 147 | M15: assoluzione
A16: Misure emesse nell'anno, in procedimenti iscritti e definiti nell'anno, con assoluzione non definitiva | B16: 1 | C16: 49 | D16: 39 | E16: 64 | F16: 4 | G16: 27 | H16: 167 | I16: 21 | J16: 276 | K16: 14 | L16: 662
A17: Misure emesse nell'anno, in procedimenti iscritti e definiti nell'anno, con altro tipo di sentenza (definitiva o non definitiva) (*) | B17: 0 | C17: 24 | D17: 33 | E17: 103 | F17: 7 | G17: 10 | H17: 77 | I17: 3 | J17: 86 | K17: 4 | L17: 347 | M17: altro
A18: MISURE EMESSE NELL'ANNO, IN PROCEDIMENTI ISCRITTI IN ANNI PRECEDENTI E DEFINITI NELL'ANNO
A19: Totale misure emesse nell'anno, in procedimenti iscritti in anni precedenti e definiti nell'anno | B19: 4 | C19: 654 | D19: 29 | E19: 277 | F19: 155 | G19: 495 | H19: 1619 | I19: 358 | J19: 733 | K19: 43 | L19: 4367
A20: Misure emesse nell'anno, in procedimenti iscritti in anni precedenti e definiti nell'anno, con condanna definitiva e senza sosp. condiz. pena | B20: 1 | C20: 110 | D20: 6 | E20: 37 | F20: 25 | G20: 84 | H20: 296 | I20: 46 | J20: 94 | K20: 4 | L20: 703 | M20: condanna definitiva
A21: Misure emesse nell'anno, in procedimenti iscritti in anni precedenti e definiti nell'anno, con condanna definitiva e con sosp. condiz. pena | B21: 0 | C21: 22 | D21: 3 | E21: 26 | F21: 3 | G21: 19 | H21: 34 | I21: 3 | J21: 18 | K21: 0 | L21: 128
A22: Misure emesse nell'anno, in procedimenti iscritti in anni precedenti e definiti nell'anno, con condanna non definitiva e senza sospens. condiz. della pena | B22: 2 | C22: 420 | D22: 13 | E22: 137 | F22: 103 | G22: 325 | H22: 1074 | I22: 269 | J22: 514 | K22: 7 | L22: 2864 | M22: condanna non definitiva
A23: Misure emesse nell'anno, in procedimenti iscritti in anni precedenti e definiti nell'anno, con condanna non definitiva e con sospens. condiz. della pena | B23: 1 | C23: 33 | D23: 4 | E23: 23 | F23: 7 | G23: 21 | H23: 42 | I23: 3 | J23: 20 | K23: 1 | L23: 155
A24: Misure emesse nell'anno, in procedimenti iscritti in anni precedenti e definiti nell'anno, con assoluzione definitiva | B24: 0 | C24: 11 | D24: 3 | E24: 9 | F24: 1 | G24: 2 | H24: 15 | I24: 3 | J24: 11 | K24: 13 | L24: 68 | M24: assoluzione
A25: Misure emesse nell'anno, in procedimenti iscritti in anni precedenti e definiti nell'anno, con assoluzione non definitiva | B25: 0 | C25: 51 | D25: 0 | E25: 21 | F25: 12 | G25: 40 | H25: 118 | I25: 27 | J25: 65 | K25: 12 | L25: 346
A26: Misure emesse nell'anno, in procedimenti iscritti in anni precedenti e definiti nell'anno, con altro tipo di sentenza (definitiva o non definitiva) (*) | B26: 0 | C26: 7 | D26: 0 | E26: 24 | F26: 4 | G26: 4 | H26: 40 | I26: 7 | J26: 11 | K26: 6 | L26: 103 | M26: altro
A27: AVVERTENZA: tutte le righe riportano il numero delle misure cautelari emesse nell'anno, a prescindere dal numero dei procedimenti o provvedimenti che le contengono
A28: (*) la categoria "con altro tipo di sentenza" ricomprende le misure emesse nei procedimenti definiti ex artt. 129 - 425 - 469 - 529 - 531 c.p.p. (restano quindi esclusi i procedimenti definiti per incompetenza)

Sheet ITALIA GIP % TIPO MISURA
A1: MINISTERO DELLA GIUSTIZIA
A2: DIPARTIMENTO PER GLI AFFARI DI GIUSTIZIA
A3: Direzione Generale degli Affari Interni
A4: .
A5: MISURE CAUTELARI PERSONALI (L. 47/2015) - emesse nell'anno 2020 - ITALIA: UFFICI GIP: % PER TIPOLOGIA DI MISURA
A6: .
A7: MISURE CAUTELARI PERSONALI (Libro IV del Codice di Procedura Penale) | B7: art. 281: Divieto espatrio | C7: art. 282: Obbligo presentazione Polizia Giudiz. | D7: art. 282 bis comma 1: Allontanamento dalla casa familiare | E7: art. 282 ter: Divieto di avvicinamento (anche come prescrizione accessoria della m.c. di cui all'art. 282 bis c.1, ai sensi dell'art. 282 bis c.2) | F7: art. 283 comma 1: Divieto di dimora | G7: art. 283 comma 2: Obbligo di dimora | H7: art. 284 Arresti domiciliari: senza braccialetto | I7: art. 284 +275 bis Arresti domiciliari: con braccialetto | J7: art. 285 Custodia cautelare in carcere | K7: art. 286 Custodia in luogo di cura | L7: TOTALE
A8: Totale misure cautelari emesse nell'anno | B8: ='ITALIA GIP'!B8/'ITALIA GIP'!$L8 -> 0.0008128231 | C8: ='ITALIA GIP'!C8/'ITALIA GIP'!$L8 -> 0.094254966 | D8: ='ITALIA GIP'!D8/'ITALIA GIP'!$L8 -> 0.051581754 | E8: ='ITALIA GIP'!E8/'ITALIA GIP'!$L8 -> 0.11909484 | F8: ='ITALIA GIP'!F8/'ITALIA GIP'!$L8 -> 0.036885912 | G8: ='ITALIA GIP'!G8/'ITALIA GIP'!$L8 -> 0.073007771 | H8: ='ITALIA GIP'!H8/'ITALIA GIP'!$L8 -> 0.23692168 | I8: ='ITALIA GIP'!I8/'ITALIA GIP'!$L8 -> 0.0354716 | ... K8: ='ITALIA GIP'!K8/'ITALIA GIP'!$L8 -> 0.0074779725 | L8: =SUM(B8:K8) -> 1
A9: MISURE EMESSE NELL'ANNO, IN PROCEDIMENTI ISCRITTI NELL'ANNO E DEFINITI NELL'ANNO
A10: Totale misure emesse nell'anno, in procedimenti iscritti e definiti nell'anno | B10: ='ITALIA GIP'!B10/'ITALIA GIP'!$L10 -> 0.00024846778 | C10: ='ITALIA GIP'!C10/'ITALIA GIP'!$L10 -> 0.081166142 | D10: ='ITALIA GIP'!D10/'ITALIA GIP'!$L10 -> 0.031555408 | E10: ='ITALIA GIP'!E10/'ITALIA GIP'!$L10 -> 0.071641544 | F10: ='ITALIA GIP'!F10/'ITALIA GIP'!$L10 -> 0.025675004 | G10: ='ITALIA GIP'!G10/'ITALIA GIP'!$L10 -> 0.061702833 | H10: ='ITALIA GIP'!H10/'ITALIA GIP'!$L10 -> 0.28714593 | I10: ='ITALIA GIP'!I10/'ITALIA GIP'!$L10 -> 0.039506377 | ... K10: ='ITALIA GIP'!K10/'ITALIA GIP'!$L10 -> 0.0039754845 | L10: =SUM(B10:K10) -> 1
A11: Misure emesse nell'anno, in procedimenti iscritti e definiti nell'anno, con condanna definitiva e senza sosp. condiz. pena | B11: ='ITALIA GIP'!B11/'ITALIA GIP'!$L11 -> 0.00056401579 | C11: ='ITALIA GIP'!C11/'ITALIA GIP'!$L11 -> 0.088550479 | D11: ='ITALIA GIP'!D11/'ITALIA GIP'!$L11 -> 0.023124647 | E11: ='ITALIA GIP'!E11/'ITALIA GIP'!$L11 -> 0.042301184 | F11: ='ITALIA GIP'!F11/'ITALIA GIP'!$L11 -> 0.024816695 | G11: ='ITALIA GIP'!G11/'ITALIA GIP'!$L11 -> 0.073322053 | H11: ='ITALIA GIP'!H11/'ITALIA GIP'!$L11 -> 0.32205302 | I11: ='ITALIA GIP'!I11/'ITALIA GIP'!$L11 -> 0.033276932 | ... K11: ='ITALIA GIP'!K11/'ITALIA GIP'!$L11 -> 0.0045121263 | L11: =SUM(B11:K11) -> 1 | M11: condanna definitiva
A12: Misure emesse nell'anno, in procedimenti iscritti e definiti nell'anno, con condanna definitiva e con sosp. condiz. pena | B12: ='ITALIA GIP'!B12/'ITALIA GIP'!$L12 -> 0 | C12: ='ITALIA GIP'!C12/'ITALIA GIP'!$L12 -> 0.14759358 | D12: ='ITALIA GIP'!D12/'ITALIA GIP'!$L12 -> 0.052406417 | E12: ='ITALIA GIP'!E12/'ITALIA GIP'!$L12 -> 0.10588235 | F12: ='ITALIA GIP'!F12/'ITALIA GIP'!$L12 -> 0.038502674 | G12: ='ITALIA GIP'!G12/'ITALIA GIP'!$L12 -> 0.1144385 | H12: ='ITALIA GIP'!H12/'ITALIA GIP'!$L12 -> 0.28663102 | I12: ='ITALIA GIP'!I12/'ITALIA GIP'!$L12 -> 0.031016043 | ... K12: ='ITALIA GIP'!K12/'ITALIA GIP'!$L12 -> 0 | L12: =SUM(B12:K12) -> 1
A13: Misure emesse nell'anno, in procedimenti iscritti e definiti nell'anno, con condanna non definitiva e senza sospens. condiz. della pena | B13: ='ITALIA GIP'!B13/'ITALIA GIP'!$L13 -> 0.00014232849 | C13: ='ITALIA GIP'!C13/'ITALIA GIP'!$L13 -> 0.064332479 | D13: ='ITALIA GIP'!D13/'ITALIA GIP'!$L13 -> 0.019214347 | E13: ='ITALIA GIP'!E13/'ITALIA GIP'!$L13 -> 0.052803871 | F13: ='ITALIA GIP'!F13/'ITALIA GIP'!$L13 -> 0.020922289 | G13: ='ITALIA GIP'!G13/'ITALIA GIP'!$L13 -> 0.048534017 | H13: ='ITALIA GIP'!H13/'ITALIA GIP'!$L13 -> 0.28679192 | I13: ='ITALIA GIP'!I13/'ITALIA GIP'!$L13 -> 0.046399089 | ... K13: ='ITALIA GIP'!K13/'ITALIA GIP'!$L13 -> 0.0014232849 | L13: =SUM(B13:K13) -> 1 | M13: condanna non definitiva
A14: Misure emesse nell'anno, in procedimenti iscritti e definiti nell'anno, con condanna non definitiva e con sospens. condiz. della pena | B14: ='ITALIA GIP'!B14/'ITALIA GIP'!$L14 -> 0 | C14: ='ITALIA GIP'!C14/'ITALIA GIP'!$L14 -> 0.13175676 | D14: ='ITALIA GIP'!D14/'ITALIA GIP'!$L14 -> 0.064189189 | E14: ='ITALIA GIP'!E14/'ITALIA GIP'!$L14 -> 0.11570946 | F14: ='ITALIA GIP'!F14/'ITALIA GIP'!$L14 -> 0.055743243 | G14: ='ITALIA GIP'!G14/'ITALIA GIP'!$L14 -> 0.10641892 | H14: ='ITALIA GIP'!H14/'ITALIA GIP'!$L14 -> 0.27364865 | I14: ='ITALIA GIP'!I14/'ITALIA GIP'!$L14 -> 0.030405405 | ... K14: ='ITALIA GIP'!K14/'ITALIA GIP'!$L14 -> 0.0025337838 | L14: =SUM(B14:K14) -> 1
A15: Misure emesse nell'anno, in procedimenti iscritti e definiti nell'anno, con assoluzione definitiva | B15: ='ITALIA GIP'!B15/'ITALIA GIP'!$L15 -> 0 | C15: ='ITALIA GIP'!C15/'ITALIA GIP'!$L15 -> 0.027210884 | D15: ='ITALIA GIP'!D15/'ITALIA GIP'!$L15 -> 0.054421769 | E15: ='ITALIA GIP'!E15/'ITALIA GIP'!$L15 -> 0.10884354 | F15: ='ITALIA GIP'!F15/'ITALIA GIP'!$L15 -> 0.040816327 | G15: ='ITALIA GIP'!G15/'ITALIA GIP'!$L15 -> 0.027210884 | H15: ='ITALIA GIP'!H15/'ITALIA GIP'!$L15 -> 0.30612245 | I15: ='ITALIA GIP'!I15/'ITALIA GIP'!$L15 -> 0.020408163 | ... K15: ='ITALIA GIP'!K15/'ITALIA GIP'!$L15 -> 0.06122449 | L15: =SUM(B15:K15) -> 1 | M15: assoluzione
A16: Misure emesse nell'anno, in procedimenti iscritti e definiti nell'anno, con assoluzione non definitiva | B16: ='ITALIA GIP'!B16/'ITALIA GIP'!$L16 -> 0.001510574 | C16: ='ITALIA GIP'!C16/'ITALIA GIP'!$L16 -> 0.074018127 | D16: ='ITALIA GIP'!D16/'ITALIA GIP'!$L16 -> 0.058912387 | E16: ='ITALIA GIP'!E16/'ITALIA GIP'!$L16 -> 0.096676737 | F16: ='ITALIA GIP'!F16/'ITALIA GIP'!$L16 -> 0.0060422961 | G16: ='ITALIA GIP'!G16/'ITALIA GIP'!$L16 -> 0.040785498 | H16: ='ITALIA GIP'!H16/'ITALIA GIP'!$L16 -> 0.25226586 | I16: ='ITALIA GIP'!I16/'ITALIA GIP'!$L16 -> 0.031722054 | ... K16: ='ITALIA GIP'!K16/'ITALIA GIP'!$L16 -> 0.021148036 | L16: =SUM(B16:K16) -> 1
A17: Misure emesse nell'anno, in procedimenti iscritti e definiti nell'anno, con altro tipo di sentenza (definitiva o non definitiva) (*) | B17: ='ITALIA GIP'!B17/'ITALIA GIP'!$L17 -> 0 | C17: ='ITALIA GIP'!C17/'ITALIA GIP'!$L17 -> 0.069164265 | D17: ='ITALIA GIP'!D17/'ITALIA GIP'!$L17 -> 0.095100865 | E17: ='ITALIA GIP'!E17/'ITALIA GIP'!$L17 -> 0.29682997 | F17: ='ITALIA GIP'!F17/'ITALIA GIP'!$L17 -> 0.020172911 | G17: ='ITALIA GIP'!G17/'ITALIA GIP'!$L17 -> 0.028818444 | H17: ='ITALIA GIP'!H17/'ITALIA GIP'!$L17 -> 0.22190202 | I17: ='ITALIA GIP'!I17/'ITALIA GIP'!$L17 -> 0.0086455331 | ... K17: ='ITALIA GIP'!K17/'ITALIA GIP'!$L17 -> 0.011527378 | L17: =SUM(B17:K17) -> 1 | M17: altro
A18: MISURE EMESSE NELL'ANNO, IN PROCEDIMENTI ISCRITTI IN ANNI PRECEDENTI E DEFINITI NELL'ANNO
A19: Totale misure emesse nell'anno, in procedimenti iscritti in anni precedenti e definiti nell'anno | B19: ='ITALIA GIP'!B19/'ITALIA GIP'!$L19 -> 0.00091596061 | C19: ='ITALIA GIP'!C19/'ITALIA GIP'!$L19 -> 0.14975956 | D19: ='ITALIA GIP'!D19/'ITALIA GIP'!$L19 -> 0.0066407144 | E19: ='ITALIA GIP'!E19/'ITALIA GIP'!$L19 -> 0.063430272 | F19: ='ITALIA GIP'!F19/'ITALIA GIP'!$L19 -> 0.035493474 | G19: ='ITALIA GIP'!G19/'ITALIA GIP'!$L19 -> 0.11335013 | H19: ='ITALIA GIP'!H19/'ITALIA GIP'!$L19 -> 0.37073506 | I19: ='ITALIA GIP'!I19/'ITALIA GIP'!$L19 -> 0.081978475 | ... K19: ='ITALIA GIP'!K19/'ITALIA GIP'!$L19 -> 0.0098465766 | L19: =SUM(B19:K19) -> 1
A20: Misure emesse nell'anno, in procedimenti iscritti in anni precedenti e definiti nell'anno, con condanna definitiva e senza sosp. condiz. pena | B20: ='ITALIA GIP'!B20/'ITALIA GIP'!$L20 -> 0.0014224751 | C20: ='ITALIA GIP'!C20/'ITALIA GIP'!$L20 -> 0.15647226 | D20: ='ITALIA GIP'!D20/'ITALIA GIP'!$L20 -> 0.0085348506 | E20: ='ITALIA GIP'!E20/'ITALIA GIP'!$L20 -> 0.052631579 | F20: ='ITALIA GIP'!F20/'ITALIA GIP'!$L20 -> 0.035561878 | G20: ='ITALIA GIP'!G20/'ITALIA GIP'!$L20 -> 0.11948791 | H20: ='ITALIA GIP'!H20/'ITALIA GIP'!$L20 -> 0.42105263 | I20: ='ITALIA GIP'!I20/'ITALIA GIP'!$L20 -> 0.065433855 | ... K20: ='ITALIA GIP'!K20/'ITALIA GIP'!$L20 -> 0.0056899004 | L20: =SUM(B20:K20) -> 1 | M20: condanna definitiva
A21: Misure emesse nell'anno, in procedimenti iscritti in anni precedenti e definiti nell'anno, con condanna definitiva e con sosp. condiz. pena | B21: ='ITALIA GIP'!B21/'ITALIA GIP'!$L21 -> 0 | C21: ='ITALIA GIP'!C21/'ITALIA GIP'!$L21 -> 0.171875 | D21: ='ITALIA GIP'!D21/'ITALIA GIP'!$L21 -> 0.0234375 | E21: ='ITALIA GIP'!E21/'ITALIA GIP'!$L21 -> 0.203125 | F21: ='ITALIA GIP'!F21/'ITALIA GIP'!$L21 -> 0.0234375 | G21: ='ITALIA GIP'!G21/'ITALIA GIP'!$L21 -> 0.1484375 | H21: ='ITALIA GIP'!H21/'ITALIA GIP'!$L21 -> 0.265625 | I21: ='ITALIA GIP'!I21/'ITALIA GIP'!$L21 -> 0.0234375 | ... K21: ='ITALIA GIP'!K21/'ITALIA GIP'!$L21 -> 0 | L21: =SUM(B21:K21) -> 1
A22: Misure emesse nell'anno, in procedimenti iscritti in anni precedenti e definiti nell'anno, con condanna non definitiva e senza sospens. condiz. della pena | B22: ='ITALIA GIP'!B22/'ITALIA GIP'!$L22 -> 0.00069832402 | C22: ='ITALIA GIP'!C22/'ITALIA GIP'!$L22 -> 0.14664804 | D22: ='ITALIA GIP'!D22/'ITALIA GIP'!$L22 -> 0.0045391061 | E22: ='ITALIA GIP'!E22/'ITALIA GIP'!$L22 -> 0.047835196 | F22: ='ITALIA GIP'!F22/'ITALIA GIP'!$L22 -> 0.035963687 | G22: ='ITALIA GIP'!G22/'ITALIA GIP'!$L22 -> 0.11347765 | H22: ='ITALIA GIP'!H22/'ITALIA GIP'!$L22 -> 0.375 | I22: ='ITALIA GIP'!I22/'ITALIA GIP'!$L22 -> 0.093924581 | ... K22: ='ITALIA GIP'!K22/'ITALIA GIP'!$L22 -> 0.0024441341 | L22: =SUM(B22:K22) -> 1 | M22: condanna non definitiva
A23: Misure emesse nell'anno, in procedimenti iscritti in anni precedenti e definiti nell'anno, con condanna non definitiva e con sospens. condiz. della pena | B23: ='ITALIA GIP'!B23/'ITALIA GIP'!$L23 -> 0.0064516129 | C23: ='ITALIA GIP'!C23/'ITALIA GIP'!$L23 -> 0.21290323 | D23: ='ITALIA GIP'!D23/'ITALIA GIP'!$L23 -> 0.025806452 | E23: ='ITALIA GIP'!E23/'ITALIA GIP'!$L23 -> 0.1483871 | F23: ='ITALIA GIP'!F23/'ITALIA GIP'!$L23 -> 0.04516129 | G23: ='ITALIA GIP'!G23/'ITALIA GIP'!$L23 -> 0.13548387 | H23: ='ITALIA GIP'!H23/'ITALIA GIP'!$L23 -> 0.27096774 | I23: ='ITALIA GIP'!I23/'ITALIA GIP'!$L23 -> 0.019354839 | ... K23: ='ITALIA GIP'!K23/'ITALIA GIP'!$L23 -> 0.0064516129 | L23: =SUM(B23:K23) -> 1
A24: Misure emesse nell'anno, in procedimenti iscritti in anni precedenti e definiti nell'anno, con assoluzione definitiva | B24: ='ITALIA GIP'!B24/'ITALIA GIP'!$L24 -> 0 | C24: ='ITALIA GIP'!C24/'ITALIA GIP'!$L24 -> 0.16176471 | D24: ='ITALIA GIP'!D24/'ITALIA GIP'!$L24 -> 0.044117647 | E24: ='ITALIA GIP'!E24/'ITALIA GIP'!$L24 -> 0.13235294 | F24: ='ITALIA GIP'!F24/'ITALIA GIP'!$L24 -> 0.014705882 | G24: ='ITALIA GIP'!G24/'ITALIA GIP'!$L24 -> 0.029411765 | H24: ='ITALIA GIP'!H24/'ITALIA GIP'!$L24 -> 0.22058824 | I24: ='ITALIA GIP'!I24/'ITALIA GIP'!$L24 -> 0.044117647 | ... K24: ='ITALIA GIP'!K24/'ITALIA GIP'!$L24 -> 0.19117647 | L24: =SUM(B24:K24) -> 1 | M24: assoluzione
A25: Misure emesse nell'anno, in procedimenti iscritti in anni precedenti e definiti nell'anno, con assoluzione non definitiva | B25: ='ITALIA GIP'!B25/'ITALIA GIP'!$L25 -> 0 | C25: ='ITALIA GIP'!C25/'ITALIA GIP'!$L25 -> 0.14739884 | D25: ='ITALIA GIP'!D25/'ITALIA GIP'!$L25 -> 0 | E25: ='ITALIA GIP'!E25/'ITALIA GIP'!$L25 -> 0.060693642 | F25: ='ITALIA GIP'!F25/'ITALIA GIP'!$L25 -> 0.034682081 | G25: ='ITALIA GIP'!G25/'ITALIA GIP'!$L25 -> 0.11560694 | H25: ='ITALIA GIP'!H25/'ITALIA GIP'!$L25 -> 0.34104046 | I25: ='ITALIA GIP'!I25/'ITALIA GIP'!$L25 -> 0.078034682 | ... K25: ='ITALIA GIP'!K25/'ITALIA GIP'!$L25 -> 0.034682081 | L25: =SUM(B25:K25) -> 1
A26: Misure emesse nell'anno, in procedimenti iscritti in anni precedenti e definiti nell'anno, con altro tipo di sentenza (definitiva o non definitiva) (*) | B26: ='ITALIA GIP'!B26/'ITALIA GIP'!$L26 -> 0 | C26: ='ITALIA GIP'!C26/'ITALIA GIP'!$L26 -> 0.067961165 | D26: ='ITALIA GIP'!D26/'ITALIA GIP'!$L26 -> 0 | E26: ='ITALIA GIP'!E26/'ITALIA GIP'!$L26 -> 0.23300971 | F26: ='ITALIA GIP'!F26/'ITALIA GIP'!$L26 -> 0.038834951 | G26: ='ITALIA GIP'!G26/'ITALIA GIP'!$L26 -> 0.038834951 | H26: ='ITALIA GIP'!H26/'ITALIA GIP'!$L26 -> 0.38834951 | I26: ='ITALIA GIP'!I26/'ITALIA GIP'!$L26 -> 0.067961165 | ... K26: ='ITALIA GIP'!K26/'ITALIA GIP'!$L26 -> 0.058252427 | L26: =SUM(B26:K26) -> 1 | M26: altro
A27: AVVERTENZA: tutte le righe riportano il numero delle misure cautelari emesse nell'anno, a prescindere dal numero dei procedimenti o provvedimenti che le contengono
A28: (*) le due categorie "con altro tipo di sentenza" ricomprendono le misure emesse nei procedimenti definiti ex artt. 129 - 425 - 469 - 529 - 531 c.p.p. (restano quindi esclusi i procedimenti definiti per incompetenza)

Sheet ITALIA DIB
A1: MINISTERO DELLA GIUSTIZIA
A2: DIPARTIMENTO PER GLI AFFARI DI GIUSTIZIA
A3: Direzione Generale degli Affari Interni
A5: MISURE CAUTELARI PERSONALI (L. 47/2015) - emesse nell'anno 2020 - ITALIA: UFFICI DEL DIBATTIMENTO
A7: MISURE CAUTELARI PERSONALI (Libro IV del Codice di Procedura Penale) | B7: art. 281: Divieto espatrio | C7: art. 282: Obbligo presentazione Polizia Giudiz. | D7: art. 282 bis comma 1: Allontanamento dalla casa familiare | E7: art. 282 ter: Divieto di avvicinamento (anche come prescrizione accessoria della m.c. di cui all'art. 282 bis c.1, ai sensi dell'art. 282 bis c.2) | F7: art. 283 comma 1: Divieto di dimora | G7: art. 283 comma 2: Obbligo di dimora | H7: art. 284 Arresti domiciliari: senza braccialetto | I7: art. 284 +275 bis Arresti domiciliari: con braccialetto | J7: art. 285 Custodia cautelare in carcere | K7: art. 286 Custodia in luogo di cura | L7: TOTALE
A8: Totale misure cautelari emesse nell'anno | B8: 10 | C8: 5844 | D8: 219 | E8: 727 | F8: 2536 | G8: 2359 | H8: 4757 | I8: 436 | J8: 3737 | K8: 60 | L8: =SUM(B8:K8) -> 20685
A9: MISURE EMESSE NELL'ANNO, IN PROCEDIMENTI ISCRITTI NELL'ANNO E DEFINITI NELL'ANNO
A10: Totale misure emesse nell'anno, in procedimenti iscritti e definiti nell'anno | B10: 1 | C10: 3556 | D10: 66 | E10: 226 | F10: 1813 | G10: 1260 | H10: 3417 | I10: 293 | J10: 2926 | K10: 34 | L10: =SUM(B10:K10) -> 13592
A11: Misure emesse nell'anno, in procedimenti iscritti e definiti nell'anno, con condanna definitiva e senza sosp. condiz. pena | B11: 0 | C11: 597 | D11: 4 | E11: 21 | F11: 428 | G11: 205 | H11: 727 | I11: 29 | J11: 692 | K11: 5 | L11: =SUM(B11:K11) -> 2708 | M11: condanna definitiva
A12: Misure emesse nell'anno, in procedimenti iscritti e definiti nell'anno, con condanna definitiva e con sosp. condiz. pena | B12: 0 | C12: 237 | D12: 3 | E12: 8 | F12: 136 | G12: 94 | H12: 227 | I12: 5 | J12: 111 | K12: 0 | L12: =SUM(B12:K12) -> 821
A13: Misure emesse nell'anno, in procedimenti iscritti e definiti nell'anno, con condanna non definitiva e senza sospens. condiz. della pena | B13: 0 | C13: 1998 | D13: 32 | E13: 108 | F13: 965 | G13: 664 | H13: 2042 | I13: 226 | J13: 1831 | K13: 9 | L13: =SUM(B13:K13) -> 7875 | M13: condanna non definitiva
A14: Misure emesse nell'anno, in procedimenti iscritti e definiti nell'anno, con condanna non definitiva e con sospens. condiz. della pena | B14: 0 | C14: 503 | D14: 10 | E14: 21 | F14: 208 | G14: 199 | H14: 195 | I14: 7 | J14: 94 | K14: 0 | L14: =SUM(B14:K14) -> 1237
A15: Misure emesse nell'anno, in procedimenti iscritti e definiti nell'anno, con assoluzione definitiva | B15: 0 | C15: 55 | D15: 2 | E15: 13 | F15: 17 | G15: 21 | H15: 53 | I15: 1 | J15: 46 | K15: 8 | L15: =SUM(B15:K15) -> 216 | M15: assoluzione
A16: Misure emesse nell'anno, in procedimenti iscritti e definiti nell'anno, con assoluzione non definitiva | B16: 1 | C16: 129 | D16: 5 | E16: 31 | F16: 45 | G16: 64 | H16: 135 | I16: 23 | J16: 121 | K16: 11 | L16: =SUM(B16:K16) -> 565
A17: Misure emesse nell'anno, in procedimenti iscritti e definiti nell'anno, con altro tipo di sentenza (definitiva o non definitiva) (*) | B17: 0 | C17: 37 | D17: 10 | E17: 24 | F17: 14 | G17: 13 | H17: 38 | I17: 2 | J17: 31 | K17: 1 | L17: =SUM(B17:K17) -> 170 | M17: altro
A18: MISURE EMESSE NELL'ANNO, IN PROCEDIMENTI ISCRITTI IN ANNI PRECEDENTI E DEFINITI NELL'ANNO
A19: Totale misure emesse nell'anno, in procedimenti iscritti in anni precedenti e definiti nell'anno | B19: 5 | C19: 281 | D19: 3 | E19: 134 | F19: 99 | G19: 177 | H19: 396 | I19: 61 | J19: 253 | K19: 13 | L19: =SUM(B19:K19) -> 1422
A20: Misure emesse nell'anno, in procedimenti iscritti in anni precedenti e definiti nell'anno, con condanna definitiva e senza sosp. condiz. pena | B20: 1 | C20: 40 | D20: 0 | E20: 11 | F20: 15 | G20: 16 | H20: 61 | I20: 3 | J20: 32 | K20: 0 | L20: =SUM(B20:K20) -> 179 | M20: condanna definitiva
A21: Misure emesse nell'anno, in procedimenti iscritti in anni precedenti e definiti nell'anno, con condanna definitiva e con sosp. condiz. pena | B21: 0 | C21: 9 | D21: 0 | E21: 1 | F21: 1 | G21: 2 | H21: 5 | I21: 1 | J21: 6 | K21: 0 | L21: =SUM(B21:K21) -> 25
A22: Misure emesse nell'anno, in procedimenti iscritti in anni precedenti e definiti nell'anno, con condanna non definitiva e senza sospens. condiz. della pena | B22: 3 | C22: 167 | D22: 3 | E22: 75 | F22: 65 | G22: 117 | H22: 259 | I22: 45 | J22: 171 | K22: 5 | L22: =SUM(B22:K22) -> 910 | M22: condanna non definitiva
A23: Misure emesse nell'anno, in procedimenti iscritti in anni precedenti e definiti nell'anno, con condanna non definitiva e con sospens. condiz. della pena | B23: 0 | C23: 19 | D23: 0 | E23: 10 | F23: 7 | G23: 10 | H23: 10 | I23: 1 | J23: 6 | K23: 0 | L23: =SUM(B23:K23) -> 63
A24: Misure emesse nell'anno, in procedimenti iscritti in anni precedenti e definiti nell'anno, con assoluzione definitiva | B24: 0 | C24: 4 | D24: 0 | E24: 3 | F24: 1 | G24: 6 | H24: 7 | I24: 0 | J24: 6 | K24: 4 | L24: =SUM(B24:K24) -> 31 | M24: assoluzione
A25: Misure emesse nell'anno, in procedimenti iscritti in anni precedenti e definiti nell'anno, con assoluzione non definitiva | B25: 1 | C25: 34 | D25: 0 | E25: 24 | F25: 6 | G25: 22 | H25: 44 | I25: 10 | J25: 28 | K25: 3 | L25: =SUM(B25:K25) -> 172
A26: Misure emesse nell'anno, in procedimenti iscritti in anni precedenti e definiti nell'anno, con altro tipo di sentenza (definitiva o non definitiva) (*) | B26: 0 | C26: 8 | D26: 0 | E26: 10 | F26: 4 | G26: 4 | H26: 10 | I26: 1 | J26: 4 | K26: 1 | L26: =SUM(B26:K26) -> 42 | M26: altro
A27: AVVERTENZA: tutte le righe riportano il numero delle misure cautelari emesse nell'anno, a prescindere dal numero dei procedimenti o provvedimenti che le contengono
A28: (*) la categoria "con altro tipo di sentenza" ricomprende le misure emesse nei procedimenti definiti ex artt. 129 - 425 - 469 - 529 - 531 c.p.p. (restano quindi esclusi i procedimenti definiti per incompetenza)

Sheet ITALIA DIB % TIPO MISURA
A1: MINISTERO DELLA GIUSTIZIA
A2: DIPARTIMENTO PER GLI AFFARI DI GIUSTIZIA
A3: Direzione Generale degli Affari Interni
A4: .
A5: MISURE CAUTELARI PERSONALI (L. 47/2015) - emesse nell'anno 2020 - ITALIA: UFFICI DEL DIBATTIMENTO: % PER TIPOLOGIA DI MISURA
A6: .
A7: MISURE CAUTELARI PERSONALI (Libro IV del Codice di Procedura Penale) | B7: art. 281: Divieto espatrio | C7: art. 282: Obbligo presentazione Polizia Giudiz. | D7: art. 282 bis comma 1: Allontanamento dalla casa familiare | E7: art. 282 ter: Divieto di avvicinamento (anche come prescrizione accessoria della m.c. di cui all'art. 282 bis c.1, ai sensi dell'art. 282 bis c.2) | F7: art. 283 comma 1: Divieto di dimora | G7: art. 283 comma 2: Obbligo di dimora | H7: art. 284 Arresti domiciliari: senza braccialetto | I7: art. 284 +275 bis Arresti domiciliari: con braccialetto | J7: art. 285 Custodia cautelare in carcere | K7: art. 286 Custodia in luogo di cura | L7: TOTALE
A8: Totale misure cautelari emesse nell'anno | B8: ='ITALIA DIB'!B8/'ITALIA DIB'!$L8 -> 0.00048344211 | C8: ='ITALIA DIB'!C8/'ITALIA DIB'!$L8 -> 0.28252357 | D8: ='ITALIA DIB'!D8/'ITALIA DIB'!$L8 -> 0.010587382 | E8: ='ITALIA DIB'!E8/'ITALIA DIB'!$L8 -> 0.035146241 | F8: ='ITALIA DIB'!F8/'ITALIA DIB'!$L8 -> 0.12260092 | G8: ='ITALIA DIB'!G8/'ITALIA DIB'!$L8 -> 0.11404399 | H8: ='ITALIA DIB'!H8/'ITALIA DIB'!$L8 -> 0.22997341 | I8: ='ITALIA DIB'!I8/'ITALIA DIB'!$L8 -> 0.021078076 | ... K8: ='ITALIA DIB'!K8/'ITALIA DIB'!$L8 -> 0.0029006526 | L8: =SUM(B8:K8) -> 1
A9: MISURE EMESSE NELL'ANNO, IN PROCEDIMENTI ISCRITTI NELL'ANNO E DEFINITI NELL'ANNO
A10: Totale misure emesse nell'anno, in procedimenti iscritti e definiti nell'anno | B10: ='ITALIA DIB'!B10/'ITALIA DIB'!$L10 -> 7.357269e-05 | C10: ='ITALIA DIB'!C10/'ITALIA DIB'!$L10 -> 0.26162448 | D10: ='ITALIA DIB'!D10/'ITALIA DIB'!$L10 -> 0.0048557975 | E10: ='ITALIA DIB'!E10/'ITALIA DIB'!$L10 -> 0.016627428 | F10: ='ITALIA DIB'!F10/'ITALIA DIB'!$L10 -> 0.13338729 | G10: ='ITALIA DIB'!G10/'ITALIA DIB'!$L10 -> 0.092701589 | H10: ='ITALIA DIB'!H10/'ITALIA DIB'!$L10 -> 0.25139788 | I10: ='ITALIA DIB'!I10/'ITALIA DIB'!$L10 -> 0.021556798 | ... K10: ='ITALIA DIB'!K10/'ITALIA DIB'!$L10 -> 0.0025014715 | L10: =SUM(B10:K10) -> 1
A11: Misure emesse nell'anno, in procedimenti iscritti e definiti nell'anno, con condanna definitiva e senza sosp. condiz. pena | B11: ='ITALIA DIB'!B11/'ITALIA DIB'!$L11 -> 0 | C11: ='ITALIA DIB'!C11/'ITALIA DIB'!$L11 -> 0.2204579 | D11: ='ITALIA DIB'!D11/'ITALIA DIB'!$L11 -> 0.0014771049 | E11: ='ITALIA DIB'!E11/'ITALIA DIB'!$L11 -> 0.0077548006 | F11: ='ITALIA DIB'!F11/'ITALIA DIB'!$L11 -> 0.15805022 | G11: ='ITALIA DIB'!G11/'ITALIA DIB'!$L11 -> 0.075701625 | H11: ='ITALIA DIB'!H11/'ITALIA DIB'!$L11 -> 0.26846381 | I11: ='ITALIA DIB'!I11/'ITALIA DIB'!$L11 -> 0.01070901 | ... K11: ='ITALIA DIB'!K11/'ITALIA DIB'!$L11 -> 0.0018463811 | L11: =SUM(B11:K11) -> 1 | M11: condanna definitiva
A12: Misure emesse nell'anno, in procedimenti iscritti e definiti nell'anno, con condanna definitiva e con sosp. condiz. pena | B12: ='ITALIA DIB'!B12/'ITALIA DIB'!$L12 -> 0 | C12: ='ITALIA DIB'!C12/'ITALIA DIB'!$L12 -> 0.28867235 | D12: ='ITALIA DIB'!D12/'ITALIA DIB'!$L12 -> 0.0036540804 | E12: ='ITALIA DIB'!E12/'ITALIA DIB'!$L12 -> 0.0097442144 | F12: ='ITALIA DIB'!F12/'ITALIA DIB'!$L12 -> 0.16565164 | G12: ='ITALIA DIB'!G12/'ITALIA DIB'!$L12 -> 0.11449452 | H12: ='ITALIA DIB'!H12/'ITALIA DIB'!$L12 -> 0.27649208 | I12: ='ITALIA DIB'!I12/'ITALIA DIB'!$L12 -> 0.006090134 | ... K12: ='ITALIA DIB'!K12/'ITALIA DIB'!$L12 -> 0 | L12: =SUM(B12:K12) -> 1
A13: Misure emesse nell'anno, in procedimenti iscritti e definiti nell'anno, con condanna non definitiva e senza sospens. condiz. della pena | B13: ='ITALIA DIB'!B13/'ITALIA DIB'!$L13 -> 0 | C13: ='ITALIA DIB'!C13/'ITALIA DIB'!$L13 -> 0.25371429 | D13: ='ITALIA DIB'!D13/'ITALIA DIB'!$L13 -> 0.0040634921 | E13: ='ITALIA DIB'!E13/'ITALIA DIB'!$L13 -> 0.013714286 | F13: ='ITALIA DIB'!F13/'ITALIA DIB'!$L13 -> 0.12253968 | G13: ='ITALIA DIB'!G13/'ITALIA DIB'!$L13 -> 0.08431746 | H13: ='ITALIA DIB'!H13/'ITALIA DIB'!$L13 -> 0.25930159 | I13: ='ITALIA DIB'!I13/'ITALIA DIB'!$L13 -> 0.028698413 | ... K13: ='ITALIA DIB'!K13/'ITALIA DIB'!$L13 -> 0.0011428571 | L13: =SUM(B13:K13) -> 1 | M13: condanna non definitiva
A14: Misure emesse nell'anno, in procedimenti iscritti e definiti nell'anno, con condanna non definitiva e con sospens. condiz. della pena | B14: ='ITALIA DIB'!B14/'ITALIA DIB'!$L14 -> 0 | C14: ='ITALIA DIB'!C14/'ITALIA DIB'!$L14 -> 0.40662894 | D14: ='ITALIA DIB'!D14/'ITALIA DIB'!$L14 -> 0.0080840744 | E14: ='ITALIA DIB'!E14/'ITALIA DIB'!$L14 -> 0.016976556 | F14: ='ITALIA DIB'!F14/'ITALIA DIB'!$L14 -> 0.16814875 | G14: ='ITALIA DIB'!G14/'ITALIA DIB'!$L14 -> 0.16087308 | H14: ='ITALIA DIB'!H14/'ITALIA DIB'!$L14 -> 0.15763945 | I14: ='ITALIA DIB'!I14/'ITALIA DIB'!$L14 -> 0.0056588521 | ... K14: ='ITALIA DIB'!K14/'ITALIA DIB'!$L14 -> 0 | L14: =SUM(B14:K14) -> 1
A15: Misure emesse nell'anno, in procedimenti iscritti e definiti nell'anno, con assoluzione definitiva | B15: ='ITALIA DIB'!B15/'ITALIA DIB'!$L15 -> 0 | C15: ='ITALIA DIB'!C15/'ITALIA DIB'!$L15 -> 0.25462963 | D15: ='ITALIA DIB'!D15/'ITALIA DIB'!$L15 -> 0.0092592593 | E15: ='ITALIA DIB'!E15/'ITALIA DIB'!$L15 -> 0.060185185 | F15: ='ITALIA DIB'!F15/'ITALIA DIB'!$L15 -> 0.078703704 | G15: ='ITALIA DIB'!G15/'ITALIA DIB'!$L15 -> 0.097222222 | H15: ='ITALIA DIB'!H15/'ITALIA DIB'!$L15 -> 0.24537037 | I15: ='ITALIA DIB'!I15/'ITALIA DIB'!$L15 -> 0.0046296296 | ... K15: ='ITALIA DIB'!K15/'ITALIA DIB'!$L15 -> 0.037037037 | L15: =SUM(B15:K15) -> 1 | M15: assoluzione
A16: Misure emesse nell'anno, in procedimenti iscritti e definiti nell'anno, con assoluzione non definitiva | B16: ='ITALIA DIB'!B16/'ITALIA DIB'!$L16 -> 0.0017699115 | C16: ='ITALIA DIB'!C16/'ITALIA DIB'!$L16 -> 0.22831858 | D16: ='ITALIA DIB'!D16/'ITALIA DIB'!$L16 -> 0.0088495575 | E16: ='ITALIA DIB'!E16/'ITALIA DIB'!$L16 -> 0.054867257 | F16: ='ITALIA DIB'!F16/'ITALIA DIB'!$L16 -> 0.079646018 | G16: ='ITALIA DIB'!G16/'ITALIA DIB'!$L16 -> 0.11327434 | H16: ='ITALIA DIB'!H16/'ITALIA DIB'!$L16 -> 0.23893805 | I16: ='ITALIA DIB'!I16/'ITALIA DIB'!$L16 -> 0.040707965 | ... K16: ='ITALIA DIB'!K16/'ITALIA DIB'!$L16 -> 0.019469027 | L16: =SUM(B16:K16) -> 1
A17: Misure emesse nell'anno, in procedimenti iscritti e definiti nell'anno, con altro tipo di sentenza (definitiva o non definitiva) (*) | C17: ='ITALIA DIB'!C17/'ITALIA DIB'!$L17 -> 0.21764706 | D17: ='ITALIA DIB'!D17/'ITALIA DIB'!$L17 -> 0.058823529 | E17: ='ITALIA DIB'!E17/'ITALIA DIB'!$L17 -> 0.14117647 | F17: ='ITALIA DIB'!F17/'ITALIA DIB'!$L17 -> 0.082352941 | G17: ='ITALIA DIB'!G17/'ITALIA DIB'!$L17 -> 0.076470588 | H17: ='ITALIA DIB'!H17/'ITALIA DIB'!$L17 -> 0.22352941 | I17: ='ITALIA DIB'!I17/'ITALIA DIB'!$L17 -> 0.011764706 | J17: ='ITALIA DIB'!J17/'ITALIA DIB'!$L17 -> 0.18235294 | K17: ='ITALIA DIB'!K17/'ITALIA DIB'!$L17 -> 0.0058823529 | L17: =SUM(B17:K17) -> 1 | M17: altro
A18: MISURE EMESSE NELL'ANNO, IN PROCEDIMENTI ISCRITTI IN ANNI PRECEDENTI E DEFINITI NELL'ANNO
A19: Totale misure emesse nell'anno, in procedimenti iscritti in anni precedenti e definiti nell'anno | B19: ='ITALIA DIB'!B19/'ITALIA DIB'!$L19 -> 0.0035161744 | C19: ='ITALIA DIB'!C19/'ITALIA DIB'!$L19 -> 0.197609 | D19: ='ITALIA DIB'!D19/'ITALIA DIB'!$L19 -> 0.0021097046 | E19: ='ITALIA DIB'!E19/'ITALIA DIB'!$L19 -> 0.094233474 | F19: ='ITALIA DIB'!F19/'ITALIA DIB'!$L19 -> 0.069620253 | G19: ='ITALIA DIB'!G19/'ITALIA DIB'!$L19 -> 0.12447257 | H19: ='ITALIA DIB'!H19/'ITALIA DIB'!$L19 -> 0.27848101 | I19: ='ITALIA DIB'!I19/'ITALIA DIB'!$L19 -> 0.042897328 | ... K19: ='ITALIA DIB'!K19/'ITALIA DIB'!$L19 -> 0.0091420534 | L19: =SUM(B19:K19) -> 1
A20: Misure emesse nell'anno, in procedimenti iscritti in anni precedenti e definiti nell'anno, con condanna definitiva e senza sosp. condiz. pena | B20: ='ITALIA DIB'!B20/'ITALIA DIB'!$L20 -> 0.0055865922 | C20: ='ITALIA DIB'!C20/'ITALIA DIB'!$L20 -> 0.22346369 | D20: ='ITALIA DIB'!D20/'ITALIA DIB'!$L20 -> 0 | E20: ='ITALIA DIB'!E20/'ITALIA DIB'!$L20 -> 0.061452514 | F20: ='ITALIA DIB'!F20/'ITALIA DIB'!$L20 -> 0.083798883 | G20: ='ITALIA DIB'!G20/'ITALIA DIB'!$L20 -> 0.089385475 | H20: ='ITALIA DIB'!H20/'ITALIA DIB'!$L20 -> 0.34078212 | I20: ='ITALIA DIB'!I20/'ITALIA DIB'!$L20 -> 0.016759777 | ... K20: ='ITALIA DIB'!K20/'ITALIA DIB'!$L20 -> 0 | L20: =SUM(B20:K20) -> 1 | M20: condanna definitiva
A21: Misure emesse nell'anno, in procedimenti iscritti in anni precedenti e definiti nell'anno, con condanna definitiva e con sosp. condiz. pena | B21: ='ITALIA DIB'!B21/'ITALIA DIB'!$L21 -> 0 | C21: ='ITALIA DIB'!C21/'ITALIA DIB'!$L21 -> 0.36 | D21: ='ITALIA DIB'!D21/'ITALIA DIB'!$L21 -> 0 | E21: ='ITALIA DIB'!E21/'ITALIA DIB'!$L21 -> 0.04 | F21: ='ITALIA DIB'!F21/'ITALIA DIB'!$L21 -> 0.04 | G21: ='ITALIA DIB'!G21/'ITALIA DIB'!$L21 -> 0.08 | H21: ='ITALIA DIB'!H21/'ITALIA DIB'!$L21 -> 0.2 | I21: ='ITALIA DIB'!I21/'ITALIA DIB'!$L21 -> 0.04 | ... K21: ='ITALIA DIB'!K21/'ITALIA DIB'!$L21 -> 0 | L21: =SUM(B21:K21) -> 1
A22: Misure emesse nell'anno, in procedimenti iscritti in anni precedenti e definiti nell'anno, con condanna non definitiva e senza sospens. condiz. della pena | B22: ='ITALIA DIB'!B22/'ITALIA DIB'!$L22 -> 0.0032967033 | C22: ='ITALIA DIB'!C22/'ITALIA DIB'!$L22 -> 0.18351648 | D22: ='ITALIA DIB'!D22/'ITALIA DIB'!$L22 -> 0.0032967033 | E22: ='ITALIA DIB'!E22/'ITALIA DIB'!$L22 -> 0.082417582 | F22: ='ITALIA DIB'!F22/'ITALIA DIB'!$L22 -> 0.071428571 | G22: ='ITALIA DIB'!G22/'ITALIA DIB'!$L22 -> 0.12857143 | H22: ='ITALIA DIB'!H22/'ITALIA DIB'!$L22 -> 0.28461538 | I22: ='ITALIA DIB'!I22/'ITALIA DIB'!$L22 -> 0.049450549 | ... K22: ='ITALIA DIB'!K22/'ITALIA DIB'!$L22 -> 0.0054945055 | L22: =SUM(B22:K22) -> 1 | M22: condanna non definitiva
A23: Misure emesse nell'anno, in procedimenti iscritti in anni precedenti e definiti nell'anno, con condanna non definitiva e con sospens. condiz. della pena | B23: ='ITALIA DIB'!B23/'ITALIA DIB'!$L23 -> 0 | C23: ='ITALIA DIB'!C23/'ITALIA DIB'!$L23 -> 0.3015873 | D23: ='ITALIA DIB'!D23/'ITALIA DIB'!$L23 -> 0 | E23: ='ITALIA DIB'!E23/'ITALIA DIB'!$L23 -> 0.15873016 | F23: ='ITALIA DIB'!F23/'ITALIA DIB'!$L23 -> 0.11111111 | G23: ='ITALIA DIB'!G23/'ITALIA DIB'!$L23 -> 0.15873016 | H23: ='ITALIA DIB'!H23/'ITALIA DIB'!$L23 -> 0.15873016 | I23: ='ITALIA DIB'!I23/'ITALIA DIB'!$L23 -> 0.015873016 | ... K23: ='ITALIA DIB'!K23/'ITALIA DIB'!$L23 -> 0 | L23: =SUM(B23:K23) -> 1
A24: Misure emesse nell'anno, in procedimenti iscritti in anni precedenti e definiti nell'anno, con assoluzione definitiva | B24: ='ITALIA DIB'!B24/'ITALIA DIB'!$L24 -> 0 | C24: ='ITALIA DIB'!C24/'ITALIA DIB'!$L24 -> 0.12903226 | D24: ='ITALIA DIB'!D24/'ITALIA DIB'!$L24 -> 0 | E24: ='ITALIA DIB'!E24/'ITALIA DIB'!$L24 -> 0.096774194 | F24: ='ITALIA DIB'!F24/'ITALIA DIB'!$L24 -> 0.032258065 | G24: ='ITALIA DIB'!G24/'ITALIA DIB'!$L24 -> 0.19354839 | H24: ='ITALIA DIB'!H24/'ITALIA DIB'!$L24 -> 0.22580645 | I24: ='ITALIA DIB'!I24/'ITALIA DIB'!$L24 -> 0 | ... K24: ='ITALIA DIB'!K24/'ITALIA DIB'!$L24 -> 0.12903226 | L24: =SUM(B24:K24) -> 1 | M24: assoluzione
A25: Misure emesse nell'anno, in procedimenti iscritti in anni precedenti e definiti nell'anno, con assoluzione non definitiva | B25: ='ITALIA DIB'!B25/'ITALIA DIB'!$L25 -> 0.0058139535 | C25: ='ITALIA DIB'!C25/'ITALIA DIB'!$L25 -> 0.19767442 | D25: ='ITALIA DIB'!D25/'ITALIA DIB'!$L25 -> 0 | E25: ='ITALIA DIB'!E25/'ITALIA DIB'!$L25 -> 0.13953488 | F25: ='ITALIA DIB'!F25/'ITALIA DIB'!$L25 -> 0.034883721 | G25: ='ITALIA DIB'!G25/'ITALIA DIB'!$L25 -> 0.12790698 | H25: ='ITALIA DIB'!H25/'ITALIA DIB'!$L25 -> 0.25581395 | I25: ='ITALIA DIB'!I25/'ITALIA DIB'!$L25 -> 0.058139535 | ... K25: ='ITALIA DIB'!K25/'ITALIA DIB'!$L25 -> 0.01744186 | L25: =SUM(B25:K25) -> 1
A26: Misure emesse nell'anno, in procedimenti iscritti in anni precedenti e definiti nell'anno, con altro tipo di sentenza (definitiva o non definitiva) (*) | C26: ='ITALIA DIB'!C26/'ITALIA DIB'!$L26 -> 0.19047619 | D26: ='ITALIA DIB'!D26/'ITALIA DIB'!$L26 -> 0 | E26: ='ITALIA DIB'!E26/'ITALIA DIB'!$L26 -> 0.23809524 | F26: ='ITALIA DIB'!F26/'ITALIA DIB'!$L26 -> 0.095238095 | G26: ='ITALIA DIB'!G26/'ITALIA DIB'!$L26 -> 0.095238095 | H26: ='ITALIA DIB'!H26/'ITALIA DIB'!$L26 -> 0.23809524 | I26: ='ITALIA DIB'!I26/'ITALIA DIB'!$L26 -> 0.023809524 | J26: ='ITALIA DIB'!J26/'ITALIA DIB'!$L26 -> 0.095238095 | K26: ='ITALIA DIB'!K26/'ITALIA DIB'!$L26 -> 0.023809524 | L26: =SUM(B26:K26) -> 1 | M26: altro
A27: AVVERTENZA: tutte le righe riportano il numero delle misure cautelari emesse nell'anno, a prescindere dal numero dei procedimenti o provvedimenti che le contengono
A28: (*) le due categorie "con altro tipo di sentenza" ricomprendono le misure emesse nei procedimenti definiti ex artt. 129 - 425 - 469 - 529 - 531 c.p.p. (restano quindi esclusi i procedimenti definiti per incompetenza)
