Workbook
Name ELPROCED: #REF!
Name prova: [1]Foglio1!#REF!

Sheet PRESENT.
A10: RELAZIONE AL PARLAMENTO
A12: SULL' ATTUAZIONE E SUGLI EFFETTI DELLA LEGGE 194/78:
A14: “Norme per la tutela sociale della maternità e sull’interruzione
A15: volontaria della gravidanza”
A18: TABELLE RELATIVE ALLA: GIURISDIZIONE VOLONTARIA
A20: ANNI 1989 - 2018
A23: AVVERTENZE:
A24: 1) I DATI SONO AGGIORNATI AL MARZO 2019
A25: 2) I DATI NON PERVENUTI SONO STATI STIMATI

Sheet RICH.
A1: MINISTERO DELLA GIUSTIZIA
A2: DIPARTIMENTO PER GLI AFFARI DI GIUSTIZIA
A3: DIREZIONE GENERALE DELLA GIUSTIZIA PENALE - UFFICIO I: Affari Legislativi e Internazionali
A5: RICHIESTE DI AUTORIZZAZIONE EX ART. 12 DELLA L. 194/78
A6: (art. 12: richieste di autorizzazione ad abortire da parte di donne minorenni)
A7: Numero di richieste ex art. 12 della L.194/78 per area geografica
A9: DISTRETTI DI | F9: ANNI 1989 - 2018
A10: CORTE D'APP. | B10: 1989 | C10: 1993 | D10: 1997 | E10: 2001 | F10: 2003 | G10: 2005 | H10: 2007 | I10: 2009 | J10: 2011 | K10: 2013 | L10: 2015 | M10: 2017 | N10: 2018
A11: NORD
A12: TORINO | B12: 128 | C12: 127 | D12: 85 | E12: 106 | F12: 104 | G12: 102 | H12: 111 | I12: 98 | J12: 79 | K12: 65 | L12: 40 | M12: 37 | N12: 24
A13: MILANO | B13: 241 | C13: 194 | D13: 157 | E13: 213 | F13: 187 | G13: 207 | H13: 223 | I13: 166 | J13: 180 | K13: 161 | L13: 134 | M13: 90 | N13: 78
A14: BRESCIA | B14: 35 | C14: 35 | D14: 29 | E14: 38 | F14: 30 | G14: 45 | H14: 63 | I14: 43 | J14: 46 | K14: 49 | L14: 34 | M14: 31 | N14: 20
A15: TRENTO | B15: 15 | C15: 9 | D15: 15 | E15: 6 | F15: 11 | G15: 7 | H15: 5 | I15: 4 | J15: 7 | K15: 5 | L15: 1 | M15: 3 | N15: 3
A16: VENEZIA | B16: 29 | C16: 36 | D16: 31 | E16: 40 | F16: 32 | G16: 45 | H16: 53 | I16: 50 | J16: 33 | K16: 35 | L16: 33 | M16: 30 | N16: 25
A17: TRIESTE | B17: 16 | C17: 19 | D17: 12 | E17: 15 | F17: 17 | G17: 11 | H17: 18 | I17: 18 | J17: 16 | K17: 12 | L17: 7 | M17: 10 | N17: 9
A18: GENOVA | B18: 46 | C18: 46 | D18: 48 | E18: 49 | F18: 62 | G18: 72 | H18: 95 | I18: 66 | J18: 69 | K18: 63 | L18: 35 | M18: 36 | N18: 32
A19: BOLZANO | B19: * | C19: * | D19: * | E19: 1 | F19: 7 | G19: 2 | H19: 5 | I19: 7 | J19: 1 | K19: 2 | L19: 1 | M19: 2 | N19: 2
A20: BOLOGNA | B20: 60 | C20: 48 | D20: 39 | E20: 34 | F20: 56 | G20: 81 | H20: 75 | I20: 72 | J20: 80 | K20: 63 | L20: 39 | M20: 30 | N20: 22
A21: TOTALE | B21: =SUM(B12:B20) -> 570 | C21: =SUM(C12:C20) -> 514 | D21: =SUM(D12:D20) -> 416 | E21: =SUM(E12:E20) -> 502 | F21: =SUM(F12:F20) -> 506 | G21: =SUM(G12:G20) -> 572 | H21: =SUM(H12:H20) -> 648 | I21: =SUM(I12:I20) -> 524 | ... K21: =SUM(K12:K20) -> 455 | L21: 324 | M21: =SUM(M12:M20) -> 269 | N21: =SUM(N12:N20) -> 215
A22: CENTRO
A23: FIRENZE | B23: 73 | C23: 57 | D23: 42 | E23: 49 | F23: 42 | G23: 56 | H23: 67 | I23: 54 | J23: 55 | K23: 55 | L23: 44 | M23: 36 | N23: 26
A24: PERUGIA | B24: 27 | C24: 25 | D24: 15 | E24: 17 | F24: 14 | G24: 24 | H24: 16 | I24: 24 | J24: 15 | K24: 12 | L24: 5 | M24: 7 | N24: 14
A25: ANCONA | B25: 12 | C25: 13 | D25: 7 | E25: 9 | F25: 9 | G25: 19 | H25: 19 | I25: 8 | J25: 11 | K25: 6 | L25: 9 | M25: 6 | N25: 8
A26: R O M A | B26: 332 | C26: 270 | D26: 242 | E26: 222 | F26: 245 | G26: 227 | H26: 260 | I26: 231 | J26: 210 | K26: 190 | L26: 179 | M26: 85 | N26: 85
A27: TOTALE | B27: =SUM(B23:B26) -> 444 | C27: =SUM(C23:C26) -> 365 | D27: =SUM(D23:D26) -> 306 | E27: =SUM(E23:E26) -> 297 | F27: =SUM(F23:F26) -> 310 | G27: =SUM(G23:G26) -> 326 | H27: =SUM(H23:H26) -> 362 | I27: =SUM(I23:I26) -> 317 | ... K27: =SUM(K23:K26) -> 263 | L27: 237 | M27: =SUM(M23:M26) -> 134 | N27: =SUM(N23:N26) -> 133
A28: SUD
A29: L'AQUILA | B29: 33 | C29: 21 | D29: 29 | E29: 37 | F29: 26 | G29: 25 | H29: 23 | I29: 10 | J29: 15 | K29: 25 | L29: 13 | M29: 7 | N29: 9
A30: CAMPOBASSO | B30: 10 | C30: 19 | D30: 20 | E30: 20 | F30: 12 | G30: 9 | H30: 13 | I30: 9 | J30: 9 | K30: 4 | L30: 4 | M30: 3 | N30: 4
A31: NAPOLI | B31: 27 | C31: 76 | D31: 87 | E31: 132 | F31: 128 | G31: 107 | H31: 130 | I31: 102 | J31: 68 | K31: 77 | L31: 50 | M31: 45 | N31: 51
A32: SALERNO | B32: 10 | C32: 33 | D32: 25 | E32: 28 | F32: 39 | G32: 37 | H32: 34 | I32: 36 | J32: 21 | K32: 20 | L32: 15 | M32: 8 | N32: 4
A33: BARI | B33: 124 | C33: 134 | D33: 124 | E33: 91 | F33: 96 | G33: 80 | H33: 63 | I33: 42 | J33: 56 | K33: 63 | L33: 40 | M33: 62 | N33: 35
A34: LECCE | B34: 51 | C34: 42 | D34: 67 | E34: 14 | F34: 29 | G34: 18 | H34: 20 | I34: 22 | J34: 14 | K34: 15 | L34: 10 | M34: 7 | N34: 5
A35: TARANTO | B35: * | C35: * | D35: * | E35: 21 | F35: 21 | G35: 17 | H35: 11 | I35: 6 | J35: 7 | K35: 2 | L35: 7 | M35: 2 | N35: 2
A36: POTENZA | B36: 3 | C36: 6 | D36: 12 | E36: 4 | F36: 3 | G36: 3 | H36: 5 | I36: 3 | J36: 4 | K36: 3 | L36: 1 | M36: 2 | N36: 4
A37: CATANZARO | B37: 14 | C37: 19 | D37: 28 | E37: 27 | F37: 26 | G37: 24 | H37: 17 | I37: 23 | J37: 26 | K37: 32 | L37: 9 | M37: 12 | N37: 18
A38: REGGIO CALABRIA | B38: 0 | C38: 2 | D38: 3 | E38: 6 | F38: 0 | G38: 0 | H38: 4 | I38: 1 | J38: 2 | K38: 0 | L38: 2 | M38: 2 | N38: 0
A39: TOTALE | B39: =SUM(B29:B38) -> 272 | C39: =SUM(C29:C38) -> 352 | D39: =SUM(D29:D38) -> 395 | E39: =SUM(E29:E38) -> 380 | F39: =SUM(F29:F38) -> 380 | G39: =SUM(G29:G38) -> 320 | H39: =SUM(H29:H38) -> 320 | I39: =SUM(I29:I38) -> 254 | ... K39: =SUM(K29:K38) -> 241 | L39: 151 | M39: =SUM(M29:M38) -> 150 | N39: =SUM(N29:N38) -> 132
A40: ISOLE
A41: PALERMO | B41: 21 | C41: 22 | D41: 49 | E41: 44 | F41: 44 | G41: 45 | H41: 36 | I41: 28 | J41: 28 | K41: 22 | L41: 18 | M41: 17 | N41: 16
A42: MESSINA | B42: 5 | C42: 17 | D42: 5 | E42: 10 | F42: 6 | G42: 5 | H42: 15 | I42: 16 | J42: 7 | K42: 7 | L42: 7 | M42: 4 | N42: 3
...

Sheet RICH. 2
A1: MINISTERO DELLA GIUSTIZIA
A2: DIPARTIMENTO PER GLI AFFARI DI GIUSTIZIA
A3: DIREZIONE GENERALE DELLA GIUSTIZIA PENALE - UFFICIO I: Affari Legislativi e Internazionali
A5: RICHIESTE DI AUTORIZZAZIONE EX ART. 12 DELLA L. 194/78
A6: (art. 12: richieste di autorizzazione ad abortire da parte di donne minorenni)
A7: Distribuzione percentuale delle richieste ex art. 12 della L.194/78 per area geografica
A9: AREA | F9: ANNI 1989 - 2018
A10: GEOGRAFICA | B10: 1989 | C10: 1993 | D10: 1997 | E10: 2001 | F10: 2003 | G10: 2005 | H10: 2007 | I10: 2009 | J10: 2011 | K10: 2013 | L10: 2015 | M10: 2017 | N10: 2018
A11: NORD | B11: 0.41007194 | C11: 0.38130564 | D11: 0.32937451 | E11: 0.38467433 | F11: =RICH.!F49/RICH.!F$53 -> 0.37733035 | G11: =RICH.!G49/RICH.!G$53 -> 0.43531202 | H11: =RICH.!H49/RICH.!H$53 -> 0.45156794 | I11: =RICH.!I49/RICH.!I$53 -> 0.44182125 | J11: =RICH.!J49/RICH.!J$53 -> 0.46077547 | K11: =RICH.!K49/RICH.!K$53 -> 0.43666027 | L11: =RICH.!L49/RICH.!L$53 -> 0.41538462 | M11: =RICH.!M49/RICH.!M$53 -> 0.43739837 | N11: =RICH.!N49/RICH.!N$53 -> 0.41187739
A12: CENTRO | B12: 0.31942446 | C12: 0.27077151 | D12: 0.24228029 | E12: 0.22758621 | F12: =RICH.!F50/RICH.!F$53 -> 0.23117077 | G12: =RICH.!G50/RICH.!G$53 -> 0.24809741 | H12: =RICH.!H50/RICH.!H$53 -> 0.25226481 | I12: =RICH.!I50/RICH.!I$53 -> 0.26728499 | J12: =RICH.!J50/RICH.!J$53 -> 0.26239856 | K12: =RICH.!K50/RICH.!K$53 -> 0.25239923 | L12: =RICH.!L50/RICH.!L$53 -> 0.30384615 | M12: =RICH.!M50/RICH.!M$53 -> 0.21788618 | N12: =RICH.!N50/RICH.!N$53 -> 0.25478927
A13: SUD | B13: 0.19568345 | C13: 0.2611276 | D13: 0.31274743 | E13: 0.29118774 | F13: =RICH.!F51/RICH.!F$53 -> 0.28337062 | G13: =RICH.!G51/RICH.!G$53 -> 0.2435312 | H13: =RICH.!H51/RICH.!H$53 -> 0.22299652 | I13: =RICH.!I51/RICH.!I$53 -> 0.21416526 | J13: =RICH.!J51/RICH.!J$53 -> 0.20018034 | K13: =RICH.!K51/RICH.!K$53 -> 0.23128599 | L13: =RICH.!L51/RICH.!L$53 -> 0.19358974 | M13: =RICH.!M51/RICH.!M$53 -> 0.24390244 | N13: =RICH.!N51/RICH.!N$53 -> 0.25287356
A14: ISOLE | B14: 0.074820144 | C14: 0.086795252 | D14: 0.11559778 | E14: 0.096551724 | F14: =RICH.!F52/RICH.!F$53 -> 0.10812826 | G14: =RICH.!G52/RICH.!G$53 -> 0.073059361 | H14: =RICH.!H52/RICH.!H$53 -> 0.073170732 | I14: =RICH.!I52/RICH.!I$53 -> 0.076728499 | J14: =RICH.!J52/RICH.!J$53 -> 0.076645627 | K14: =RICH.!K52/RICH.!K$53 -> 0.079654511 | L14: =RICH.!L52/RICH.!L$53 -> 0.087179487 | M14: =RICH.!M52/RICH.!M$53 -> 0.10081301 | N14: =RICH.!N52/RICH.!N$53 -> 0.08045977
A15: TOT. NAZ. | B15: 1 | C15: 1 | D15: 1 | E15: 1 | F15: =SUM(F11:F14) -> 1 | G15: =SUM(G11:G14) -> 1 | H15: =SUM(H11:H14) -> 1 | I15: =SUM(I11:I14) -> 1 | J15: =SUM(J11:J14) -> 1 | K15: =SUM(K11:K14) -> 1 | L15: =SUM(L11:L14) -> 1 | M15: =SUM(M11:M14) -> 1 | N15: =SUM(N11:N14) -> 1
A16: n° rich. tot. | B16: =RICH.!B53 -> 1390 | C16: =RICH.!C53 -> 1348 | D16: =RICH.!D53 -> 1263 | E16: =RICH.!E53 -> 1305 | F16: =RICH.!F53 -> 1341 | G16: =RICH.!G53 -> 1314 | H16: =RICH.!H53 -> 1435 | I16: =RICH.!I53 -> 1186 | ... N16: =RICH.!N53 -> 522
A21: RICHIESTE DI AUTORIZZAZIONE EX ART. 13 DELLA L. 194/78
A22: (art. 13: richieste di autorizzazione ad abortire da parte di donne interdette)
A23: Numero di richieste ex art. 13 della L.194/78
A25: AREA | F25: ANNI 1989 - 2017 (*)
A26: GEOGRAFICA | B26: 1989 | C26: 1993 | D26: 1997 | E26: 2001 | F26: 2003 | G26: 2005 | H26: 2007 | I26: 2009 | J26: 2011 | K26: 2013 | L26: 2015 | M26: 2017
A27: n° rich. tot. | B27: 0 | C27: 0 | D27: 0 | E27: 1 | F27: 0 | G27: 1 | H27: 0 | I27: 1 | J27: 0 | K27: 0 | L27: 1 | M27: 2
B29: NOTA (*): PER L'ANNO 2018 QUESTA VARIABILE NON E' STATA RILEVATA
